{"text_format":"1","workbook":"xlsx","n_sheets":8,"sheets":["Summary","Plot","AI-10","RA-10","LDB-10","LDP-10","Reference","Test"],"not_rendered":{"charts":4,"images":0,"macros":1,"external_links":0,"defined_names":1,"comments":0,"pivot_tables":0},"unopened":[],"bounds":{"document_bytes":16777216,"sheet_cells":100000,"rows_first":2000,"rows_last":500,"rows_between":2000,"halvings":0,"cell_chars":16384,"cell_head_chars":4096},"cells_cut":0,"cells_raw":0,"read":"whole","date_system":"1900"}

{"sheet":"Summary","index":0,"n_rows":48,"n_cols":10,"rows_kept":48,"cut":false,"hidden":false,"merged":[]}
[]
[null,null,null,null,"All Intra Main10 "]
[null,null,null,null,{"$f":"CONCATENATE(\"Over \", $J$3)","v":"Over VTM 3.0 Windows OS"},null,null,null,"Reference:","VTM 3.0 Windows OS"]
[null,null,"Y","U","V","EncT","DecT",null,"Tested:","VTM 3.0 Linux OS"]
[null,"Class A1",{"$f":"'AI-10'!V107","v":{"$error":"#VALUE!"}},{"$f":"'AI-10'!W107","v":{"$error":"#VALUE!"}},{"$f":"'AI-10'!X107","v":{"$error":"#VALUE!"}},{"$f":"'AI-10'!S107","v":{"$error":"#DIV/0!"}},{"$f":"'AI-10'!T107","v":{"$error":"#DIV/0!"}}]
[null,"Class A2",{"$f":"'AI-10'!V108","v":{"$error":"#VALUE!"}},{"$f":"'AI-10'!W108","v":{"$error":"#VALUE!"}},{"$f":"'AI-10'!X108","v":{"$error":"#VALUE!"}},{"$f":"'AI-10'!S108","v":{"$error":"#DIV/0!"}},{"$f":"'AI-10'!T108","v":{"$error":"#DIV/0!"}}]
[null,"Class B",{"$f":"'AI-10'!V109","v":{"$error":"#VALUE!"}},{"$f":"'AI-10'!W109","v":{"$error":"#VALUE!"}},{"$f":"'AI-10'!X109","v":{"$error":"#VALUE!"}},{"$f":"'AI-10'!S109","v":{"$error":"#DIV/0!"}},{"$f":"'AI-10'!T109","v":{"$error":"#DIV/0!"}}]
[null,"Class C",{"$f":"'AI-10'!V110","v":{"$error":"#VALUE!"}},{"$f":"'AI-10'!W110","v":{"$error":"#VALUE!"}},{"$f":"'AI-10'!X110","v":{"$error":"#VALUE!"}},{"$f":"'AI-10'!S110","v":{"$error":"#DIV/0!"}},{"$f":"'AI-10'!T110","v":{"$error":"#DIV/0!"}}]
[null,"Class E",{"$f":"'AI-10'!V112","v":{"$error":"#VALUE!"}},{"$f":"'AI-10'!W112","v":{"$error":"#VALUE!"}},{"$f":"'AI-10'!X112","v":{"$error":"#VALUE!"}},{"$f":"'AI-10'!S112","v":{"$error":"#DIV/0!"}},{"$f":"'AI-10'!T112","v":{"$error":"#DIV/0!"}}]
[null,"Overall ",{"$f":"'AI-10'!V114","v":{"$error":"#VALUE!"}},{"$f":"'AI-10'!W114","v":{"$error":"#VALUE!"}},{"$f":"'AI-10'!X114","v":{"$error":"#VALUE!"}},{"$f":"'AI-10'!S114","v":{"$error":"#DIV/0!"}},{"$f":"'AI-10'!T114","v":{"$error":"#DIV/0!"}},null,"Note: BD-rate is computed using piece-wise cubic interpolation"]
[null,"Class D",{"$f":"'AI-10'!V111","v":{"$error":"#VALUE!"}},{"$f":"'AI-10'!W111","v":{"$error":"#VALUE!"}},{"$f":"'AI-10'!X111","v":{"$error":"#VALUE!"}},{"$f":"'AI-10'!S111","v":{"$error":"#DIV/0!"}},{"$f":"'AI-10'!T111","v":{"$error":"#DIV/0!"}}]
[null,"Class F",{"$f":"'AI-10'!V113","v":{"$error":"#VALUE!"}},{"$f":"'AI-10'!W113","v":{"$error":"#VALUE!"}},{"$f":"'AI-10'!X113","v":{"$error":"#VALUE!"}},{"$f":"'AI-10'!S113","v":{"$error":"#DIV/0!"}},{"$f":"'AI-10'!T113","v":{"$error":"#DIV/0!"}}]
[null,null,null,null,null,null,null,null,"Cluster information"]
[null,null,null,null,"Random access Main10 "]
[null,null,null,null,{"$f":"CONCATENATE(\"Over \", $J$3)","v":"Over VTM 3.0 Windows OS"},null,null,null,"CPU type:","Intel Xeon E5-2697A v4"]
[null,null,"Y","U","V","EncT","DecT"]
[null,{"$f":"B5","v":"Class A1"},{"$f":"'RA-10'!V107","v":6.8812667287273159E-6},{"$f":"'RA-10'!W107","v":-2.7612343681907941E-7},{"$f":"'RA-10'!X107","v":6.1497948921814443E-6},{"$f":"'RA-10'!S107","v":0.83189773340574702},{"$f":"'RA-10'!T107","v":0.80642238999734039},null,"Hyperthreading:","off"]
[null,{"$f":"B6","v":"Class A2"},{"$f":"'RA-10'!V108","v":7.9739995279733602E-6},{"$f":"'RA-10'!W108","v":7.1175683057367323E-6},{"$f":"'RA-10'!X108","v":8.984318681607798E-7},{"$f":"'RA-10'!S108","v":0.86110061759450152},{"$f":"'RA-10'!T108","v":0.76759589593426569},null,"Turbo mode:","off"]
[null,{"$f":"B7","v":"Class B"},{"$f":"'RA-10'!V109","v":2.4569340272062589E-6},{"$f":"'RA-10'!W109","v":2.7269865056744889E-6},{"$f":"'RA-10'!X109","v":1.4635426175413357E-5},{"$f":"'RA-10'!S109","v":0.80039418440374066},{"$f":"'RA-10'!T109","v":0.80660255355085153}]
[null,{"$f":"B8","v":"Class C"},{"$f":"'RA-10'!V110","v":-2.8890309977380735E-6},{"$f":"'RA-10'!W110","v":-1.4052597982205928E-6},{"$f":"'RA-10'!X110","v":4.8552109180310943E-7},{"$f":"'RA-10'!S110","v":0.78375287711806674},{"$f":"'RA-10'!T110","v":0.90802029093760617},null,"Compiler:","gcc 7.2.1"]
[null,{"$f":"B9","v":"Class E"}]
[null,"Overall",{"$f":"'RA-10'!V114","v":3.0196229943454019E-6},{"$f":"'RA-10'!W114","v":1.9025485294828689E-6},{"$f":"'RA-10'!X114","v":6.4175930350203936E-6},{"$f":"'RA-10'!S114","v":0.81390524899583483},{"$f":"'RA-10'!T114","v":0.82423500715008258},null,"OS:","Scientific Linux 7.4"]
[null,{"$f":"B11","v":"Class D"},{"$f":"'RA-10'!V111","v":-3.8825770493355893E-6},{"$f":"'RA-10'!W111","v":4.5865544379963818E-6},{"$f":"'RA-10'!X111","v":-5.5485474944050317E-6},{"$f":"'RA-10'!S111","v":0.78395152028100124},{"$f":"'RA-10'!T111","v":0.87428953973883305}]
[null,{"$f":"B12","v":"Class F"},{"$f":"'RA-10'!V113","v":3.7912036549014871E-7},{"$f":"'RA-10'!W113","v":-4.4081028248432741E-6},{"$f":"'RA-10'!X113","v":-1.4411253075052866E-6},{"$f":"'RA-10'!S113","v":0.8275965568717546},{"$f":"'RA-10'!T113","v":0.68427845213326111},null,"Decoding options"]
[]
[null,null,null,null,"Low delay B Main10 ",null,null,null,"Bitstream concatenation:","yes"]
[null,null,null,null,{"$f":"CONCATENATE(\"Over \", $J$3)","v":"Over VTM 3.0 Windows OS"}]
[null,null,"Y","U","V","EncT","DecT",null,"MD5 SEI:","no"]
[null,{"$f":"B5","v":"Class A1"},null,null,null,null,null,null,"YUV output:","yes"]
[null,{"$f":"B6","v":"Class A2"}]
[null,{"$f":"B7","v":"Class B"},{"$f":"'LDB-10'!V109","v":0},{"$f":"'LDB-10'!W109","v":0},{"$f":"'LDB-10'!X109","v":0},{"$f":"'LDB-10'!S109","v":0.88064477357502224},{"$f":"'LDB-10'!T109","v":0.84788603966506804},null,"SIMD options:","SSE2"]
[null,{"$f":"B8","v":"Class C"},{"$f":"'LDB-10'!V110","v":0},{"$f":"'LDB-10'!W110","v":0},{"$f":"'LDB-10'!X110","v":0},{"$f":"'LDB-10'!S110","v":0.81923003761164981},{"$f":"'LDB-10'!T110","v":0.92317910169529904}]
[null,{"$f":"B9","v":"Class E"},{"$f":"'LDB-10'!V112","v":0},{"$f":"'LDB-10'!W112","v":0},{"$f":"'LDB-10'!X112","v":0},{"$f":"'LDB-10'!S112","v":0.75382213286794442},{"$f":"'LDB-10'!T112","v":0.69328382571914249}]
[null,"Overall",{"$f":"'LDB-10'!V114","v":0},{"$f":"'LDB-10'!W114","v":0},{"$f":"'LDB-10'!X114","v":0},{"$f":"'LDB-10'!S114","v":0.82689968758654964},{"$f":"'LDB-10'!T114","v":0.82946304285454664}]
[null,{"$f":"B11","v":"Class D"},{"$f":"'LDB-10'!V111","v":0},{"$f":"'LDB-10'!W111","v":0},{"$f":"'LDB-10'!X111","v":0},{"$f":"'LDB-10'!S111","v":0.7516901581079084},{"$f":"'LDB-10'!T111","v":0.92820858832542419}]
[null,{"$f":"B12","v":"Class F"},{"$f":"'LDB-10'!V113","v":0},{"$f":"'LDB-10'!W113","v":0},{"$f":"'LDB-10'!X113","v":0},{"$f":"'LDB-10'!S113","v":0.81274597582134189},{"$f":"'LDB-10'!T113","v":0.72710786113455395}]
[]
[null,null,null,null,"Low delay P Main10 "]
[null,null,null,null,{"$f":"CONCATENATE(\"Over \", $J$3)","v":"Over VTM 3.0 Windows OS"}]
[null,null,"Y","U","V","EncT","DecT"]
[null,{"$f":"B5","v":"Class A1"}]
[null,{"$f":"B6","v":"Class A2"}]
[null,{"$f":"B7","v":"Class B"},{"$f":"'LDP-10'!V109","v":{"$error":"#VALUE!"}},{"$f":"'LDP-10'!W109","v":{"$error":"#VALUE!"}},{"$f":"'LDP-10'!X109","v":{"$error":"#VALUE!"}},{"$f":"'LDP-10'!S109","v":{"$error":"#DIV/0!"}},{"$f":"'LDP-10'!T109","v":{"$error":"#DIV/0!"}}]
[null,{"$f":"B8","v":"Class C"},{"$f":"'LDP-10'!V110","v":{"$error":"#VALUE!"}},{"$f":"'LDP-10'!W110","v":{"$error":"#VALUE!"}},{"$f":"'LDP-10'!X110","v":{"$error":"#VALUE!"}},{"$f":"'LDP-10'!S110","v":{"$error":"#DIV/0!"}},{"$f":"'LDP-10'!T110","v":{"$error":"#DIV/0!"}}]
[null,{"$f":"B9","v":"Class E"},{"$f":"'LDP-10'!V112","v":{"$error":"#VALUE!"}},{"$f":"'LDP-10'!W112","v":{"$error":"#VALUE!"}},{"$f":"'LDP-10'!X112","v":{"$error":"#VALUE!"}},{"$f":"'LDP-10'!S112","v":{"$error":"#DIV/0!"}},{"$f":"'LDP-10'!T112","v":{"$error":"#DIV/0!"}}]
[null,"Overall",{"$f":"'LDP-10'!V114","v":{"$error":"#VALUE!"}},{"$f":"'LDP-10'!W114","v":{"$error":"#VALUE!"}},{"$f":"'LDP-10'!X114","v":{"$error":"#VALUE!"}},{"$f":"'LDP-10'!S114","v":{"$error":"#DIV/0!"}},{"$f":"'LDP-10'!T114","v":{"$error":"#DIV/0!"}}]
[null,{"$f":"B11","v":"Class D"},{"$f":"'LDP-10'!V111","v":{"$error":"#VALUE!"}},{"$f":"'LDP-10'!W111","v":{"$error":"#VALUE!"}},{"$f":"'LDP-10'!X111","v":{"$error":"#VALUE!"}},{"$f":"'LDP-10'!S111","v":{"$error":"#DIV/0!"}},{"$f":"'LDP-10'!T111","v":{"$error":"#DIV/0!"}}]
[null,{"$f":"B12","v":"Class F"},{"$f":"'LDP-10'!V113","v":{"$error":"#VALUE!"}},{"$f":"'LDP-10'!W113","v":{"$error":"#VALUE!"}},{"$f":"'LDP-10'!X113","v":{"$error":"#VALUE!"}},{"$f":"'LDP-10'!S113","v":{"$error":"#DIV/0!"}},{"$f":"'LDP-10'!T113","v":{"$error":"#DIV/0!"}}]

{"sheet":"Plot","index":1,"n_rows":28,"n_cols":38,"rows_kept":28,"cut":false,"hidden":false,"merged":[]}
["Select the coding condition and sequence from the dropbox below",null,null,null,null,null,null,null,null,null,null,null,null,null,null,null,null,null,null,null,null,null,null,null,null,null,null,null,null,"Line 1 - Reference",null,null,null,null,"Line 2 - Test"]
["RA-10","Tango2",null,null,null,null,null,null,null,null,null,null,null,null,null,null,null,null,null,null,null,null,null,null,null,null,null,null,null,"kbps","Y psnr","U psnr","V psnr",null,"kbps","Y psnr","U psnr","V psnr"]
[null,null,null,null,null,null,null,null,null,null,null,null,null,null,null,null,null,null,null,null,null,null,null,null,null,"AI-10","Tango2",3,{"$f":"VLOOKUP(B2,AA3:AB43,2,FALSE)","v":3},{"$f":"INDIRECT(\"'\"&$A$2&\"'!\"&ADDRESS($AC3,4))","v":27806.187755102001},{"$f":"INDIRECT(\"'\"&$A$2&\"'!\"&ADDRESS($AC3,5))","v":40.341556462584997},{"$f":"INDIRECT(\"'\"&$A$2&\"'!\"&ADDRESS($AC3,6))","v":49.155235714285702},{"$f":"INDIRECT(\"'\"&$A$2&\"'!\"&ADDRESS($AC3,7))","v":47.471935034013597},null,{"$f":"INDIRECT(\"'\"&$A$2&\"'!\"&ADDRESS($AC3,12))","v":27806.1878},{"$f":"INDIRECT(\"'\"&$A$2&\"'!\"&ADDRESS($AC3,13))","v":40.341500000000003},{"$f":"INDIRECT(\"'\"&$A$2&\"'!\"&ADDRESS($AC3,14))","v":49.155200000000001},{"$f":"INDIRECT(\"'\"&$A$2&\"'!\"&ADDRESS($AC3,15))","v":47.471899999999998}]
[null,null,null,null,null,null,null,null,null,null,null,null,null,null,null,null,null,null,null,null,null,null,null,null,null,"RA-10","FoodMarket4",{"$f":"AB3+4","v":7},{"$f":"AC3+1","v":4},{"$f":"INDIRECT(\"'\"&$A$2&\"'!\"&ADDRESS($AC4,4))","v":7407.6293877550997},{"$f":"INDIRECT(\"'\"&$A$2&\"'!\"&ADDRESS($AC4,5))","v":39.603771428571399},{"$f":"INDIRECT(\"'\"&$A$2&\"'!\"&ADDRESS($AC4,6))","v":48.389489795918401},{"$f":"INDIRECT(\"'\"&$A$2&\"'!\"&ADDRESS($AC4,7))","v":46.276269727891197},null,{"$f":"INDIRECT(\"'\"&$A$2&\"'!\"&ADDRESS($AC4,12))","v":7407.6293999999998},{"$f":"INDIRECT(\"'\"&$A$2&\"'!\"&ADDRESS($AC4,13))","v":39.6038},{"$f":"INDIRECT(\"'\"&$A$2&\"'!\"&ADDRESS($AC4,14))","v":48.389499999999998},{"$f":"INDIRECT(\"'\"&$A$2&\"'!\"&ADDRESS($AC4,15))","v":46.276299999999999}]
[null,null,null,null,null,null,null,null,null,null,null,null,null,null,null,null,null,null,null,null,null,null,null,null,null,"LDB-10","Campfire",11,{"$f":"AC4+1","v":5},{"$f":"INDIRECT(\"'\"&$A$2&\"'!\"&ADDRESS($AC5,4))","v":3684.0228571428602},{"$f":"INDIRECT(\"'\"&$A$2&\"'!\"&ADDRESS($AC5,5))","v":38.6865074829932},{"$f":"INDIRECT(\"'\"&$A$2&\"'!\"&ADDRESS($AC5,6))","v":47.582275170068002},{"$f":"INDIRECT(\"'\"&$A$2&\"'!\"&ADDRESS($AC5,7))","v":45.095150340136101},null,{"$f":"INDIRECT(\"'\"&$A$2&\"'!\"&ADDRESS($AC5,12))","v":3684.0228999999999},{"$f":"INDIRECT(\"'\"&$A$2&\"'!\"&ADDRESS($AC5,13))","v":38.686500000000002},{"$f":"INDIRECT(\"'\"&$A$2&\"'!\"&ADDRESS($AC5,14))","v":47.582299999999996},{"$f":"INDIRECT(\"'\"&$A$2&\"'!\"&ADDRESS($AC5,15))","v":45.095199999999998}]
[null,null,null,null,null,null,null,null,null,null,null,null,null,null,null,null,null,null,null,null,null,null,null,null,null,"LDP-10","CatRobot1",15,{"$f":"AC5+1","v":6},{"$f":"INDIRECT(\"'\"&$A$2&\"'!\"&ADDRESS($AC6,4))","v":2034.71673469388},{"$f":"INDIRECT(\"'\"&$A$2&\"'!\"&ADDRESS($AC6,5))","v":37.289168707483},{"$f":"INDIRECT(\"'\"&$A$2&\"'!\"&ADDRESS($AC6,6))","v":46.6998551020408},{"$f":"INDIRECT(\"'\"&$A$2&\"'!\"&ADDRESS($AC6,7))","v":43.819770408163301},null,{"$f":"INDIRECT(\"'\"&$A$2&\"'!\"&ADDRESS($AC6,12))","v":2034.7166999999999},{"$f":"INDIRECT(\"'\"&$A$2&\"'!\"&ADDRESS($AC6,13))","v":37.289200000000001},{"$f":"INDIRECT(\"'\"&$A$2&\"'!\"&ADDRESS($AC6,14))","v":46.6999},{"$f":"INDIRECT(\"'\"&$A$2&\"'!\"&ADDRESS($AC6,15))","v":43.819800000000001}]
[null,null,null,null,null,null,null,null,null,null,null,null,null,null,null,null,null,null,null,null,null,null,null,null,null,null,"DaylightRoad2",19]
[null,null,null,null,null,null,null,null,null,null,null,null,null,null,null,null,null,null,null,null,null,null,null,null,null,null,"ParkRunning3",23,null,{"$f":"\"Sequence: \"&B2 & \"     Coding Conditions: \" & A2","v":"Sequence: Tango2     Coding Conditions: RA-10"}]
[null,null,null,null,null,null,null,null,null,null,null,null,null,null,null,null,null,null,null,null,null,null,null,null,null,null,"MarketPlace",27]
[null,null,null,null,null,null,null,null,null,null,null,null,null,null,null,null,null,null,null,null,null,null,null,null,null,null,"RitualDance",31]
[null,null,null,null,null,null,null,null,null,null,null,null,null,null,null,null,null,null,null,null,null,null,null,null,null,null,"Cactus",35,null,"rate","y","u","v"]
[null,null,null,null,null,null,null,null,null,null,null,null,null,null,null,null,null,null,null,null,null,null,null,null,null,null,"BasketballDrive",39,null,{"$f":"MAX(AD3:AD6,AI3:AI6)","v":27806.1878},{"$f":"MAX(AE3:AE6,AJ3:AJ6)","v":40.341556462584997},{"$f":"MAX(AF3:AF6,AK3:AK6)","v":49.155235714285702},{"$f":"MAX(AG3:AG6,AL3:AL6)","v":47.471935034013597}]
[null,null,null,null,null,null,null,null,null,null,null,null,null,null,null,null,null,null,null,null,null,null,null,null,null,null,"BQTerrace",43,null,{"$f":"MIN(AD3:AD6,AI3:AI6)","v":2034.7166999999999},{"$f":"MIN(AE3:AE6,AJ3:AJ6)","v":37.289168707483},{"$f":"MIN(AF3:AF6,AK3:AK6)","v":46.6998551020408},{"$f":"MIN(AG3:AG6,AL3:AL6)","v":43.819770408163301}]
[null,null,null,null,null,null,null,null,null,null,null,null,null,null,null,null,null,null,null,null,null,null,null,null,null,null,"BasketballDrill",47]
[null,null,null,null,null,null,null,null,null,null,null,null,null,null,null,null,null,null,null,null,null,null,null,null,null,null,"BQMall",51,null,{"$f":"POWER(10,CEILING(LOG(AD12+1),1))","v":100000},{"$f":"CEILING(AE12+0.25,0.5)","v":41},{"$f":"CEILING(AF12+0.25,0.5)","v":49.5},{"$f":"CEILING(AG12+0.25,0.5)","v":48}]
[null,null,null,null,null,null,null,null,null,null,null,null,null,null,null,null,null,null,null,null,null,null,null,null,null,null,"PartySceneC",55,null,{"$f":"POWER(10,FLOOR(LOG(AD13+10),1))","v":1000},{"$f":"FLOOR(AE13-0.25,0.5)","v":37},{"$f":"FLOOR(AF13-0.25,0.5)","v":46},{"$f":"FLOOR(AG13-0.25,0.5)","v":43.5}]
[null,null,null,null,null,null,null,null,null,null,null,null,null,null,null,null,null,null,null,null,null,null,null,null,null,null,"RaceHorsesC",59]
[null,null,null,null,null,null,null,null,null,null,null,null,null,null,null,null,null,null,null,null,null,null,null,null,null,null,"BasketballPass",63]
[null,null,null,null,null,null,null,null,null,null,null,null,null,null,null,null,null,null,null,null,null,null,null,null,null,null,"BQSquare",67]
[null,null,null,null,null,null,null,null,null,null,null,null,null,null,null,null,null,null,null,null,null,null,null,null,null,null,"BlowingBubbles",71]
[null,null,null,null,null,null,null,null,null,null,null,null,null,null,null,null,null,null,null,null,null,null,null,null,null,null,"RaceHorses",75]
[null,null,null,null,null,null,null,null,null,null,null,null,null,null,null,null,null,null,null,null,null,null,null,null,null,null,"FourPeople",79]
[null,null,null,null,null,null,null,null,null,null,null,null,null,null,null,null,null,null,null,null,null,null,null,null,null,null,"Johnny",83]
[null,null,null,null,null,null,null,null,null,null,null,null,null,null,null,null,null,null,null,null,null,null,null,null,null,null,"KristenAndSara",87]
[null,null,null,null,null,null,null,null,null,null,null,null,null,null,null,null,null,null,null,null,null,null,null,null,null,null,"BasketballDrillText",91]
[null,null,null,null,null,null,null,null,null,null,null,null,null,null,null,null,null,null,null,null,null,null,null,null,null,null,"ArenaOfValor",95]
[null,null,null,null,null,null,null,null,null,null,null,null,null,null,null,null,null,null,null,null,null,null,null,null,null,null,"SlideEditing",99]
[null,null,null,null,null,null,null,null,null,null,null,null,null,null,null,null,null,null,null,null,null,null,null,null,null,null,"SlideShow",103]

{"sheet":"AI-10","index":2,"n_rows":117,"n_cols":27,"rows_kept":117,"cut":false,"hidden":false,"merged":[[0,3,0,9],[0,11,0,17],[0,21,0,23],[0,24,0,26]]}
[null,null,null,"Reference",null,null,null,null,null,null,null,"Tested",null,null,null,null,null,null,null,null,null,"BD-rate (piecewise cubic)",null,null,"BD-rate (cubic)"]
[null,null,"QPISlice","kbps","Y psnr","U psnr","V psnr","Enc T [s]","Dec T [s]","Enc T [h]",null,"kbps","Y psnr","U psnr","V psnr","Enc T [s]","Dec T [s]","Enc T [h]","EncR","DecR",null,"Y","U","V","Y","U","V"]
["Class A1","Tango2",22,null,null,null,null,null,null,null,null,null,null,null,null,null,null,null,{"$f":"P3/H3","v":{"$error":"#DIV/0!"}},{"$f":"Q3/I3","v":{"$error":"#DIV/0!"}},null,{"$f":"bdrate($D3:$D6,E3:E6,$L3:$L6,M3:M6)","v":{"$error":"#VALUE!"}},{"$f":"bdrate($D3:$D6,F3:F6,$L3:$L6,N3:N6)","v":{"$error":"#VALUE!"}},{"$f":"bdrate($D3:$D6,G3:G6,$L3:$L6,O3:O6)","v":{"$error":"#VALUE!"}},{"$f":"bdrateOld($D3:$D6,E3:E6,$L3:$L6,M3:M6)","v":{"$error":"#VALUE!"}},{"$f":"bdrateOld($D3:$D6,F3:F6,$L3:$L6,N3:N6)","v":{"$error":"#VALUE!"}},{"$f":"bdrateOld($D3:$D6,G3:G6,$L3:$L6,O3:O6)","v":{"$error":"#VALUE!"}}]
["4K",null,27,null,null,null,null,null,null,null,null,null,null,null,null,null,null,null,{"$error":"#DIV/0!"},{"$error":"#DIV/0!"}]
[null,null,32,null,null,null,null,null,null,null,null,null,null,null,null,null,null,null,{"$error":"#DIV/0!"},{"$error":"#DIV/0!"}]
[null,null,37,null,null,null,null,null,null,null,null,null,null,null,null,null,null,null,{"$error":"#DIV/0!"},{"$error":"#DIV/0!"}]
[null,"FoodMarket4",22,null,null,null,null,null,null,null,null,null,null,null,null,null,null,null,{"$error":"#DIV/0!"},{"$error":"#DIV/0!"},null,{"$f":"bdrate($D7:$D10,E7:E10,$L7:$L10,M7:M10)","v":{"$error":"#VALUE!"}},{"$f":"bdrate($D7:$D10,F7:F10,$L7:$L10,N7:N10)","v":{"$error":"#VALUE!"}},{"$f":"bdrate($D7:$D10,G7:G10,$L7:$L10,O7:O10)","v":{"$error":"#VALUE!"}},{"$f":"bdrateOld($D7:$D10,E7:E10,$L7:$L10,M7:M10)","v":{"$error":"#VALUE!"}},{"$f":"bdrateOld($D7:$D10,F7:F10,$L7:$L10,N7:N10)","v":{"$error":"#VALUE!"}},{"$f":"bdrateOld($D7:$D10,G7:G10,$L7:$L10,O7:O10)","v":{"$error":"#VALUE!"}}]
[null,null,27,null,null,null,null,null,null,null,null,null,null,null,null,null,null,null,{"$error":"#DIV/0!"},{"$error":"#DIV/0!"}]
[null,null,32,null,null,null,null,null,null,null,null,null,null,null,null,null,null,null,{"$error":"#DIV/0!"},{"$error":"#DIV/0!"}]
[null,null,37,null,null,null,null,null,null,null,null,null,null,null,null,null,null,null,{"$error":"#DIV/0!"},{"$error":"#DIV/0!"}]
[null,"Campfire",22,null,null,null,null,null,null,null,null,null,null,null,null,null,null,null,{"$error":"#DIV/0!"},{"$error":"#DIV/0!"},null,{"$f":"bdrate($D11:$D14,E11:E14,$L11:$L14,M11:M14)","v":{"$error":"#VALUE!"}},{"$f":"bdrate($D11:$D14,F11:F14,$L11:$L14,N11:N14)","v":{"$error":"#VALUE!"}},{"$f":"bdrate($D11:$D14,G11:G14,$L11:$L14,O11:O14)","v":{"$error":"#VALUE!"}},{"$f":"bdrateOld($D11:$D14,E11:E14,$L11:$L14,M11:M14)","v":{"$error":"#VALUE!"}},{"$f":"bdrateOld($D11:$D14,F11:F14,$L11:$L14,N11:N14)","v":{"$error":"#VALUE!"}},{"$f":"bdrateOld($D11:$D14,G11:G14,$L11:$L14,O11:O14)","v":{"$error":"#VALUE!"}}]
[null,null,27,null,null,null,null,null,null,null,null,null,null,null,null,null,null,null,{"$error":"#DIV/0!"},{"$error":"#DIV/0!"}]
[null,null,32,null,null,null,null,null,null,null,null,null,null,null,null,null,null,null,{"$error":"#DIV/0!"},{"$error":"#DIV/0!"}]
[null,null,37,null,null,null,null,null,null,null,null,null,null,null,null,null,null,null,{"$error":"#DIV/0!"},{"$error":"#DIV/0!"}]
["Class A2","CatRobot1",22,null,null,null,null,null,null,null,null,null,null,null,null,null,null,null,{"$error":"#DIV/0!"},{"$error":"#DIV/0!"},null,{"$f":"bdrate($D15:$D18,E15:E18,$L15:$L18,M15:M18)","v":{"$error":"#VALUE!"}},{"$f":"bdrate($D15:$D18,F15:F18,$L15:$L18,N15:N18)","v":{"$error":"#VALUE!"}},{"$f":"bdrate($D15:$D18,G15:G18,$L15:$L18,O15:O18)","v":{"$error":"#VALUE!"}},{"$f":"bdrateOld($D15:$D18,E15:E18,$L15:$L18,M15:M18)","v":{"$error":"#VALUE!"}},{"$f":"bdrateOld($D15:$D18,F15:F18,$L15:$L18,N15:N18)","v":{"$error":"#VALUE!"}},{"$f":"bdrateOld($D15:$D18,G15:G18,$L15:$L18,O15:O18)","v":{"$error":"#VALUE!"}}]
["4K",null,27,null,null,null,null,null,null,null,null,null,null,null,null,null,null,null,{"$error":"#DIV/0!"},{"$error":"#DIV/0!"}]
[null,null,32,null,null,null,null,null,null,null,null,null,null,null,null,null,null,null,{"$error":"#DIV/0!"},{"$error":"#DIV/0!"}]
[null,null,37,null,null,null,null,null,null,null,null,null,null,null,null,null,null,null,{"$error":"#DIV/0!"},{"$error":"#DIV/0!"}]
[null,"DaylightRoad2",22,null,null,null,null,null,null,null,null,null,null,null,null,null,null,null,{"$error":"#DIV/0!"},{"$error":"#DIV/0!"},null,{"$f":"bdrate($D19:$D22,E19:E22,$L19:$L22,M19:M22)","v":{"$error":"#VALUE!"}},{"$f":"bdrate($D19:$D22,F19:F22,$L19:$L22,N19:N22)","v":{"$error":"#VALUE!"}},{"$f":"bdrate($D19:$D22,G19:G22,$L19:$L22,O19:O22)","v":{"$error":"#VALUE!"}},{"$f":"bdrateOld($D19:$D22,E19:E22,$L19:$L22,M19:M22)","v":{"$error":"#VALUE!"}},{"$f":"bdrateOld($D19:$D22,F19:F22,$L19:$L22,N19:N22)","v":{"$error":"#VALUE!"}},{"$f":"bdrateOld($D19:$D22,G19:G22,$L19:$L22,O19:O22)","v":{"$error":"#VALUE!"}}]
[null,null,27,null,null,null,null,null,null,null,null,null,null,null,null,null,null,null,{"$error":"#DIV/0!"},{"$error":"#DIV/0!"}]
[null,null,32,null,null,null,null,null,null,null,null,null,null,null,null,null,null,null,{"$error":"#DIV/0!"},{"$error":"#DIV/0!"}]
[null,null,37,null,null,null,null,null,null,null,null,null,null,null,null,null,null,null,{"$error":"#DIV/0!"},{"$error":"#DIV/0!"}]
[null,"ParkRunning3",22,null,null,null,null,null,null,null,null,null,null,null,null,null,null,null,{"$error":"#DIV/0!"},{"$error":"#DIV/0!"},null,{"$f":"bdrate($D23:$D26,E23:E26,$L23:$L26,M23:M26)","v":{"$error":"#VALUE!"}},{"$f":"bdrate($D23:$D26,F23:F26,$L23:$L26,N23:N26)","v":{"$error":"#VALUE!"}},{"$f":"bdrate($D23:$D26,G23:G26,$L23:$L26,O23:O26)","v":{"$error":"#VALUE!"}},{"$f":"bdrateOld($D23:$D26,E23:E26,$L23:$L26,M23:M26)","v":{"$error":"#VALUE!"}},{"$f":"bdrateOld($D23:$D26,F23:F26,$L23:$L26,N23:N26)","v":{"$error":"#VALUE!"}},{"$f":"bdrateOld($D23:$D26,G23:G26,$L23:$L26,O23:O26)","v":{"$error":"#VALUE!"}}]
[null,null,27,null,null,null,null,null,null,null,null,null,null,null,null,null,null,null,{"$error":"#DIV/0!"},{"$error":"#DIV/0!"}]
[null,null,32,null,null,null,null,null,null,null,null,null,null,null,null,null,null,null,{"$error":"#DIV/0!"},{"$error":"#DIV/0!"}]
[null,null,37,null,null,null,null,null,null,null,null,null,null,null,null,null,null,null,{"$error":"#DIV/0!"},{"$error":"#DIV/0!"}]
["Class B","MarketPlace",22,null,null,null,null,null,null,null,null,null,null,null,null,null,null,null,{"$error":"#DIV/0!"},{"$error":"#DIV/0!"},null,{"$f":"bdrate($D27:$D30,E27:E30,$L27:$L30,M27:M30)","v":{"$error":"#VALUE!"}},{"$f":"bdrate($D27:$D30,F27:F30,$L27:$L30,N27:N30)","v":{"$error":"#VALUE!"}},{"$f":"bdrate($D27:$D30,G27:G30,$L27:$L30,O27:O30)","v":{"$error":"#VALUE!"}},{"$f":"bdrateOld($D27:$D30,E27:E30,$L27:$L30,M27:M30)","v":{"$error":"#VALUE!"}},{"$f":"bdrateOld($D27:$D30,F27:F30,$L27:$L30,N27:N30)","v":{"$error":"#VALUE!"}},{"$f":"bdrateOld($D27:$D30,G27:G30,$L27:$L30,O27:O30)","v":{"$error":"#VALUE!"}}]
["1080p",null,27,null,null,null,null,null,null,null,null,null,null,null,null,null,null,null,{"$error":"#DIV/0!"},{"$error":"#DIV/0!"}]
[null,null,32,null,null,null,null,null,null,null,null,null,null,null,null,null,null,null,{"$error":"#DIV/0!"},{"$error":"#DIV/0!"}]
[null,null,37,null,null,null,null,null,null,null,null,null,null,null,null,null,null,null,{"$error":"#DIV/0!"},{"$error":"#DIV/0!"}]
[null,"RitualDance",22,null,null,null,null,null,null,null,null,null,null,null,null,null,null,null,{"$error":"#DIV/0!"},{"$error":"#DIV/0!"},null,{"$f":"bdrate($D31:$D34,E31:E34,$L31:$L34,M31:M34)","v":{"$error":"#VALUE!"}},{"$f":"bdrate($D31:$D34,F31:F34,$L31:$L34,N31:N34)","v":{"$error":"#VALUE!"}},{"$f":"bdrate($D31:$D34,G31:G34,$L31:$L34,O31:O34)","v":{"$error":"#VALUE!"}},{"$f":"bdrateOld($D31:$D34,E31:E34,$L31:$L34,M31:M34)","v":{"$error":"#VALUE!"}},{"$f":"bdrateOld($D31:$D34,F31:F34,$L31:$L34,N31:N34)","v":{"$error":"#VALUE!"}},{"$f":"bdrateOld($D31:$D34,G31:G34,$L31:$L34,O31:O34)","v":{"$error":"#VALUE!"}}]
[null,null,27,null,null,null,null,null,null,null,null,null,null,null,null,null,null,null,{"$error":"#DIV/0!"},{"$error":"#DIV/0!"}]
[null,null,32,null,null,null,null,null,null,null,null,null,null,null,null,null,null,null,{"$error":"#DIV/0!"},{"$error":"#DIV/0!"}]
[null,null,37,null,null,null,null,null,null,null,null,null,null,null,null,null,null,null,{"$error":"#DIV/0!"},{"$error":"#DIV/0!"}]
[null,"Cactus",22,null,null,null,null,null,null,null,null,null,null,null,null,null,null,null,{"$f":"P35/H35","v":{"$error":"#DIV/0!"}},{"$f":"Q35/I35","v":{"$error":"#DIV/0!"}},null,{"$f":"bdrate($D35:$D38,E35:E38,$L35:$L38,M35:M38)","v":{"$error":"#VALUE!"}},{"$f":"bdrate($D35:$D38,F35:F38,$L35:$L38,N35:N38)","v":{"$error":"#VALUE!"}},{"$f":"bdrate($D35:$D38,G35:G38,$L35:$L38,O35:O38)","v":{"$error":"#VALUE!"}},{"$f":"bdrateOld($D35:$D38,E35:E38,$L35:$L38,M35:M38)","v":{"$error":"#VALUE!"}},{"$f":"bdrateOld($D35:$D38,F35:F38,$L35:$L38,N35:N38)","v":{"$error":"#VALUE!"}},{"$f":"bdrateOld($D35:$D38,G35:G38,$L35:$L38,O35:O38)","v":{"$error":"#VALUE!"}}]
[null,null,27,null,null,null,null,null,null,null,null,null,null,null,null,null,null,null,{"$error":"#DIV/0!"},{"$error":"#DIV/0!"}]
[null,null,32,null,null,null,null,null,null,null,null,null,null,null,null,null,null,null,{"$error":"#DIV/0!"},{"$error":"#DIV/0!"}]
[null,null,37,null,null,null,null,null,null,null,null,null,null,null,null,null,null,null,{"$error":"#DIV/0!"},{"$error":"#DIV/0!"}]
[null,"BasketballDrive",22,null,null,null,null,null,null,null,null,null,null,null,null,null,null,null,{"$error":"#DIV/0!"},{"$error":"#DIV/0!"},null,{"$f":"bdrate($D39:$D42,E39:E42,$L39:$L42,M39:M42)","v":{"$error":"#VALUE!"}},{"$f":"bdrate($D39:$D42,F39:F42,$L39:$L42,N39:N42)","v":{"$error":"#VALUE!"}},{"$f":"bdrate($D39:$D42,G39:G42,$L39:$L42,O39:O42)","v":{"$error":"#VALUE!"}},{"$f":"bdrateOld($D39:$D42,E39:E42,$L39:$L42,M39:M42)","v":{"$error":"#VALUE!"}},{"$f":"bdrateOld($D39:$D42,F39:F42,$L39:$L42,N39:N42)","v":{"$error":"#VALUE!"}},{"$f":"bdrateOld($D39:$D42,G39:G42,$L39:$L42,O39:O42)","v":{"$error":"#VALUE!"}}]
[null,null,27,null,null,null,null,null,null,null,null,null,null,null,null,null,null,null,{"$error":"#DIV/0!"},{"$error":"#DIV/0!"}]
[null,null,32,null,null,null,null,null,null,null,null,null,null,null,null,null,null,null,{"$error":"#DIV/0!"},{"$error":"#DIV/0!"}]
[null,null,37,null,null,null,null,null,null,null,null,null,null,null,null,null,null,null,{"$error":"#DIV/0!"},{"$error":"#DIV/0!"}]
[null,"BQTerrace",22,null,null,null,null,null,null,null,null,null,null,null,null,null,null,null,{"$error":"#DIV/0!"},{"$error":"#DIV/0!"},null,{"$f":"bdrate($D43:$D46,E43:E46,$L43:$L46,M43:M46)","v":{"$error":"#VALUE!"}},{"$f":"bdrate($D43:$D46,F43:F46,$L43:$L46,N43:N46)","v":{"$error":"#VALUE!"}},{"$f":"bdrate($D43:$D46,G43:G46,$L43:$L46,O43:O46)","v":{"$error":"#VALUE!"}},{"$f":"bdrateOld($D43:$D46,E43:E46,$L43:$L46,M43:M46)","v":{"$error":"#VALUE!"}},{"$f":"bdrateOld($D43:$D46,F43:F46,$L43:$L46,N43:N46)","v":{"$error":"#VALUE!"}},{"$f":"bdrateOld($D43:$D46,G43:G46,$L43:$L46,O43:O46)","v":{"$error":"#VALUE!"}}]
[null,null,27,null,null,null,null,null,null,null,null,null,null,null,null,null,null,null,{"$error":"#DIV/0!"},{"$error":"#DIV/0!"}]
[null,null,32,null,null,null,null,null,null,null,null,null,null,null,null,null,null,null,{"$error":"#DIV/0!"},{"$error":"#DIV/0!"}]
[null,null,37,null,null,null,null,null,null,null,null,null,null,null,null,null,null,null,{"$error":"#DIV/0!"},{"$error":"#DIV/0!"}]
["Class C","BasketballDrill",22,null,null,null,null,null,null,null,null,null,null,null,null,null,null,null,{"$error":"#DIV/0!"},{"$error":"#DIV/0!"},null,{"$f":"bdrate($D47:$D50,E47:E50,$L47:$L50,M47:M50)","v":{"$error":"#VALUE!"}},{"$f":"bdrate($D47:$D50,F47:F50,$L47:$L50,N47:N50)","v":{"$error":"#VALUE!"}},{"$f":"bdrate($D47:$D50,G47:G50,$L47:$L50,O47:O50)","v":{"$error":"#VALUE!"}},{"$f":"bdrateOld($D47:$D50,E47:E50,$L47:$L50,M47:M50)","v":{"$error":"#VALUE!"}},{"$f":"bdrateOld($D47:$D50,F47:F50,$L47:$L50,N47:N50)","v":{"$error":"#VALUE!"}},{"$f":"bdrateOld($D47:$D50,G47:G50,$L47:$L50,O47:O50)","v":{"$error":"#VALUE!"}}]
["WVGA",null,27,null,null,null,null,null,null,null,null,null,null,null,null,null,null,null,{"$error":"#DIV/0!"},{"$error":"#DIV/0!"}]
[null,null,32,null,null,null,null,null,null,null,null,null,null,null,null,null,null,null,{"$error":"#DIV/0!"},{"$error":"#DIV/0!"}]
[null,null,37,null,null,null,null,null,null,null,null,null,null,null,null,null,null,null,{"$error":"#DIV/0!"},{"$error":"#DIV/0!"}]
[null,"BQMall",22,null,null,null,null,null,null,null,null,null,null,null,null,null,null,null,{"$error":"#DIV/0!"},{"$error":"#DIV/0!"},null,{"$f":"bdrate($D51:$D54,E51:E54,$L51:$L54,M51:M54)","v":{"$error":"#VALUE!"}},{"$f":"bdrate($D51:$D54,F51:F54,$L51:$L54,N51:N54)","v":{"$error":"#VALUE!"}},{"$f":"bdrate($D51:$D54,G51:G54,$L51:$L54,O51:O54)","v":{"$error":"#VALUE!"}},{"$f":"bdrateOld($D51:$D54,E51:E54,$L51:$L54,M51:M54)","v":{"$error":"#VALUE!"}},{"$f":"bdrateOld($D51:$D54,F51:F54,$L51:$L54,N51:N54)","v":{"$error":"#VALUE!"}},{"$f":"bdrateOld($D51:$D54,G51:G54,$L51:$L54,O51:O54)","v":{"$error":"#VALUE!"}}]
[null,null,27,null,null,null,null,null,null,null,null,null,null,null,null,null,null,null,{"$error":"#DIV/0!"},{"$error":"#DIV/0!"}]
[null,null,32,null,null,null,null,null,null,null,null,null,null,null,null,null,null,null,{"$error":"#DIV/0!"},{"$error":"#DIV/0!"}]
[null,null,37,null,null,null,null,null,null,null,null,null,null,null,null,null,null,null,{"$error":"#DIV/0!"},{"$error":"#DIV/0!"}]
[null,"PartyScene",22,null,null,null,null,null,null,null,null,null,null,null,null,null,null,null,{"$error":"#DIV/0!"},{"$error":"#DIV/0!"},null,{"$f":"bdrate($D55:$D58,E55:E58,$L55:$L58,M55:M58)","v":{"$error":"#VALUE!"}},{"$f":"bdrate($D55:$D58,F55:F58,$L55:$L58,N55:N58)","v":{"$error":"#VALUE!"}},{"$f":"bdrate($D55:$D58,G55:G58,$L55:$L58,O55:O58)","v":{"$error":"#VALUE!"}},{"$f":"bdrateOld($D55:$D58,E55:E58,$L55:$L58,M55:M58)","v":{"$error":"#VALUE!"}},{"$f":"bdrateOld($D55:$D58,F55:F58,$L55:$L58,N55:N58)","v":{"$error":"#VALUE!"}},{"$f":"bdrateOld($D55:$D58,G55:G58,$L55:$L58,O55:O58)","v":{"$error":"#VALUE!"}}]
[null,null,27,null,null,null,null,null,null,null,null,null,null,null,null,null,null,null,{"$error":"#DIV/0!"},{"$error":"#DIV/0!"}]
[null,null,32,null,null,null,null,null,null,null,null,null,null,null,null,null,null,null,{"$error":"#DIV/0!"},{"$error":"#DIV/0!"}]
[null,null,37,null,null,null,null,null,null,null,null,null,null,null,null,null,null,null,{"$error":"#DIV/0!"},{"$error":"#DIV/0!"}]
[null,"RaceHorses",22,null,null,null,null,null,null,null,null,null,null,null,null,null,null,null,{"$error":"#DIV/0!"},{"$error":"#DIV/0!"},null,{"$f":"bdrate($D59:$D62,E59:E62,$L59:$L62,M59:M62)","v":{"$error":"#VALUE!"}},{"$f":"bdrate($D59:$D62,F59:F62,$L59:$L62,N59:N62)","v":{"$error":"#VALUE!"}},{"$f":"bdrate($D59:$D62,G59:G62,$L59:$L62,O59:O62)","v":{"$error":"#VALUE!"}},{"$f":"bdrateOld($D59:$D62,E59:E62,$L59:$L62,M59:M62)","v":{"$error":"#VALUE!"}},{"$f":"bdrateOld($D59:$D62,F59:F62,$L59:$L62,N59:N62)","v":{"$error":"#VALUE!"}},{"$f":"bdrateOld($D59:$D62,G59:G62,$L59:$L62,O59:O62)","v":{"$error":"#VALUE!"}}]
[null,null,27,null,null,null,null,null,null,null,null,null,null,null,null,null,null,null,{"$error":"#DIV/0!"},{"$error":"#DIV/0!"}]
[null,null,32,null,null,null,null,null,null,null,null,null,null,null,null,null,null,null,{"$error":"#DIV/0!"},{"$error":"#DIV/0!"}]
[null,null,37,null,null,null,null,null,null,null,null,null,null,null,null,null,null,null,{"$error":"#DIV/0!"},{"$error":"#DIV/0!"}]
["Class D","BasketballPass",{"$f":"C59","v":22},null,null,null,null,null,null,null,null,null,null,null,null,null,null,null,{"$error":"#DIV/0!"},{"$error":"#DIV/0!"},null,{"$f":"bdrate($D63:$D66,E63:E66,$L63:$L66,M63:M66)","v":{"$error":"#VALUE!"}},{"$f":"bdrate($D63:$D66,F63:F66,$L63:$L66,N63:N66)","v":{"$error":"#VALUE!"}},{"$f":"bdrate($D63:$D66,G63:G66,$L63:$L66,O63:O66)","v":{"$error":"#VALUE!"}},{"$f":"bdrateOld($D63:$D66,E63:E66,$L63:$L66,M63:M66)","v":{"$error":"#VALUE!"}},{"$f":"bdrateOld($D63:$D66,F63:F66,$L63:$L66,N63:N66)","v":{"$error":"#VALUE!"}},{"$f":"bdrateOld($D63:$D66,G63:G66,$L63:$L66,O63:O66)","v":{"$error":"#VALUE!"}}]
["WQVGA",null,{"$f":"C60","v":27},null,null,null,null,null,null,null,null,null,null,null,null,null,null,null,{"$error":"#DIV/0!"},{"$error":"#DIV/0!"}]
[null,null,{"$f":"C61","v":32},null,null,null,null,null,null,null,null,null,null,null,null,null,null,null,{"$error":"#DIV/0!"},{"$error":"#DIV/0!"}]
[null,null,{"$f":"C62","v":37},null,null,null,null,null,null,null,null,null,null,null,null,null,null,null,{"$error":"#DIV/0!"},{"$error":"#DIV/0!"}]
[null,"BQSquare",22,null,null,null,null,null,null,null,null,null,null,null,null,null,null,null,{"$f":"P67/H67","v":{"$error":"#DIV/0!"}},{"$f":"Q67/I67","v":{"$error":"#DIV/0!"}},null,{"$f":"bdrate($D67:$D70,E67:E70,$L67:$L70,M67:M70)","v":{"$error":"#VALUE!"}},{"$f":"bdrate($D67:$D70,F67:F70,$L67:$L70,N67:N70)","v":{"$error":"#VALUE!"}},{"$f":"bdrate($D67:$D70,G67:G70,$L67:$L70,O67:O70)","v":{"$error":"#VALUE!"}},{"$f":"bdrateOld($D67:$D70,E67:E70,$L67:$L70,M67:M70)","v":{"$error":"#VALUE!"}},{"$f":"bdrateOld($D67:$D70,F67:F70,$L67:$L70,N67:N70)","v":{"$error":"#VALUE!"}},{"$f":"bdrateOld($D67:$D70,G67:G70,$L67:$L70,O67:O70)","v":{"$error":"#VALUE!"}}]
[null,null,27,null,null,null,null,null,null,null,null,null,null,null,null,null,null,null,{"$error":"#DIV/0!"},{"$error":"#DIV/0!"}]
[null,null,32,null,null,null,null,null,null,null,null,null,null,null,null,null,null,null,{"$error":"#DIV/0!"},{"$error":"#DIV/0!"}]
[null,null,37,null,null,null,null,null,null,null,null,null,null,null,null,null,null,null,{"$error":"#DIV/0!"},{"$error":"#DIV/0!"}]
[null,"BlowingBubbles",22,null,null,null,null,null,null,null,null,null,null,null,null,null,null,null,{"$error":"#DIV/0!"},{"$error":"#DIV/0!"},null,{"$f":"bdrate($D71:$D74,E71:E74,$L71:$L74,M71:M74)","v":{"$error":"#VALUE!"}},{"$f":"bdrate($D71:$D74,F71:F74,$L71:$L74,N71:N74)","v":{"$error":"#VALUE!"}},{"$f":"bdrate($D71:$D74,G71:G74,$L71:$L74,O71:O74)","v":{"$error":"#VALUE!"}},{"$f":"bdrateOld($D71:$D74,E71:E74,$L71:$L74,M71:M74)","v":{"$error":"#VALUE!"}},{"$f":"bdrateOld($D71:$D74,F71:F74,$L71:$L74,N71:N74)","v":{"$error":"#VALUE!"}},{"$f":"bdrateOld($D71:$D74,G71:G74,$L71:$L74,O71:O74)","v":{"$error":"#VALUE!"}}]
[null,null,27,null,null,null,null,null,null,null,null,null,null,null,null,null,null,null,{"$error":"#DIV/0!"},{"$error":"#DIV/0!"}]
[null,null,32,null,null,null,null,null,null,null,null,null,null,null,null,null,null,null,{"$error":"#DIV/0!"},{"$error":"#DIV/0!"}]
[null,null,37,null,null,null,null,null,null,null,null,null,null,null,null,null,null,null,{"$error":"#DIV/0!"},{"$error":"#DIV/0!"}]
[null,"RaceHorses",22,null,null,null,null,null,null,null,null,null,null,null,null,null,null,null,{"$error":"#DIV/0!"},{"$error":"#DIV/0!"},null,{"$f":"bdrate($D75:$D78,E75:E78,$L75:$L78,M75:M78)","v":{"$error":"#VALUE!"}},{"$f":"bdrate($D75:$D78,F75:F78,$L75:$L78,N75:N78)","v":{"$error":"#VALUE!"}},{"$f":"bdrate($D75:$D78,G75:G78,$L75:$L78,O75:O78)","v":{"$error":"#VALUE!"}},{"$f":"bdrateOld($D75:$D78,E75:E78,$L75:$L78,M75:M78)","v":{"$error":"#VALUE!"}},{"$f":"bdrateOld($D75:$D78,F75:F78,$L75:$L78,N75:N78)","v":{"$error":"#VALUE!"}},{"$f":"bdrateOld($D75:$D78,G75:G78,$L75:$L78,O75:O78)","v":{"$error":"#VALUE!"}}]
[null,null,27,null,null,null,null,null,null,null,null,null,null,null,null,null,null,null,{"$error":"#DIV/0!"},{"$error":"#DIV/0!"}]
[null,null,32,null,null,null,null,null,null,null,null,null,null,null,null,null,null,null,{"$error":"#DIV/0!"},{"$error":"#DIV/0!"}]
[null,null,37,null,null,null,null,null,null,null,null,null,null,null,null,null,null,null,{"$error":"#DIV/0!"},{"$error":"#DIV/0!"}]
["ClassE","FourPeople",22,null,null,null,null,null,null,null,null,null,null,null,null,null,null,null,{"$error":"#DIV/0!"},{"$error":"#DIV/0!"},null,{"$f":"bdrate($D79:$D82,E79:E82,$L79:$L82,M79:M82)","v":{"$error":"#VALUE!"}},{"$f":"bdrate($D79:$D82,F79:F82,$L79:$L82,N79:N82)","v":{"$error":"#VALUE!"}},{"$f":"bdrate($D79:$D82,G79:G82,$L79:$L82,O79:O82)","v":{"$error":"#VALUE!"}},{"$f":"bdrateOld($D79:$D82,E79:E82,$L79:$L82,M79:M82)","v":{"$error":"#VALUE!"}},{"$f":"bdrateOld($D79:$D82,F79:F82,$L79:$L82,N79:N82)","v":{"$error":"#VALUE!"}},{"$f":"bdrateOld($D79:$D82,G79:G82,$L79:$L82,O79:O82)","v":{"$error":"#VALUE!"}}]
["720p",null,27,null,null,null,null,null,null,null,null,null,null,null,null,null,null,null,{"$error":"#DIV/0!"},{"$error":"#DIV/0!"}]
[null,null,32,null,null,null,null,null,null,null,null,null,null,null,null,null,null,null,{"$error":"#DIV/0!"},{"$error":"#DIV/0!"}]
[null,null,37,null,null,null,null,null,null,null,null,null,null,null,null,null,null,null,{"$error":"#DIV/0!"},{"$error":"#DIV/0!"}]
[null,"Johnny",22,null,null,null,null,null,null,null,null,null,null,null,null,null,null,null,{"$error":"#DIV/0!"},{"$error":"#DIV/0!"},null,{"$f":"bdrate($D83:$D86,E83:E86,$L83:$L86,M83:M86)","v":{"$error":"#VALUE!"}},{"$f":"bdrate($D83:$D86,F83:F86,$L83:$L86,N83:N86)","v":{"$error":"#VALUE!"}},{"$f":"bdrate($D83:$D86,G83:G86,$L83:$L86,O83:O86)","v":{"$error":"#VALUE!"}},{"$f":"bdrateOld($D83:$D86,E83:E86,$L83:$L86,M83:M86)","v":{"$error":"#VALUE!"}},{"$f":"bdrateOld($D83:$D86,F83:F86,$L83:$L86,N83:N86)","v":{"$error":"#VALUE!"}},{"$f":"bdrateOld($D83:$D86,G83:G86,$L83:$L86,O83:O86)","v":{"$error":"#VALUE!"}}]
[null,null,27,null,null,null,null,null,null,null,null,null,null,null,null,null,null,null,{"$error":"#DIV/0!"},{"$error":"#DIV/0!"}]
[null,null,32,null,null,null,null,null,null,null,null,null,null,null,null,null,null,null,{"$error":"#DIV/0!"},{"$error":"#DIV/0!"}]
[null,null,37,null,null,null,null,null,null,null,null,null,null,null,null,null,null,null,{"$error":"#DIV/0!"},{"$error":"#DIV/0!"}]
[null,"KristenAndSara",22,null,null,null,null,null,null,null,null,null,null,null,null,null,null,null,{"$error":"#DIV/0!"},{"$error":"#DIV/0!"},null,{"$f":"bdrate($D87:$D90,E87:E90,$L87:$L90,M87:M90)","v":{"$error":"#VALUE!"}},{"$f":"bdrate($D87:$D90,F87:F90,$L87:$L90,N87:N90)","v":{"$error":"#VALUE!"}},{"$f":"bdrate($D87:$D90,G87:G90,$L87:$L90,O87:O90)","v":{"$error":"#VALUE!"}},{"$f":"bdrateOld($D87:$D90,E87:E90,$L87:$L90,M87:M90)","v":{"$error":"#VALUE!"}},{"$f":"bdrateOld($D87:$D90,F87:F90,$L87:$L90,N87:N90)","v":{"$error":"#VALUE!"}},{"$f":"bdrateOld($D87:$D90,G87:G90,$L87:$L90,O87:O90)","v":{"$error":"#VALUE!"}}]
[null,null,27,null,null,null,null,null,null,null,null,null,null,null,null,null,null,null,{"$error":"#DIV/0!"},{"$error":"#DIV/0!"}]
[null,null,32,null,null,null,null,null,null,null,null,null,null,null,null,null,null,null,{"$error":"#DIV/0!"},{"$error":"#DIV/0!"}]
[null,null,37,null,null,null,null,null,null,null,null,null,null,null,null,null,null,null,{"$error":"#DIV/0!"},{"$error":"#DIV/0!"}]
["ClassF","BasketballDrillText",22,null,null,null,null,null,null,null,null,null,null,null,null,null,null,null,{"$error":"#DIV/0!"},{"$error":"#DIV/0!"},null,{"$f":"bdrate($D91:$D94,E91:E94,$L91:$L94,M91:M94)","v":{"$error":"#VALUE!"}},{"$f":"bdrate($D91:$D94,F91:F94,$L91:$L94,N91:N94)","v":{"$error":"#VALUE!"}},{"$f":"bdrate($D91:$D94,G91:G94,$L91:$L94,O91:O94)","v":{"$error":"#VALUE!"}},{"$f":"bdrateOld($D91:$D94,E91:E94,$L91:$L94,M91:M94)","v":{"$error":"#VALUE!"}},{"$f":"bdrateOld($D91:$D94,F91:F94,$L91:$L94,N91:N94)","v":{"$error":"#VALUE!"}},{"$f":"bdrateOld($D91:$D94,G91:G94,$L91:$L94,O91:O94)","v":{"$error":"#VALUE!"}}]
[null,null,27,null,null,null,null,null,null,null,null,null,null,null,null,null,null,null,{"$error":"#DIV/0!"},{"$error":"#DIV/0!"}]
[null,null,32,null,null,null,null,null,null,null,null,null,null,null,null,null,null,null,{"$error":"#DIV/0!"},{"$error":"#DIV/0!"}]
[null,null,37,null,null,null,null,null,null,null,null,null,null,null,null,null,null,null,{"$error":"#DIV/0!"},{"$error":"#DIV/0!"}]
[null,"ArenaOfValor",22,null,null,null,null,null,null,null,null,null,null,null,null,null,null,null,{"$error":"#DIV/0!"},{"$error":"#DIV/0!"},null,{"$f":"bdrate($D95:$D98,E95:E98,$L95:$L98,M95:M98)","v":{"$error":"#VALUE!"}},{"$f":"bdrate($D95:$D98,F95:F98,$L95:$L98,N95:N98)","v":{"$error":"#VALUE!"}},{"$f":"bdrate($D95:$D98,G95:G98,$L95:$L98,O95:O98)","v":{"$error":"#VALUE!"}},{"$f":"bdrateOld($D95:$D98,E95:E98,$L95:$L98,M95:M98)","v":{"$error":"#VALUE!"}},{"$f":"bdrateOld($D95:$D98,F95:F98,$L95:$L98,N95:N98)","v":{"$error":"#VALUE!"}},{"$f":"bdrateOld($D95:$D98,G95:G98,$L95:$L98,O95:O98)","v":{"$error":"#VALUE!"}}]
[null,null,27,null,null,null,null,null,null,null,null,null,null,null,null,null,null,null,{"$error":"#DIV/0!"},{"$error":"#DIV/0!"}]
[null,null,32,null,null,null,null,null,null,null,null,null,null,null,null,null,null,null,{"$error":"#DIV/0!"},{"$error":"#DIV/0!"}]
[null,null,37,null,null,null,null,null,null,null,null,null,null,null,null,null,null,null,{"$error":"#DIV/0!"},{"$error":"#DIV/0!"}]
[null,"SlideEditing",22,null,null,null,null,null,null,null,null,null,null,null,null,null,null,null,{"$f":"P99/H99","v":{"$error":"#DIV/0!"}},{"$f":"Q99/I99","v":{"$error":"#DIV/0!"}},null,{"$f":"bdrate($D99:$D102,E99:E102,$L99:$L102,M99:M102)","v":{"$error":"#VALUE!"}},{"$f":"bdrate($D99:$D102,F99:F102,$L99:$L102,N99:N102)","v":{"$error":"#VALUE!"}},{"$f":"bdrate($D99:$D102,G99:G102,$L99:$L102,O99:O102)","v":{"$error":"#VALUE!"}},{"$f":"bdrateOld($D99:$D102,E99:E102,$L99:$L102,M99:M102)","v":{"$error":"#VALUE!"}},{"$f":"bdrateOld($D99:$D102,F99:F102,$L99:$L102,N99:N102)","v":{"$error":"#VALUE!"}},{"$f":"bdrateOld($D99:$D102,G99:G102,$L99:$L102,O99:O102)","v":{"$error":"#VALUE!"}}]
[null,null,27,null,null,null,null,null,null,null,null,null,null,null,null,null,null,null,{"$error":"#DIV/0!"},{"$error":"#DIV/0!"}]
[null,null,32,null,null,null,null,null,null,null,null,null,null,null,null,null,null,null,{"$error":"#DIV/0!"},{"$error":"#DIV/0!"}]
[null,null,37,null,null,null,null,null,null,null,null,null,null,null,null,null,null,null,{"$error":"#DIV/0!"},{"$error":"#DIV/0!"}]
[null,"SlideShow",22,null,null,null,null,null,null,null,null,null,null,null,null,null,null,null,{"$error":"#DIV/0!"},{"$error":"#DIV/0!"},null,{"$f":"bdrate($D103:$D106,E103:E106,$L103:$L106,M103:M106)","v":{"$error":"#VALUE!"}},{"$f":"bdrate($D103:$D106,F103:F106,$L103:$L106,N103:N106)","v":{"$error":"#VALUE!"}},{"$f":"bdrate($D103:$D106,G103:G106,$L103:$L106,O103:O106)","v":{"$error":"#VALUE!"}},{"$f":"bdrateOld($D103:$D106,E103:E106,$L103:$L106,M103:M106)","v":{"$error":"#VALUE!"}},{"$f":"bdrateOld($D103:$D106,F103:F106,$L103:$L106,N103:N106)","v":{"$error":"#VALUE!"}},{"$f":"bdrateOld($D103:$D106,G103:G106,$L103:$L106,O103:O106)","v":{"$error":"#VALUE!"}}]
[null,null,27,null,null,null,null,null,null,null,null,null,null,null,null,null,null,null,{"$error":"#DIV/0!"},{"$error":"#DIV/0!"}]
[null,null,32,null,null,null,null,null,null,null,null,null,null,null,null,null,null,null,{"$error":"#DIV/0!"},{"$error":"#DIV/0!"}]
[null,null,37,null,null,null,null,null,null,null,null,null,null,null,null,null,null,null,{"$error":"#DIV/0!"},{"$error":"#DIV/0!"}]
[null,"Class A1",null,null,null,null,null,null,{"$f":"GEOMEAN(I3:I14)","v":{"$error":"#NUM!"}},{"$f":"GEOMEAN(J3:J14)","v":{"$error":"#NUM!"}},null,null,null,null,null,null,{"$f":"GEOMEAN(Q3:Q14)","v":{"$error":"#NUM!"}},{"$f":"GEOMEAN(R3:R14)","v":{"$error":"#NUM!"}},{"$f":"GEOMEAN(S3:S14)","v":{"$error":"#DIV/0!"}},{"$f":"GEOMEAN(T3:T14)","v":{"$error":"#DIV/0!"}},null,{"$f":"AVERAGE(V3:V14)","v":{"$error":"#VALUE!"}},{"$error":"#VALUE!"},{"$error":"#VALUE!"},{"$error":"#VALUE!"},{"$error":"#VALUE!"},{"$error":"#VALUE!"}]
[null,"Class A2",null,null,null,null,null,null,{"$f":"GEOMEAN(I15:I26)","v":{"$error":"#NUM!"}},{"$f":"GEOMEAN(J15:J26)","v":{"$error":"#NUM!"}},null,null,null,null,null,null,{"$f":"GEOMEAN(Q15:Q26)","v":{"$error":"#NUM!"}},{"$f":"GEOMEAN(R15:R26)","v":{"$error":"#NUM!"}},{"$f":"GEOMEAN(S15:S26)","v":{"$error":"#DIV/0!"}},{"$f":"GEOMEAN(T15:T26)","v":{"$error":"#DIV/0!"}},null,{"$f":"AVERAGE(V15:V26)","v":{"$error":"#VALUE!"}},{"$error":"#VALUE!"},{"$error":"#VALUE!"},{"$error":"#VALUE!"},{"$error":"#VALUE!"},{"$error":"#VALUE!"}]
[null,"Class B",null,null,null,null,null,null,{"$f":"GEOMEAN(I27:I46)","v":{"$error":"#NUM!"}},{"$f":"GEOMEAN(J27:J46)","v":{"$error":"#NUM!"}},null,null,null,null,null,null,{"$f":"GEOMEAN(Q27:Q46)","v":{"$error":"#NUM!"}},{"$f":"GEOMEAN(R27:R46)","v":{"$error":"#NUM!"}},{"$f":"GEOMEAN(S27:S46)","v":{"$error":"#DIV/0!"}},{"$f":"GEOMEAN(T27:T46)","v":{"$error":"#DIV/0!"}},null,{"$f":"AVERAGE(V27:V46)","v":{"$error":"#VALUE!"}},{"$error":"#VALUE!"},{"$error":"#VALUE!"},{"$error":"#VALUE!"},{"$error":"#VALUE!"},{"$error":"#VALUE!"}]
[null,"Class C",null,null,null,null,null,null,{"$f":"GEOMEAN(I47:I62)","v":{"$error":"#NUM!"}},{"$f":"GEOMEAN(J47:J62)","v":{"$error":"#NUM!"}},null,null,null,null,null,null,{"$f":"GEOMEAN(Q47:Q62)","v":{"$error":"#NUM!"}},{"$f":"GEOMEAN(R47:R62)","v":{"$error":"#NUM!"}},{"$f":"GEOMEAN(S47:S62)","v":{"$error":"#DIV/0!"}},{"$f":"GEOMEAN(T47:T62)","v":{"$error":"#DIV/0!"}},null,{"$f":"AVERAGE(V47:V62)","v":{"$error":"#VALUE!"}},{"$error":"#VALUE!"},{"$error":"#VALUE!"},{"$error":"#VALUE!"},{"$error":"#VALUE!"},{"$error":"#VALUE!"}]
[null,"Class D",null,null,null,null,null,null,{"$f":"GEOMEAN(I63:I78)","v":{"$error":"#NUM!"}},{"$f":"GEOMEAN(J63:J78)","v":{"$error":"#NUM!"}},null,null,null,null,null,null,{"$f":"GEOMEAN(Q63:Q78)","v":{"$error":"#NUM!"}},{"$f":"GEOMEAN(R63:R78)","v":{"$error":"#NUM!"}},{"$f":"GEOMEAN(S63:S78)","v":{"$error":"#DIV/0!"}},{"$f":"GEOMEAN(T63:T78)","v":{"$error":"#DIV/0!"}},null,{"$f":"AVERAGE(V63:V78)","v":{"$error":"#VALUE!"}},{"$error":"#VALUE!"},{"$error":"#VALUE!"},{"$error":"#VALUE!"},{"$error":"#VALUE!"},{"$error":"#VALUE!"}]
[null,"Class E",null,null,null,null,null,null,{"$f":"GEOMEAN(I79:I90)","v":{"$error":"#NUM!"}},{"$f":"GEOMEAN(J79:J90)","v":{"$error":"#NUM!"}},null,null,null,null,null,null,{"$f":"GEOMEAN(Q79:Q90)","v":{"$error":"#NUM!"}},{"$f":"GEOMEAN(R79:R90)","v":{"$error":"#NUM!"}},{"$f":"GEOMEAN(S79:S90)","v":{"$error":"#DIV/0!"}},{"$f":"GEOMEAN(T79:T90)","v":{"$error":"#DIV/0!"}},null,{"$f":"AVERAGE(V79:V88)","v":{"$error":"#VALUE!"}},{"$error":"#VALUE!"},{"$error":"#VALUE!"},{"$error":"#VALUE!"},{"$error":"#VALUE!"},{"$error":"#VALUE!"}]
[null,"Class F",null,null,null,null,null,null,{"$f":"GEOMEAN(I91:I106)","v":{"$error":"#NUM!"}},{"$f":"GEOMEAN(J91:J106)","v":{"$error":"#NUM!"}},null,null,null,null,null,null,{"$f":"GEOMEAN(Q91:Q106)","v":{"$error":"#NUM!"}},{"$f":"GEOMEAN(R91:R106)","v":{"$error":"#NUM!"}},{"$f":"GEOMEAN(S91:S106)","v":{"$error":"#DIV/0!"}},{"$f":"GEOMEAN(T91:T106)","v":{"$error":"#DIV/0!"}},null,{"$f":"AVERAGE(V91:V106)","v":{"$error":"#VALUE!"}},{"$error":"#VALUE!"},{"$error":"#VALUE!"},{"$error":"#VALUE!"},{"$error":"#VALUE!"},{"$error":"#VALUE!"}]
[null,"All",null,null,null,null,null,null,{"$f":"GEOMEAN(I3:I62, I79:I90)","v":{"$error":"#NUM!"}},{"$f":"GEOMEAN(J3:J62,J79:J90)","v":{"$error":"#NUM!"}},null,null,null,null,null,null,{"$f":"GEOMEAN(Q3:Q62,Q79:Q90)","v":{"$error":"#NUM!"}},{"$f":"GEOMEAN(R3:R62,R79:R90)","v":{"$error":"#NUM!"}},{"$f":"GEOMEAN(S3:S62,S79:S90)","v":{"$error":"#DIV/0!"}},{"$f":"GEOMEAN(T3:T62,T79:T90)","v":{"$error":"#DIV/0!"}},null,{"$f":"AVERAGE(V3:V62,V79:V90)","v":{"$error":"#VALUE!"}},{"$error":"#VALUE!"},{"$error":"#VALUE!"},{"$error":"#VALUE!"},{"$error":"#VALUE!"},{"$error":"#VALUE!"}]
[null,"Time geomean",null,null,null,null,null,null,{"$f":"GEOMEAN(I3:I106)","v":{"$error":"#NUM!"}},{"$f":"GEOMEAN(J3:J106)","v":{"$error":"#NUM!"}},null,null,null,null,null,null,{"$f":"GEOMEAN(Q3:Q106)","v":{"$error":"#NUM!"}},{"$f":"GEOMEAN(R3:R106)","v":{"$error":"#NUM!"}}]
[null,"Time ratio",null,null,null,null,null,null,null,null,null,null,null,null,null,null,{"$f":"Q115/I115","v":{"$error":"#NUM!"}},{"$f":"R115/J115","v":{"$error":"#NUM!"}}]
[null,"Time sum (hours)"]

{"sheet":"RA-10","index":3,"n_rows":117,"n_cols":27,"rows_kept":117,"cut":false,"hidden":false,"merged":[[0,3,0,9],[0,11,0,17],[0,21,0,23],[0,24,0,26]]}
[null,null,null,"Reference",null,null,null,null,null,null,null,"Tested",null,null,null,null,null,null,null,null,null,"BD-rate (piecewise cubic)",null,null,"BD-rate (cubic)"]
[null,null,"QPISlice","kbps","Y psnr","U psnr","V psnr","Enc T [s]","Dec T [s]","Enc T [h]",null,"kbps","Y psnr","U psnr","V psnr","Enc T [s]","Dec T [s]","Enc T [h]","Enc","Dec",null,"Y","U","V","Y","U","V"]
["Class A1","Tango2",22,27806.187755102001,40.341556462584997,49.155235714285702,47.471935034013597,601086.97100000002,195.947,{"$f":"H3/3600","v":166.96860305555555},null,{"$f":"Test!B105","v":27806.1878},{"$f":"Test!C105","v":40.341500000000003},{"$f":"Test!D105","v":49.155200000000001},{"$f":"Test!E105","v":47.471899999999998},{"$f":"Test!F105","v":601457.09},{"$f":"Test!G105","v":169.65},{"$f":"P3/3600","v":167.07141388888888},{"$f":"P3/H3","v":1.0006157494969226},{"$f":"Q3/I3","v":0.86579534261815694},null,{"$f":"bdrate($D3:$D6,E3:E6,$L3:$L6,M3:M6)","v":3.413244533012616E-6},{"$f":"bdrate($D3:$D6,F3:F6,$L3:$L6,N3:N6)","v":-6.115903452785787E-6},{"$f":"bdrate($D3:$D6,G3:G6,$L3:$L6,O3:O6)","v":-1.4241108706181116E-5},{"$f":"bdrateOld($D3:$D6,E3:E6,$L3:$L6,M3:M6)","v":1.2930259591925619E-5},{"$f":"bdrateOld($D3:$D6,F3:F6,$L3:$L6,N3:N6)","v":-5.6139811970279396E-6},{"$f":"bdrateOld($D3:$D6,G3:G6,$L3:$L6,O3:O6)","v":-1.301430209998955E-5}]
["4K",null,27,7407.6293877550997,39.603771428571399,48.389489795918401,46.276269727891197,310184.38199999998,151.96600000000001,86.162328333333335,null,{"$f":"Test!B106","v":7407.6293999999998},{"$f":"Test!C106","v":39.6038},{"$f":"Test!D106","v":48.389499999999998},{"$f":"Test!E106","v":46.276299999999999},{"$f":"Test!F106","v":263434.89},{"$f":"Test!G106","v":117.55},73.17635833333334,0.84928482956308238,0.7735282892225892]
[null,null,32,3684.0228571428602,38.6865074829932,47.582275170068002,45.095150340136101,207064.56099999999,139.52799999999999,57.517933611111104,null,{"$f":"Test!B107","v":3684.0228999999999},{"$f":"Test!C107","v":38.686500000000002},{"$f":"Test!D107","v":47.582299999999996},{"$f":"Test!E107","v":45.095199999999998},{"$f":"Test!F107","v":156520.41},{"$f":"Test!G107","v":110.63},43.477891666666665,0.75590148910126642,0.79288744911415632]
[null,null,37,2034.71673469388,37.289168707483,46.6998551020408,43.819770408163301,125787.336,121.46299999999999,34.940926666666662,null,{"$f":"Test!B108","v":2034.7166999999999},{"$f":"Test!C108","v":37.289200000000001},{"$f":"Test!D108","v":46.6999},{"$f":"Test!E108","v":43.819800000000001},{"$f":"Test!F108","v":91125.01},{"$f":"Test!G108","v":90.64},25.312502777777777,0.724437076877119,0.74623547911709742]
[null,"FoodMarket4",22,17146.126400000001,44.199266000000001,49.054482999999998,49.703182333333302,393794.92099999997,177.441,109.38747805555555,null,{"$f":"Test!B109","v":17147.6672},{"$f":"Test!C109","v":44.199300000000001},{"$f":"Test!D109","v":49.054499999999997},{"$f":"Test!E109","v":49.7029},{"$f":"Test!F109","v":390123.55},{"$f":"Test!G109","v":154.44},108.36765277777778,0.99067694679586793,0.87037381439464379,null,{"$f":"bdrate($D7:$D10,E7:E10,$L7:$L10,M7:M10)","v":8.3273124495963913E-6},{"$f":"bdrate($D7:$D10,F7:F10,$L7:$L10,N7:N10)","v":-3.3017172132998596E-6},{"$f":"bdrate($D7:$D10,G7:G10,$L7:$L10,O7:O10)","v":2.6694546209071746E-5},{"$f":"bdrateOld($D7:$D10,E7:E10,$L7:$L10,M7:M10)","v":9.1933773673780195E-6},{"$f":"bdrateOld($D7:$D10,F7:F10,$L7:$L10,N7:N10)","v":-4.2587812301153605E-6},{"$f":"bdrateOld($D7:$D10,G7:G10,$L7:$L10,O7:O10)","v":2.6262393828302422E-5}]
[null,null,27,7449.8688000000002,42.708037666666698,47.295844000000002,47.777487999999998,245126.80499999999,156.9,68.090779166666664,null,{"$f":"Test!B110","v":7449.8688000000002},{"$f":"Test!C110","v":42.707999999999998},{"$f":"Test!D110","v":47.295900000000003},{"$f":"Test!E110","v":47.777500000000003},{"$f":"Test!F110","v":220923.28},{"$f":"Test!G110","v":132.83000000000001},61.367577777777775,0.90126120641926533,0.84659018483110271]
[null,null,32,3922.0944,40.798062999999999,45.821370999999999,46.179263666666699,168033.136,144.31200000000001,46.675871111111114,null,{"$f":"Test!B111","v":3922.0944},{"$f":"Test!C111","v":40.798099999999998},{"$f":"Test!D111","v":45.821399999999997},{"$f":"Test!E111","v":46.179299999999998},{"$f":"Test!F111","v":135325.91},{"$f":"Test!G111","v":111.95},37.59053055555556,0.80535252285001691,0.77574976439935694]
[null,null,37,2092.9535999999998,38.451951999999999,44.468590333333303,44.691536999999997,111791.128,127.414,31.053091111111112,null,{"$f":"Test!B112","v":2092.9535999999998},{"$f":"Test!C112","v":38.451900000000002},{"$f":"Test!D112","v":44.468600000000002},{"$f":"Test!E112","v":44.691499999999998},{"$f":"Test!F112","v":81802.070000000007},{"$f":"Test!G112","v":99},22.722797222222223,0.73174026833327965,0.77699467876371509]
[null,"Campfire",22,59922.908799999997,39.529919,42.198760333333297,42.593362999999997,900015.24199999997,273.92700000000002,250.00423388888888,null,{"$f":"Test!B113","v":59923.084000000003},{"$f":"Test!C113","v":39.529899999999998},{"$f":"Test!D113","v":42.198799999999999},{"$f":"Test!E113","v":42.593400000000003},{"$f":"Test!F113","v":867394.95},{"$f":"Test!G113","v":235.67},240.94304166666666,0.96375584492601296,0.86033870337717699,null,{"$f":"bdrate($D11:$D14,E11:E14,$L11:$L14,M11:M14)","v":8.9032432035729414E-6},{"$f":"bdrate($D11:$D14,F11:F14,$L11:$L14,N11:N14)","v":8.5892503556284083E-6},{"$f":"bdrate($D11:$D14,G11:G14,$L11:$L14,O11:O14)","v":5.995947173653704E-6},{"$f":"bdrateOld($D11:$D14,E11:E14,$L11:$L14,M11:M14)","v":1.1658792914204241E-5},{"$f":"bdrateOld($D11:$D14,F11:F14,$L11:$L14,N11:N14)","v":4.7822690003584967E-6},{"$f":"bdrateOld($D11:$D14,G11:G14,$L11:$L14,O11:O14)","v":5.944221481035683E-6}]
[null,null,27,17556.428,37.556734333333303,39.046892999999997,41.084032999999998,547042.96400000004,185.58099999999999,151.95637888888891,null,{"$f":"Test!B114","v":17556.428},{"$f":"Test!C114","v":37.556699999999999},{"$f":"Test!D114","v":39.046900000000001},{"$f":"Test!E114","v":41.084000000000003},{"$f":"Test!F114","v":470197.14},{"$f":"Test!G114","v":150.81},130.61031666666668,0.85952506648088423,0.81263706952759174]
[null,null,32,8964.9071999999996,36.439493333333303,37.417459000000001,39.953738000000001,401216.28700000001,154.86500000000001,111.44896861111111,null,{"$f":"Test!B115","v":8964.8088000000007},{"$f":"Test!C115","v":36.439500000000002},{"$f":"Test!D115","v":37.417299999999997},{"$f":"Test!E115","v":39.953699999999998},{"$f":"Test!F115","v":307992.89},{"$f":"Test!G115","v":124.7},85.553580555555556,0.76764802421891709,0.80521744745423429]
[null,null,37,4925.3,35.060921333333297,35.338647000000002,38.6391736666667,290016.49800000002,138.911,80.560138333333342,null,{"$f":"Test!B116","v":4925.3},{"$f":"Test!C116","v":35.060899999999997},{"$f":"Test!D116","v":35.3386},{"$f":"Test!E116","v":38.639200000000002},{"$f":"Test!F116","v":204626.56},{"$f":"Test!G116","v":106.05},56.840711111111112,0.70556868802684458,0.76343846059707288]
["Class A2","CatRobot1",22,33305.7264,40.393896333333302,41.851568333333297,43.533976000000003,461273.72,198.291,128.13158888888887,null,{"$f":"Test!B117","v":33305.7264},{"$f":"Test!C117","v":40.393900000000002},{"$f":"Test!D117","v":41.851599999999998},{"$f":"Test!E117","v":43.533999999999999},{"$f":"Test!F117","v":447204.18},{"$f":"Test!G117","v":144.11000000000001},124.22338333333333,0.96949850080338418,0.72676016561518186,null,{"$f":"bdrate($D15:$D18,E15:E18,$L15:$L18,M15:M18)","v":2.137711521821295E-5},{"$f":"bdrate($D15:$D18,F15:F18,$L15:$L18,N15:N18)","v":1.2148117642940548E-6},{"$f":"bdrate($D15:$D18,G15:G18,$L15:$L18,O15:O18)","v":8.6796794172006031E-6},{"$f":"bdrateOld($D15:$D18,E15:E18,$L15:$L18,M15:M18)","v":1.5728411159043887E-5},{"$f":"bdrateOld($D15:$D18,F15:F18,$L15:$L18,N15:N18)","v":3.7413255002949342E-6},{"$f":"bdrateOld($D15:$D18,G15:G18,$L15:$L18,O15:O18)","v":8.2796426739140117E-6}]
["4K",null,27,8628.5424000000003,39.381350666666698,41.3266876666667,42.384542000000003,275934.02,142.566,76.648338888888901,null,{"$f":"Test!B118","v":8628.5424000000003},{"$f":"Test!C118","v":39.381300000000003},{"$f":"Test!D118","v":41.326700000000002},{"$f":"Test!E118","v":42.384500000000003},{"$f":"Test!F118","v":229737.09},{"$f":"Test!G118","v":109.48},63.815858333333331,0.8325797957062343,0.76792503121361333]
[null,null,32,4239.68,38.114744000000002,40.746734333333301,41.219194000000002,197420.94500000001,123.35599999999999,54.839151388888894,null,{"$f":"Test!B119","v":4239.68},{"$f":"Test!C119","v":38.114699999999999},{"$f":"Test!D119","v":40.746699999999997},{"$f":"Test!E119","v":41.219200000000001},{"$f":"Test!F119","v":150618.71},{"$f":"Test!G119","v":92.16},41.83853055555555,0.76293176491481174,0.74710593728720132]
[null,null,37,2272.5792000000001,36.378502666666698,40.092646666666703,40.0308213333333,134815.774,112.34099999999999,37.44882611111111,null,{"$f":"Test!B120","v":2272.5792000000001},{"$f":"Test!C120","v":36.378500000000003},{"$f":"Test!D120","v":40.092599999999997},{"$f":"Test!E120","v":40.030799999999999},{"$f":"Test!F120","v":94918.720000000001},{"$f":"Test!G120","v":79.94},26.366311111111113,0.70406241928336954,0.71158348243294967]
[null,"DaylightRoad2",22,56872.398399999998,38.151958333333297,45.623812666666701,43.380693333333298,610588.09900000005,225.40299999999999,169.6078052777778,null,{"$f":"Test!B121","v":56872.398399999998},{"$f":"Test!C121","v":38.152000000000001},{"$f":"Test!D121","v":45.623800000000003},{"$f":"Test!E121","v":43.380699999999997},{"$f":"Test!F121","v":651421.59},{"$f":"Test!G121","v":183.42},180.95044166666665,1.0668756745617474,0.81374249677244759,null,{"$f":"bdrate($D19:$D22,E19:E22,$L19:$L22,M19:M22)","v":-4.5570889617430055E-8},{"$f":"bdrate($D19:$D22,F19:F22,$L19:$L22,N19:N22)","v":2.2262362030289751E-5},{"$f":"bdrate($D19:$D22,G19:G22,$L19:$L22,O19:O22)","v":-6.0164345545565823E-6},{"$f":"bdrateOld($D19:$D22,E19:E22,$L19:$L22,M19:M22)","v":-5.1273616715752368E-6},{"$f":"bdrateOld($D19:$D22,F19:F22,$L19:$L22,N19:N22)","v":2.0694406428267698E-5},{"$f":"bdrateOld($D19:$D22,G19:G22,$L19:$L22,O19:O22)","v":-5.8607724390258298E-6}]
[null,null,27,10305.6368,37.2317173333333,44.837721000000002,42.423918,277382.96100000001,154.21700000000001,77.05082250000001,null,{"$f":"Test!B122","v":10305.6368},{"$f":"Test!C122","v":37.231699999999996},{"$f":"Test!D122","v":44.837699999999998},{"$f":"Test!E122","v":42.423900000000003},{"$f":"Test!F122","v":285546.59000000003},{"$f":"Test!G122","v":121.41},79.318497222222234,1.0294308957210967,0.78726729219217073]
[null,null,32,4254.8447999999999,36.296312333333297,44.008423666666701,41.452057000000003,174302.97500000001,125.73699999999999,48.41749305555556,null,{"$f":"Test!B123","v":4254.8447999999999},{"$f":"Test!C123","v":36.296300000000002},{"$f":"Test!D123","v":44.008400000000002},{"$f":"Test!E123","v":41.452100000000002},{"$f":"Test!F123","v":164449.84},{"$f":"Test!G123","v":95.45},45.680511111111109,0.94347121728702565,0.75912420369501421]
[null,null,37,2155.2512000000002,34.932395,43.075384333333297,40.399103666666697,114962.038,108.874,31.933899444444446,null,{"$f":"Test!B124","v":2155.2512000000002},{"$f":"Test!C124","v":34.932400000000001},{"$f":"Test!D124","v":43.075400000000002},{"$f":"Test!E124","v":40.399099999999997},{"$f":"Test!F124","v":98802.66},{"$f":"Test!G124","v":76.760000000000005},27.445183333333333,0.85943726919663688,0.70503517827947915]
[null,"ParkRunning3",22,110968.10533333301,43.116627666666702,37.941500333333302,38.862202000000003,668269.48100000003,288.49700000000001,185.63041138888889,null,{"$f":"Test!B125","v":110968.1053},{"$f":"Test!C125","v":43.116599999999998},{"$f":"Test!D125","v":37.941499999999998},{"$f":"Test!E125","v":38.862200000000001},{"$f":"Test!F125","v":625300.87},{"$f":"Test!G125","v":218.79},173.69468611111111,0.93570167092517575,0.7583787699698783,null,{"$f":"bdrate($D23:$D26,E23:E26,$L23:$L26,M23:M26)","v":2.5904542553245591E-6},{"$f":"bdrate($D23:$D26,F23:F26,$L23:$L26,N23:N26)","v":-2.1244688773736087E-6},{"$f":"bdrate($D23:$D26,G23:G26,$L23:$L26,O23:O26)","v":3.2050741838318686E-8},{"$f":"bdrateOld($D23:$D26,E23:E26,$L23:$L26,M23:M26)","v":3.2622522074809979E-6},{"$f":"bdrateOld($D23:$D26,F23:F26,$L23:$L26,N23:N26)","v":-2.1922865365286981E-6},{"$f":"bdrateOld($D23:$D26,G23:G26,$L23:$L26,O23:O26)","v":-3.5258631573276134E-6}]
[null,null,27,43737.802666666699,39.183533666666698,35.035395666666702,36.296288666666698,469060.37699999998,233.59700000000001,130.29454916666666,null,{"$f":"Test!B126","v":43737.8027},{"$f":"Test!C126","v":39.183500000000002},{"$f":"Test!D126","v":35.035400000000003},{"$f":"Test!E126","v":36.296300000000002},{"$f":"Test!F126","v":398598.15},{"$f":"Test!G126","v":194.4},110.72170833333334,0.84978004867804058,0.83220246835361755]
[null,null,32,20674.2546666667,35.965671666666701,33.311493333333303,34.759925000000003,363877.408,194.57,101.07705777777778,null,{"$f":"Test!B127","v":20674.254700000001},{"$f":"Test!C127","v":35.965699999999998},{"$f":"Test!D127","v":33.311500000000002},{"$f":"Test!E127","v":34.759900000000002},{"$f":"Test!F127","v":280573.94},{"$f":"Test!G127","v":159.22},77.937205555555551,0.771067216132308,0.81831731510510364]
[null,null,37,9256.9,33.055418666666696,31.8306896666667,33.443682000000003,278513.71500000003,164.714,77.364920833333343,null,{"$f":"Test!B128","v":9256.9},{"$f":"Test!C128","v":33.055399999999999},{"$f":"Test!D128","v":31.8307},{"$f":"Test!E128","v":33.4437},{"$f":"Test!F128","v":195539.05},{"$f":"Test!G128","v":131.16999999999999},54.316402777777775,0.70208050616106987,0.79635003703388896]
["Class B","MarketPlace",22,14159.456,40.819050500000003,44.294878500000003,45.221888499999999,247658.084,101.419,68.793912222222218,null,{"$f":"Test!B129","v":14159.456},{"$f":"Test!C129","v":40.819099999999999},{"$f":"Test!D129","v":44.294899999999998},{"$f":"Test!E129","v":45.221899999999998},{"$f":"Test!F129","v":234940.25},{"$f":"Test!G129","v":89.16},65.261180555555555,0.94864761208440906,0.87912521322434656,null,{"$f":"bdrate($D27:$D30,E27:E30,$L27:$L30,M27:M30)","v":9.9911573681055188E-6},{"$f":"bdrate($D27:$D30,F27:F30,$L27:$L30,N27:N30)","v":-6.6704133315775849E-6},{"$f":"bdrate($D27:$D30,G27:G30,$L27:$L30,O27:O30)","v":-2.6586280492679748E-6},{"$f":"bdrateOld($D27:$D30,E27:E30,$L27:$L30,M27:M30)","v":9.3458505849852713E-6},{"$f":"bdrateOld($D27:$D30,F27:F30,$L27:$L30,N27:N30)","v":-5.8520002697015627E-6},{"$f":"bdrateOld($D27:$D30,G27:G30,$L27:$L30,O27:O30)","v":-2.4525358042204459E-6}]
["1080p",null,27,5420.2752,38.717454833333299,42.801188500000002,43.917094333333303,157709.37,78.825999999999993,43.808158333333331,null,{"$f":"Test!B130","v":5420.2752},{"$f":"Test!C130","v":38.717399999999998},{"$f":"Test!D130","v":42.801200000000001},{"$f":"Test!E130","v":43.917099999999998},{"$f":"Test!F130","v":134199.07999999999},{"$f":"Test!G130","v":62.81},37.277522222222217,0.85092648585179176,0.79681830867987724]
[null,null,32,2459.8760000000002,36.532036833333301,41.625283666666697,42.737793166666698,119418.83,66.037000000000006,33.171897222222221,null,{"$f":"Test!B131","v":2459.8760000000002},{"$f":"Test!C131","v":36.531999999999996},{"$f":"Test!D131","v":41.625300000000003},{"$f":"Test!E131","v":42.7378},{"$f":"Test!F131","v":91657.85},{"$f":"Test!G131","v":51.19},25.46051388888889,0.76753264120909581,0.77517149476808445]
[null,null,37,1102.2248,34.229299500000003,40.536827000000002,41.6128206666667,83628.474000000002,56.579000000000001,23.230131666666669,null,{"$f":"Test!B132","v":1102.2248},{"$f":"Test!C132","v":34.229300000000002},{"$f":"Test!D132","v":40.536799999999999},{"$f":"Test!E132","v":41.6128},{"$f":"Test!F132","v":59250.44},{"$f":"Test!G132","v":43.69},16.458455555555556,0.70849600818974645,0.77219463051662274]
[null,"RitualDance",22,9364.9959999999992,44.496359833333301,47.536366333333298,48.579198833333301,228701.93700000001,95.194999999999993,63.528315833333338,null,{"$f":"Test!B133","v":9364.9959999999992},{"$f":"Test!C133","v":44.496400000000001},{"$f":"Test!D133","v":47.5364},{"$f":"Test!E133","v":48.5792},{"$f":"Test!F133","v":213912.37},{"$f":"Test!G133","v":80.14},59.420102777777778,0.93533256782167085,0.84185093754924112,null,{"$f":"bdrate($D31:$D34,E31:E34,$L31:$L34,M31:M34)","v":-1.2586904218903072E-7},{"$f":"bdrate($D31:$D34,F31:F34,$L31:$L34,N31:N34)","v":-3.6969786614271527E-6},{"$f":"bdrate($D31:$D34,G31:G34,$L31:$L34,O31:O34)","v":-1.0179783922481533E-6},{"$f":"bdrateOld($D31:$D34,E31:E34,$L31:$L34,M31:M34)","v":-3.8444471262000235E-7},{"$f":"bdrateOld($D31:$D34,F31:F34,$L31:$L34,N31:N34)","v":-4.8388462251525155E-6},{"$f":"bdrateOld($D31:$D34,G31:G34,$L31:$L34,O31:O34)","v":-2.5525271014625872E-6}]
[null,null,27,4629.2864,41.347173499999997,45.417702333333303,46.2343683333333,174102.405,80.355999999999995,48.361779166666665,null,{"$f":"Test!B134","v":4629.2864},{"$f":"Test!C134","v":41.347200000000001},{"$f":"Test!D134","v":45.417700000000004},{"$f":"Test!E134","v":46.234400000000001},{"$f":"Test!F134","v":149551.04999999999},{"$f":"Test!G134","v":70.010000000000005},41.541958333333334,0.85898325183962843,0.87124794663746341]
[null,null,32,2466.5272,38.295569166666702,43.914612666666699,44.546035833333299,136862.56299999999,68.525000000000006,38.017378611111113,null,{"$f":"Test!B135","v":2466.5192000000002},{"$f":"Test!C135","v":38.295499999999997},{"$f":"Test!D135","v":43.9146},{"$f":"Test!E135","v":44.545999999999999},{"$f":"Test!F135","v":106713.17},{"$f":"Test!G135","v":58.33},29.642547222222223,0.7797104457264914,0.85122218168551611]
[null,null,37,1292.2983999999999,35.337567499999999,42.625438666666703,43.037211166666701,97873.748999999996,59.478999999999999,27.1871525,null,{"$f":"Test!B136","v":1292.2983999999999},{"$f":"Test!C136","v":35.337600000000002},{"$f":"Test!D136","v":42.625500000000002},{"$f":"Test!E136","v":43.037199999999999},{"$f":"Test!F136","v":70851.78},{"$f":"Test!G136","v":48.25},19.681049999999999,0.72390994238914874,0.81121067939945191]
[null,"Cactus",22,14682.135200000001,38.677123600000002,40.223209199999999,43.984141200000003,221482.641,90.114999999999995,{"$f":"H35/3600","v":61.522955833333334},null,{"$f":"Test!B137","v":14682.135200000001},{"$f":"Test!C137","v":38.677100000000003},{"$f":"Test!D137","v":40.223199999999999},{"$f":"Test!E137","v":43.984099999999998},{"$f":"Test!F137","v":207142.76},{"$f":"Test!G137","v":77.27},{"$f":"P35/3600","v":57.539655555555555},{"$f":"P35/H35","v":0.93525505685115973},{"$f":"Q35/I35","v":0.85745991233423957},null,{"$f":"bdrate($D35:$D38,E35:E38,$L35:$L38,M35:M38)","v":-4.8268531743778098E-6},{"$f":"bdrate($D35:$D38,F35:F38,$L35:$L38,N35:N38)","v":2.8209654923783134E-5},{"$f":"bdrate($D35:$D38,G35:G38,$L35:$L38,O35:O38)","v":5.1472059263035774E-5},{"$f":"bdrateOld($D35:$D38,E35:E38,$L35:$L38,M35:M38)","v":-2.7158691363604603E-6},{"$f":"bdrateOld($D35:$D38,F35:F38,$L35:$L38,N35:N38)","v":2.7664046683195664E-5},{"$f":"bdrateOld($D35:$D38,G35:G38,$L35:$L38,O35:O38)","v":5.1093943635782679E-5}]
[null,null,27,4349.6607999999997,37.1542222,39.399241199999999,42.484293800000003,139828.96100000001,60.262,38.841378055555559,null,{"$f":"Test!B138","v":4349.7816000000003},{"$f":"Test!C138","v":37.154299999999999},{"$f":"Test!D138","v":39.3992},{"$f":"Test!E138","v":42.484200000000001},{"$f":"Test!F138","v":115437.94},{"$f":"Test!G138","v":48.46},32.066094444444445,0.82556531332589955,0.80415518900799843]
[null,null,32,2027.7447999999999,35.470185000000001,38.770079600000003,41.148256199999999,107598.958,50.851999999999997,29.888599444444445,null,{"$f":"Test!B139","v":2027.7447999999999},{"$f":"Test!C139","v":35.470199999999998},{"$f":"Test!D139","v":38.770099999999999},{"$f":"Test!E139","v":41.148200000000003},{"$f":"Test!F139","v":78721.55},{"$f":"Test!G139","v":37.93},21.867097222222224,0.73162000323460386,0.74589003382364516]
[null,null,37,989.05439999999999,33.370430800000001,38.0105182,39.859786,75640.089000000007,45.637999999999998,21.011135833333334,null,{"$f":"Test!B140","v":989.05439999999999},{"$f":"Test!C140","v":33.370399999999997},{"$f":"Test!D140","v":38.0105},{"$f":"Test!E140","v":39.8598},{"$f":"Test!F140","v":51929.21},{"$f":"Test!G140","v":33.76},14.424780555555555,0.6865302604284349,0.73973443183312149]
[null,"BasketballDrive",22,14299.208000000001,39.4206766,44.226544799999999,45.742603199999998,279149.55800000002,92.775000000000006,77.541543888888896,null,{"$f":"Test!B141","v":14299.208000000001},{"$f":"Test!C141","v":39.420699999999997},{"$f":"Test!D141","v":44.226500000000001},{"$f":"Test!E141","v":45.742600000000003},{"$f":"Test!F141","v":255219.63},{"$f":"Test!G141","v":77.73},70.894341666666662,0.91427560132479235,0.83783346806790626,null,{"$f":"bdrate($D39:$D42,E39:E42,$L39:$L42,M39:M42)","v":-6.1227111174400051E-6},{"$f":"bdrate($D39:$D42,F39:F42,$L39:$L42,N39:N42)","v":2.6198118260101211E-5},{"$f":"bdrate($D39:$D42,G39:G42,$L39:$L42,O39:O42)","v":1.3045960937319023E-5},{"$f":"bdrateOld($D39:$D42,E39:E42,$L39:$L42,M39:M42)","v":-6.316546347528984E-6},{"$f":"bdrateOld($D39:$D42,F39:F42,$L39:$L42,N39:N42)","v":2.6864125451053766E-5},{"$f":"bdrateOld($D39:$D42,G39:G42,$L39:$L42,O39:O42)","v":1.3145399652358947E-5}]
[null,null,27,4625.1927999999998,37.7765992,43.128540999999998,43.937229199999997,186193.81599999999,70.3,51.720504444444444,null,{"$f":"Test!B142","v":4625.1927999999998},{"$f":"Test!C142","v":37.776600000000002},{"$f":"Test!D142","v":43.128500000000003},{"$f":"Test!E142","v":43.937199999999997},{"$f":"Test!F142","v":154037.03},{"$f":"Test!G142","v":60.46},42.788063888888885,0.82729401711171768,0.86002844950213375]
[null,null,32,2185.7328000000002,36.070371600000001,42.133307000000002,42.474227800000001,137333.23499999999,61.286000000000001,38.14812083333333,null,{"$f":"Test!B143","v":2185.7328000000002},{"$f":"Test!C143","v":36.070399999999999},{"$f":"Test!D143","v":42.133299999999998},{"$f":"Test!E143","v":42.474200000000003},{"$f":"Test!F143","v":101327.44},{"$f":"Test!G143","v":48.97},28.146511111111113,0.7378216933432028,0.7990405639134549]
[null,null,37,1102.9456,34.086915400000002,41.129244399999997,40.981631999999998,92159.171000000002,53.31,25.599769722222224,null,{"$f":"Test!B144","v":1102.9456},{"$f":"Test!C144","v":34.0869},{"$f":"Test!D144","v":41.129199999999997},{"$f":"Test!E144","v":40.9816},{"$f":"Test!F144","v":63694.38},{"$f":"Test!G144","v":43.12},17.692883333333331,0.69113447211889523,0.80885387356968663]
[null,"BQTerrace",22,32127.4208,37.419324500000002,42.508972999999997,44.732899000000003,254962.36,147.35,70.822877777777776,null,{"$f":"Test!B145","v":32127.4208},{"$f":"Test!C145","v":37.4193},{"$f":"Test!D145","v":42.509},{"$f":"Test!E145","v":44.732900000000001},{"$f":"Test!F145","v":242847.26},{"$f":"Test!G145","v":126.28},67.457572222222225,0.95248279000868996,0.85700712589073635,null,{"$f":"bdrate($D43:$D46,E43:E46,$L43:$L46,M43:M46)","v":1.3368946101932622E-5},{"$f":"bdrate($D43:$D46,F43:F46,$L43:$L46,N43:N46)","v":-3.0405448662507162E-5},{"$f":"bdrate($D43:$D46,G43:G46,$L43:$L46,O43:O46)","v":1.2335717118228118E-5},{"$f":"bdrateOld($D43:$D46,E43:E46,$L43:$L46,M43:M46)","v":1.1275149293332731E-5},{"$f":"bdrateOld($D43:$D46,F43:F46,$L43:$L46,N43:N46)","v":-2.9924575645656759E-5},{"$f":"bdrateOld($D43:$D46,G43:G46,$L43:$L46,O43:O46)","v":1.1708659414688682E-5}]
[null,null,27,5540.9719999999998,35.462198833333296,41.471588166666699,43.805795500000002,124076.236,76.001999999999995,34.465621111111112,null,{"$f":"Test!B146","v":5540.9719999999998},{"$f":"Test!C146","v":35.462200000000003},{"$f":"Test!D146","v":41.471600000000002},{"$f":"Test!E146","v":43.805799999999998},{"$f":"Test!F146","v":101718.21},{"$f":"Test!G146","v":62.53},28.255058333333334,0.81980412429661387,0.82274150680245262]
[null,null,32,1737.3520000000001,34.1762406666667,40.3891426666667,42.893329833333297,83415.960999999996,57.302999999999997,23.171100277777775,null,{"$f":"Test!B147","v":1737.3520000000001},{"$f":"Test!C147","v":34.176200000000001},{"$f":"Test!D147","v":40.389200000000002},{"$f":"Test!E147","v":42.893300000000004},{"$f":"Test!F147","v":60917.27},{"$f":"Test!G147","v":42.05},16.921463888888887,0.7302831408967404,0.73381847372737896]
[null,null,37,775.37120000000004,32.637936166666698,39.277021833333301,41.985439333333296,57020.52,49.771000000000001,15.839033333333333,null,{"$f":"Test!B148","v":775.37120000000004},{"$f":"Test!C148","v":32.637900000000002},{"$f":"Test!D148","v":39.277000000000001},{"$f":"Test!E148","v":41.985399999999998},{"$f":"Test!F148","v":39099.71},{"$f":"Test!G148","v":34.74},10.861030555555555,0.6857129678929621,0.69799682546060959]
["Class C","BasketballDrill",22,2856.6552000000001,41.313535799999997,43.761985799999998,44.567774999999997,46354.137000000002,15.718999999999999,12.876149166666668,null,{"$f":"Test!B149","v":2856.6552000000001},{"$f":"Test!C149","v":41.313499999999998},{"$f":"Test!D149","v":43.762},{"$f":"Test!E149","v":44.567799999999998},{"$f":"Test!F149","v":41340.51},{"$f":"Test!G149","v":15.38},11.483475,0.89184078650844045,0.97843374260449145,null,{"$f":"bdrate($D47:$D50,E47:E50,$L47:$L50,M47:M50)","v":3.8966624487102308E-6},{"$f":"bdrate($D47:$D50,F47:F50,$L47:$L50,N47:N50)","v":4.8887955059750965E-6},{"$f":"bdrate($D47:$D50,G47:G50,$L47:$L50,O47:O50)","v":-5.790973281571965E-6},{"$f":"bdrateOld($D47:$D50,E47:E50,$L47:$L50,M47:M50)","v":3.9410510765947038E-6},{"$f":"bdrateOld($D47:$D50,F47:F50,$L47:$L50,N47:N50)","v":5.4811430429957397E-6},{"$f":"bdrateOld($D47:$D50,G47:G50,$L47:$L50,O47:O50)","v":-5.5887979053537151E-6}]
["WVGA",null,27,1310.5719999999999,38.109448200000003,41.5670164,41.9750978,35168.156999999999,12.167,9.7689325,null,{"$f":"Test!B150","v":1310.5719999999999},{"$f":"Test!C150","v":38.109400000000001},{"$f":"Test!D150","v":41.567},{"$f":"Test!E150","v":41.975099999999998},{"$f":"Test!F150","v":29610.95},{"$f":"Test!G150","v":11.56},8.2252638888888896,0.84198185307236884,0.95011095586422301]
[null,null,32,661.6096,35.209494399999997,39.849708,40.091779199999998,28078.78,9.9079999999999995,7.7996611111111109,null,{"$f":"Test!B151","v":661.6096},{"$f":"Test!C151","v":35.209499999999998},{"$f":"Test!D151","v":39.849699999999999},{"$f":"Test!E151","v":40.091799999999999},{"$f":"Test!F151","v":21475.4},{"$f":"Test!G151","v":9.33},5.9653888888888895,0.76482667694251683,0.94166330238191365]
[null,null,37,339.27440000000001,32.601447399999998,38.330240600000003,38.3841508,20466.310000000001,8.4169999999999998,5.6850861111111115,null,{"$f":"Test!B152","v":339.27440000000001},{"$f":"Test!C152","v":32.601500000000001},{"$f":"Test!D152","v":38.330199999999998},{"$f":"Test!E152","v":38.3842},{"$f":"Test!F152","v":14048.82},{"$f":"Test!G152","v":6.83},3.90245,0.68643639229543574,0.81145301176191043]
[null,"BQMall",22,2894.8824,40.509350333333302,44.1134725,45.868665,41794.423999999999,17.308,11.609562222222221,null,{"$f":"Test!B153","v":2894.8824},{"$f":"Test!C153","v":40.509399999999999},{"$f":"Test!D153","v":44.113500000000002},{"$f":"Test!E153","v":45.868699999999997},{"$f":"Test!F153","v":37305.46},{"$f":"Test!G153","v":16.52},10.362627777777778,0.8925941891195821,0.95447192049919116,null,{"$f":"bdrate($D51:$D54,E51:E54,$L51:$L54,M51:M54)","v":-1.1980499370123354E-5},{"$f":"bdrate($D51:$D54,F51:F54,$L51:$L54,N51:N54)","v":7.3238130093855602E-7},{"$f":"bdrate($D51:$D54,G51:G54,$L51:$L54,O51:O54)","v":6.4213022787917851E-6},{"$f":"bdrateOld($D51:$D54,E51:E54,$L51:$L54,M51:M54)","v":-1.1933341421244137E-5},{"$f":"bdrateOld($D51:$D54,F51:F54,$L51:$L54,N51:N54)","v":1.0590366530394135E-6},{"$f":"bdrateOld($D51:$D54,G51:G54,$L51:$L54,O51:O54)","v":7.9182078227546526E-6}]
[null,null,27,1293.2447999999999,37.990254999999998,42.354431666666699,43.724858666666698,31390.368999999999,13.157999999999999,8.7195469444444438,null,{"$f":"Test!B154","v":1293.2447999999999},{"$f":"Test!C154","v":37.990299999999998},{"$f":"Test!D154","v":42.354399999999998},{"$f":"Test!E154","v":43.724800000000002},{"$f":"Test!F154","v":25472.080000000002},{"$f":"Test!G154","v":11.41},7.0755777777777782,0.81146163015796346,0.86715306277549786]
[null,null,32,650.95600000000002,35.339444833333303,40.841791833333303,41.971782666666698,24841.985000000001,10.888999999999999,6.9005513888888892,null,{"$f":"Test!B155","v":650.95600000000002},{"$f":"Test!C155","v":35.339500000000001},{"$f":"Test!D155","v":40.841799999999999},{"$f":"Test!E155","v":41.971800000000002},{"$f":"Test!F155","v":18421.689999999999},{"$f":"Test!G155","v":9.3800000000000008},5.1171361111111109,0.74155467045004653,0.86141978143080189]
[null,null,37,334.54,32.599003000000003,39.440361500000002,40.400024166666697,18855.137999999999,9.3170000000000002,5.2375383333333332,null,{"$f":"Test!B156","v":334.54},{"$f":"Test!C156","v":32.598999999999997},{"$f":"Test!D156","v":39.440399999999997},{"$f":"Test!E156","v":40.4},{"$f":"Test!F156","v":13152.85},{"$f":"Test!G156","v":7.51},3.6535694444444444,0.69757378598873165,0.80605345068154977]
[null,"PartyScene",22,5576.0695999999998,38.755349000000002,42.241650800000002,43.496850000000002,44945.152999999998,20.437000000000001,12.484764722222222,null,{"$f":"Test!B157","v":5576.0695999999998},{"$f":"Test!C157","v":38.755400000000002},{"$f":"Test!D157","v":42.241700000000002},{"$f":"Test!E157","v":43.496899999999997},{"$f":"Test!F157","v":39645.07},{"$f":"Test!G157","v":20.29},11.012519444444445,0.88207665017849646,0.99280716347800546,null,{"$f":"bdrate($D55:$D58,E55:E58,$L55:$L58,M55:M58)","v":-6.9164164707702369E-6},{"$f":"bdrate($D55:$D58,F55:F58,$L55:$L58,N55:N58)","v":4.1656319194061098E-7},{"$f":"bdrate($D55:$D58,G55:G58,$L55:$L58,O55:O58)","v":-1.9497517637079298E-6},{"$f":"bdrateOld($D55:$D58,E55:E58,$L55:$L58,M55:M58)","v":-6.9373660137594939E-6},{"$f":"bdrateOld($D55:$D58,F55:F58,$L55:$L58,N55:N58)","v":-1.7560815771533456E-6},{"$f":"bdrateOld($D55:$D58,G55:G58,$L55:$L58,O55:O58)","v":-3.4125315567790082E-6}]
[null,null,27,2461.8303999999998,35.309973999999997,39.824984399999998,40.953361999999998,33877.322999999997,15.305,9.4103674999999996,null,{"$f":"Test!B158","v":2461.8303999999998},{"$f":"Test!C158","v":35.31},{"$f":"Test!D158","v":39.825000000000003},{"$f":"Test!E158","v":40.953400000000002},{"$f":"Test!F158","v":26927.37},{"$f":"Test!G158","v":14.76},7.4798249999999999,0.79484940412794725,0.96439072198627895]
[null,null,32,1188.9680000000001,32.268478000000002,38.095745000000001,39.055139799999999,27387.003000000001,12.364000000000001,7.6075008333333338,null,{"$f":"Test!B159","v":1188.9680000000001},{"$f":"Test!C159","v":32.268500000000003},{"$f":"Test!D159","v":38.095700000000001},{"$f":"Test!E159","v":39.055100000000003},{"$f":"Test!F159","v":19912.38},{"$f":"Test!G159","v":11.27},5.5312166666666673,0.72707407962820902,0.91151730831446121]
[null,null,37,558.1096,29.419073399999998,36.594290999999998,37.381227000000003,20295.248,10.068,5.6375688888888886,null,{"$f":"Test!B160","v":558.1096},{"$f":"Test!C160","v":29.4191},{"$f":"Test!D160","v":36.594299999999997},{"$f":"Test!E160","v":37.3812},{"$f":"Test!F160","v":14084.03},{"$f":"Test!G160","v":8.5},3.9122305555555559,0.69395702875865328,0.84425903853794204]
[null,"RaceHorses",22,4204.7352000000001,39.383197666666703,41.647188333333297,43.195969666666699,38057.985999999997,14.105,10.571662777777776,null,{"$f":"Test!B161","v":4204.7352000000001},{"$f":"Test!C161","v":39.383200000000002},{"$f":"Test!D161","v":41.647199999999998},{"$f":"Test!E161","v":43.195999999999998},{"$f":"Test!F161","v":34286.74},{"$f":"Test!G161","v":13.83},9.5240944444444438,0.90090789354959566,0.98050336760014178,null,{"$f":"bdrate($D59:$D62,E59:E62,$L59:$L62,M59:M62)","v":3.4441294012310664E-6},{"$f":"bdrate($D59:$D62,F59:F62,$L59:$L62,N59:N62)","v":-1.1658779191736635E-5},{"$f":"bdrate($D59:$D62,G59:G62,$L59:$L62,O59:O62)","v":3.2615071337005475E-6},{"$f":"bdrateOld($D59:$D62,E59:E62,$L59:$L62,M59:M62)","v":3.5810882130782318E-6},{"$f":"bdrateOld($D59:$D62,F59:F62,$L59:$L62,N59:N62)","v":-1.0183820692510892E-5},{"$f":"bdrateOld($D59:$D62,G59:G62,$L59:$L62,O59:O62)","v":4.833531804138147E-6}]
[null,null,27,1615.9232,35.994936000000003,39.519379666666701,41.1586346666667,28128.044999999998,10.09,7.813345833333333,null,{"$f":"Test!B162","v":1615.9232},{"$f":"Test!C162","v":35.994900000000001},{"$f":"Test!D162","v":39.519399999999997},{"$f":"Test!E162","v":41.1586},{"$f":"Test!F162","v":23248.38},{"$f":"Test!G162","v":9.84},6.4578833333333332,0.82651958214657306,0.97522299306243809]
[null,null,32,771.54880000000003,33.303605333333302,37.945447000000001,39.743793666666697,22817.817999999999,7.798,6.3382827777777777,null,{"$f":"Test!B163","v":771.54880000000003},{"$f":"Test!C163","v":33.303600000000003},{"$f":"Test!D163","v":37.945500000000003},{"$f":"Test!E163","v":39.7438},{"$f":"Test!F163","v":17015.68},{"$f":"Test!G163","v":6.82},4.726577777777778,0.74571898154328342,0.8745832264683252]
[null,null,37,372.6336,30.678865999999999,36.485017999999997,38.39208,16570.259999999998,6.3250000000000002,4.6028499999999992,null,{"$f":"Test!B164","v":372.6336},{"$f":"Test!C164","v":30.678899999999999},{"$f":"Test!D164","v":36.484999999999999},{"$f":"Test!E164","v":38.392099999999999},{"$f":"Test!F164","v":11576.46},{"$f":"Test!G164","v":5.37},3.2156833333333332,0.6986287481306872,0.84901185770750986]
["Class D","BasketballPass",{"$f":"C59","v":22},1275.3504,41.313822199999997,44.688518600000002,43.836696000000003,12127.996999999999,4.859,3.3688880555555554,null,{"$f":"Test!B165","v":1275.3504},{"$f":"Test!C165","v":41.313800000000001},{"$f":"Test!D165","v":44.688499999999998},{"$f":"Test!E165","v":43.8367},{"$f":"Test!F165","v":10511.38},{"$f":"Test!G165","v":4.95},2.9198277777777775,0.86670371043132677,1.0187281333607738,null,{"$f":"bdrate($D63:$D66,E63:E66,$L63:$L66,M63:M66)","v":-7.8052373848613854E-6},{"$f":"bdrate($D63:$D66,F63:F66,$L63:$L66,N63:N66)","v":7.3676374647835274E-6},{"$f":"bdrate($D63:$D66,G63:G66,$L63:$L66,O63:O66)","v":-4.6367596284735413E-6},{"$f":"bdrateOld($D63:$D66,E63:E66,$L63:$L66,M63:M66)","v":-7.7707881601662976E-6},{"$f":"bdrateOld($D63:$D66,F63:F66,$L63:$L66,N63:N66)","v":6.0831820802853542E-6},{"$f":"bdrateOld($D63:$D66,G63:G66,$L63:$L66,O63:O66)","v":-4.5284861666106124E-6}]
["WQVGA",null,{"$f":"C60","v":27},602.29359999999997,37.229235600000003,42.159607399999999,40.8763936,10166.201999999999,3.7320000000000002,2.8239449999999997,null,{"$f":"Test!B166","v":602.29359999999997},{"$f":"Test!C166","v":37.229300000000002},{"$f":"Test!D166","v":42.159599999999998},{"$f":"Test!E166","v":40.876399999999997},{"$f":"Test!F166","v":8106.85},{"$f":"Test!G166","v":3.52},2.251902777777778,0.79743152850986054,0.94319399785637725]
[null,null,{"$f":"C61","v":32},304.00799999999998,33.9219522,40.372743399999997,38.895679000000001,8275.2759999999998,2.9510000000000001,2.2986877777777779,null,{"$f":"Test!B167","v":304.00799999999998},{"$f":"Test!C167","v":33.921999999999997},{"$f":"Test!D167","v":40.372700000000002},{"$f":"Test!E167","v":38.895699999999998},{"$f":"Test!F167","v":6238.83},{"$f":"Test!G167","v":2.5},1.7330083333333333,0.75391201453582934,0.84717045069467978]
[null,null,{"$f":"C62","v":37},153.0712,31.002812599999999,38.743307600000001,37.087062400000001,6231.402,2.4380000000000002,1.730945,null,{"$f":"Test!B168","v":153.0712},{"$f":"Test!C168","v":31.002800000000001},{"$f":"Test!D168","v":38.743299999999998},{"$f":"Test!E168","v":37.0871},{"$f":"Test!F168","v":4344.2299999999996},{"$f":"Test!G168","v":1.93},1.2067305555555554,0.69715129917793772,0.79163248564397037]
[null,"BQSquare",22,1278.6600000000001,38.4534186666667,44.056957333333301,45.421052666666696,9957.6790000000001,5.3380000000000001,{"$f":"H67/3600","v":2.7660219444444443},null,{"$f":"Test!B169","v":1278.6600000000001},{"$f":"Test!C169","v":38.453400000000002},{"$f":"Test!D169","v":44.057000000000002},{"$f":"Test!E169","v":45.420999999999999},{"$f":"Test!F169","v":8918.41},{"$f":"Test!G169","v":5.42},{"$f":"P67/3600","v":2.4773361111111112},{"$f":"P67/H67","v":0.89563140165494382},{"$f":"Q67/I67","v":1.0153615586361933},null,{"$f":"bdrate($D67:$D70,E67:E70,$L67:$L70,M67:M70)","v":1.8346298833460395E-6},{"$f":"bdrate($D67:$D70,F67:F70,$L67:$L70,N67:N70)","v":-3.1950337375796778E-8},{"$f":"bdrate($D67:$D70,G67:G70,$L67:$L70,O67:O70)","v":-9.6614339055722809E-6},{"$f":"bdrateOld($D67:$D70,E67:E70,$L67:$L70,M67:M70)","v":2.7085249811875656E-6},{"$f":"bdrateOld($D67:$D70,F67:F70,$L67:$L70,N67:N70)","v":1.8010243263422154E-6},{"$f":"bdrateOld($D67:$D70,G67:G70,$L67:$L70,O67:O70)","v":-9.2926953855210215E-6}]
[null,null,27,467.61040000000003,35.243941333333296,41.893237333333303,43.176071999999998,5822.0879999999997,3.766,1.6172466666666665,null,{"$f":"Test!B170","v":467.61040000000003},{"$f":"Test!C170","v":35.243899999999996},{"$f":"Test!D170","v":41.8932},{"$f":"Test!E170","v":43.176099999999998},{"$f":"Test!F170","v":4697.7700000000004},{"$f":"Test!G170","v":3.38},1.3049361111111113,0.80688749465827392,0.89750398300584167]
[null,null,32,212.71440000000001,32.508747833333302,40.1925721666667,41.439545000000003,4334.7479999999996,3.0529999999999999,1.2040966666666666,null,{"$f":"Test!B171","v":212.71440000000001},{"$f":"Test!C171","v":32.508800000000001},{"$f":"Test!D171","v":40.192599999999999},{"$f":"Test!E171","v":41.439599999999999},{"$f":"Test!F171","v":3033.19},{"$f":"Test!G171","v":2.54},0.84255277777777782,0.69973848537446703,0.83196855551916149]
[null,null,37,112.0968,29.991120333333299,38.9687828333333,39.978990833333299,3234.933,2.6150000000000002,0.89859250000000002,null,{"$f":"Test!B172","v":112.0968},{"$f":"Test!C172","v":29.991099999999999},{"$f":"Test!D172","v":38.968800000000002},{"$f":"Test!E172","v":39.978999999999999},{"$f":"Test!F172","v":2174.6999999999998},{"$f":"Test!G172","v":2.2000000000000002},0.60408333333333331,0.67225503588482349,0.84130019120458888]
[null,"BlowingBubbles",22,1347.1448,38.550758199999997,41.949496400000001,43.1081164,9476.7630000000008,4.9109999999999996,2.6324341666666671,null,{"$f":"Test!B173","v":1347.1448},{"$f":"Test!C173","v":38.550800000000002},{"$f":"Test!D173","v":41.9495},{"$f":"Test!E173","v":43.1081},{"$f":"Test!F173","v":8579.41},{"$f":"Test!G173","v":4.4800000000000004},2.3831694444444445,0.90531017816948667,0.91223783343514575,null,{"$f":"bdrate($D71:$D74,E71:E74,$L71:$L74,M71:M74)","v":-8.4471509482764162E-6},{"$f":"bdrate($D71:$D74,F71:F74,$L71:$L74,N71:N74)","v":1.2274413686341745E-5},{"$f":"bdrate($D71:$D74,G71:G74,$L71:$L74,O71:O74)","v":-2.9003463545285157E-6},{"$f":"bdrateOld($D71:$D74,E71:E74,$L71:$L74,M71:M74)","v":-8.4869620872174423E-6},{"$f":"bdrateOld($D71:$D74,F71:F74,$L71:$L74,N71:N74)","v":1.2200804357043182E-5},{"$f":"bdrateOld($D71:$D74,G71:G74,$L71:$L74,O71:O74)","v":-3.3110222682486423E-6}]
[null,null,27,599.35040000000004,35.222545400000001,39.532649200000002,40.452887799999999,7240.4939999999997,3.6629999999999998,2.0112483333333331,null,{"$f":"Test!B174","v":599.35040000000004},{"$f":"Test!C174","v":35.2226},{"$f":"Test!D174","v":39.532600000000002},{"$f":"Test!E174","v":40.4529},{"$f":"Test!F174","v":6072.29},{"$f":"Test!G174","v":3.3},1.6867472222222222,0.83865686512550108,0.90090090090090091]
[null,null,32,289.548,32.209479000000002,37.669938199999997,38.403494600000002,5708.1369999999997,2.8580000000000001,1.5855936111111111,null,{"$f":"Test!B175","v":289.548},{"$f":"Test!C175","v":32.209499999999998},{"$f":"Test!D175","v":37.669899999999998},{"$f":"Test!E175","v":38.403500000000001},{"$f":"Test!F175","v":4443.6400000000003},{"$f":"Test!G175","v":2.3199999999999998},1.2343444444444445,0.77847465819408335,0.81175647305808252]
[null,null,37,135.43360000000001,29.338000999999998,35.978595800000001,36.620673600000003,4413.0159999999996,2.2930000000000001,1.2258377777777776,null,{"$f":"Test!B176","v":135.43360000000001},{"$f":"Test!C176","v":29.338000000000001},{"$f":"Test!D176","v":35.9786},{"$f":"Test!E176","v":36.620699999999999},{"$f":"Test!F176","v":3120.73},{"$f":"Test!G176","v":1.83},0.86686944444444447,0.70716489584447473,0.79808111644134316]
[null,"RaceHorses",22,1021.0504,39.946113666666697,42.043599,43.120214333333301,8254.8430000000008,3.6440000000000001,2.2930119444444448,null,{"$f":"Test!B177","v":1021.0504},{"$f":"Test!C177","v":39.946100000000001},{"$f":"Test!D177","v":42.043599999999998},{"$f":"Test!E177","v":43.120199999999997},{"$f":"Test!F177","v":7389.38},{"$f":"Test!G177","v":3.3},2.0526055555555556,0.89515693999268064,0.90559824368825459,null,{"$f":"bdrate($D75:$D78,E75:E78,$L75:$L78,M75:M78)","v":-1.1125497475505952E-6},{"$f":"bdrate($D75:$D78,F75:F78,$L75:$L78,N75:N78)","v":-1.2638830617639485E-6},{"$f":"bdrate($D75:$D78,G75:G78,$L75:$L78,O75:O78)","v":-4.9956500890457889E-6},{"$f":"bdrateOld($D75:$D78,E75:E78,$L75:$L78,M75:M78)","v":-5.5220675843070666E-7},{"$f":"bdrateOld($D75:$D78,F75:F78,$L75:$L78,N75:N78)","v":1.4129710097510184E-6},{"$f":"bdrateOld($D75:$D78,G75:G78,$L75:$L78,O75:O78)","v":-5.8679770309488788E-6}]
[null,null,27,481.11279999999999,36.027411333333298,39.417104000000002,40.615277333333303,6639.8270000000002,2.6789999999999998,1.844396388888889,null,{"$f":"Test!B178","v":481.11279999999999},{"$f":"Test!C178","v":36.0274},{"$f":"Test!D178","v":39.417099999999998},{"$f":"Test!E178","v":40.615299999999998},{"$f":"Test!F178","v":5430.11},{"$f":"Test!G178","v":2.39},1.5083638888888888,0.81780895797435682,0.89212392683837261]
[null,null,32,240.6824,32.752460333333303,37.5940643333333,38.921291333333301,5480.915,2.105,1.5224763888888888,null,{"$f":"Test!B179","v":240.6824},{"$f":"Test!C179","v":32.752499999999998},{"$f":"Test!D179","v":37.594099999999997},{"$f":"Test!E179","v":38.921300000000002},{"$f":"Test!F179","v":4225.8900000000003},{"$f":"Test!G179","v":1.76},1.1738583333333334,0.77101907254536883,0.83610451306413303]
[null,null,37,116.74720000000001,29.847218000000002,36.056049666666702,37.295280666666699,4214.1570000000002,1.6870000000000001,1.1705991666666666,null,{"$f":"Test!B180","v":116.74720000000001},{"$f":"Test!C180","v":29.847200000000001},{"$f":"Test!D180","v":36.055999999999997},{"$f":"Test!E180","v":37.295299999999997},{"$f":"Test!F180","v":2944.09},{"$f":"Test!G180","v":1.33},0.81780277777777777,0.69861896459956285,0.78838174273858919]
["ClassE","FourPeople",22]
["720p",null,27]
[null,null,32]
[null,null,37]
[null,"Johnny",22]
[null,null,27]
[null,null,32]
[null,null,37]
[null,"KristenAndSara",22]
[null,null,27]
[null,null,32]
[null,null,37]
["ClassF","BasketballDrillText",22,2952.4112,41.436057400000003,43.744758599999997,44.523980199999997,44088.989000000001,15.823,{"$f":"H91/3600","v":12.246941388888889},null,{"$f":"Test!B193","v":2952.4112},{"$f":"Test!C193","v":41.436100000000003},{"$f":"Test!D193","v":43.744799999999998},{"$f":"Test!E193","v":44.524000000000001},{"$f":"Test!F193","v":38503.03},{"$f":"Test!G193","v":15.23},{"$f":"P91/3600","v":10.695286111111111},{"$f":"P91/H91","v":0.87330262891716559},{"$f":"Q91/I91","v":0.96252290968842824},null,{"$f":"bdrate($D91:$D94,E91:E94,$L91:$L94,M91:M94)","v":6.3986724860853883E-6},{"$f":"bdrate($D91:$D94,F91:F94,$L91:$L94,N91:N94)","v":-2.6544746508649908E-6},{"$f":"bdrate($D91:$D94,G91:G94,$L91:$L94,O91:O94)","v":1.0049549976631766E-6},{"$f":"bdrateOld($D91:$D94,E91:E94,$L91:$L94,M91:M94)","v":6.5234665438396178E-6},{"$f":"bdrateOld($D91:$D94,F91:F94,$L91:$L94,N91:N94)","v":-1.7591068905975504E-6},{"$f":"bdrateOld($D91:$D94,G91:G94,$L91:$L94,O91:O94)","v":2.43058843540922E-6}]
[null,null,27,1387.5576000000001,38.156955600000003,41.300622199999999,41.717827,35129.49,12.138999999999999,9.7581916666666668,null,{"$f":"Test!B194","v":1387.5576000000001},{"$f":"Test!C194","v":38.1569},{"$f":"Test!D194","v":41.300600000000003},{"$f":"Test!E194","v":41.717799999999997},{"$f":"Test!F194","v":28156.87},{"$f":"Test!G194","v":12.27},7.8213527777777774,0.8015166175199242,1.0107916632342038]
[null,null,32,715.08479999999997,35.166226199999997,39.352071799999997,39.630975399999997,28174.839,9.92,7.8263441666666669,null,{"$f":"Test!B195","v":715.08479999999997},{"$f":"Test!C195","v":35.166200000000003},{"$f":"Test!D195","v":39.3521},{"$f":"Test!E195","v":39.631},{"$f":"Test!F195","v":20428.63},{"$f":"Test!G195","v":8.8800000000000008},5.6746194444444447,0.72506643250028868,0.89516129032258074]
[null,null,37,374.87439999999998,32.4456244,37.634182600000003,37.790120399999999,20259.897000000001,8.3759999999999994,5.6277491666666668,null,{"$f":"Test!B196","v":374.87439999999998},{"$f":"Test!C196","v":32.445599999999999},{"$f":"Test!D196","v":37.6342},{"$f":"Test!E196","v":37.790100000000002},{"$f":"Test!F196","v":14001.91},{"$f":"Test!G196","v":6.37},3.8894194444444445,0.69111456983221575,0.76050620821394466]
[null,"ArenaOfValor",22,11635.047200000001,43.0626118333333,45.163548833333302,45.759425499999999,155692.23000000001,94.078000000000003,43.247841666666666,null,{"$f":"Test!B197","v":11635.047200000001},{"$f":"Test!C197","v":43.062600000000003},{"$f":"Test!D197","v":45.163600000000002},{"$f":"Test!E197","v":45.759399999999999},{"$f":"Test!F197","v":142765.41},{"$f":"Test!G197","v":78.02},39.657058333333332,0.91697196449687945,0.82931184761580812,null,{"$f":"bdrate($D95:$D98,E95:E98,$L95:$L98,M95:M98)","v":-3.2234268795283683E-6},{"$f":"bdrate($D95:$D98,F95:F98,$L95:$L98,N95:N98)","v":-3.2927703773610872E-6},{"$f":"bdrate($D95:$D98,G95:G98,$L95:$L98,O95:O98)","v":3.7101283845153432E-7},{"$f":"bdrateOld($D95:$D98,E95:E98,$L95:$L98,M95:M98)","v":-3.5356771748151772E-6},{"$f":"bdrateOld($D95:$D98,F95:F98,$L95:$L98,N95:N98)","v":-2.0978342445410192E-6},{"$f":"bdrateOld($D95:$D98,G95:G98,$L95:$L98,O95:O98)","v":2.019545251696897E-6}]
[null,null,27,4999.1696000000002,39.730662500000001,42.567924499999997,42.960427500000002,117238.622,70.185000000000002,32.56628388888889,null,{"$f":"Test!B198","v":4999.1696000000002},{"$f":"Test!C198","v":39.730699999999999},{"$f":"Test!D198","v":42.567900000000002},{"$f":"Test!E198","v":42.9604},{"$f":"Test!F198","v":101901.24},{"$f":"Test!G198","v":51.46},28.305900000000001,0.86917807682864101,0.73320510080501533]
[null,null,32,2449.1167999999998,36.858704833333299,40.636474333333297,40.891250833333302,96363.504000000001,58.804000000000002,26.76764,null,{"$f":"Test!B199","v":2449.1167999999998},{"$f":"Test!C199","v":36.858699999999999},{"$f":"Test!D199","v":40.636499999999998},{"$f":"Test!E199","v":40.891300000000001},{"$f":"Test!F199","v":77076.34},{"$f":"Test!G199","v":44.13},21.410094444444443,0.79984990998251781,0.75045915243860961]
[null,null,37,1234.212,34.143791166666702,38.833061499999999,38.956616166666699,73788.298999999999,51.65,20.496749722222223,null,{"$f":"Test!B200","v":1234.212},{"$f":"Test!C200","v":34.143799999999999},{"$f":"Test!D200","v":38.833100000000002},{"$f":"Test!E200","v":38.956600000000002},{"$f":"Test!F200","v":53809.36},{"$f":"Test!G200","v":37.31},14.947044444444444,0.72923974030083005,0.72236205227492745]
[null,"SlideEditing",22,1276.0216,50.097305666666699,48.120437000000003,48.317163333333298,6787.8090000000002,10.523999999999999,1.8855025000000001,null,{"$f":"Test!B201","v":1276.0216},{"$f":"Test!C201","v":50.097299999999997},{"$f":"Test!D201","v":48.120399999999997},{"$f":"Test!E201","v":48.3172},{"$f":"Test!F201","v":6011.24},{"$f":"Test!G201","v":5.51},1.6697888888888888,0.88559356929459854,0.52356518434055499,null,{"$f":"bdrate($D99:$D102,E99:E102,$L99:$L102,M99:M102)","v":-1.4606360387858786E-7},{"$f":"bdrate($D99:$D102,F99:F102,$L99:$L102,N99:N102)","v":-1.0250910239539834E-6},{"$f":"bdrate($D99:$D102,G99:G102,$L99:$L102,O99:O102)","v":2.6055533077773418E-6},{"$f":"bdrateOld($D99:$D102,E99:E102,$L99:$L102,M99:M102)","v":-1.5441090817081005E-7},{"$f":"bdrateOld($D99:$D102,F99:F102,$L99:$L102,N99:N102)","v":-1.8718929278849217E-6},{"$f":"bdrateOld($D99:$D102,G99:G102,$L99:$L102,O99:O102)","v":3.0300721094445038E-6}]
[null,null,27,956.34479999999996,45.791204,43.568877333333297,44.191642000000002,6233.3770000000004,9.9670000000000005,1.7314936111111112,null,{"$f":"Test!B202","v":956.34479999999996},{"$f":"Test!C202","v":45.791200000000003},{"$f":"Test!D202","v":43.568899999999999},{"$f":"Test!E202","v":44.191600000000001},{"$f":"Test!F202","v":5171.58},{"$f":"Test!G202","v":5.54},1.43655,0.82965942858902963,0.55583425303501555]
[null,null,32,731.98800000000006,41.310588666666703,40.663903333333302,41.616616666666701,6022.6660000000002,9.4920000000000009,1.6729627777777778,null,{"$f":"Test!B203","v":731.98800000000006},{"$f":"Test!C203","v":41.310600000000001},{"$f":"Test!D203","v":40.663899999999998},{"$f":"Test!E203","v":41.616599999999998},{"$f":"Test!F203","v":4841.45},{"$f":"Test!G203","v":4.95},1.3448472222222221,0.80387157448213131,0.52149178255372941]
[null,null,37,556.16079999999999,36.474896666666702,38.909953999999999,40.051341999999998,5541.6559999999999,9.1530000000000005,1.5393488888888889,null,{"$f":"Test!B204","v":556.16079999999999},{"$f":"Test!C204","v":36.474899999999998},{"$f":"Test!D204","v":38.909999999999997},{"$f":"Test!E204","v":40.051299999999998},{"$f":"Test!F204","v":4355.38},{"$f":"Test!G204","v":5.21},1.2098277777777777,0.78593474585936052,0.56921228012673442]
[null,"SlideShow",22,669.19871999999998,52.118619600000002,55.392431600000002,56.493386000000001,16127.823,20.347999999999999,4.4799508333333335,null,{"$f":"Test!B205","v":669.19870000000003},{"$f":"Test!C205","v":52.118600000000001},{"$f":"Test!D205","v":55.392400000000002},{"$f":"Test!E205","v":56.493400000000001},{"$f":"Test!F205","v":15592.58},{"$f":"Test!G205","v":12.41},4.3312722222222222,0.96681244579631109,0.60988794967564386,null,{"$f":"bdrate($D103:$D106,E103:E106,$L103:$L106,M103:M106)","v":-1.5127005407178373E-6},{"$f":"bdrate($D103:$D106,F103:F106,$L103:$L106,N103:N106)","v":-1.0660075247193035E-5},{"$f":"bdrate($D103:$D106,G103:G106,$L103:$L106,O103:O106)","v":-9.746022373913199E-6},{"$f":"bdrateOld($D103:$D106,E103:E106,$L103:$L106,M103:M106)","v":-1.6601835706175905E-6},{"$f":"bdrateOld($D103:$D106,F103:F106,$L103:$L106,N103:N106)","v":-1.1750795073539599E-5},{"$f":"bdrateOld($D103:$D106,G103:G106,$L103:$L106,O103:O106)","v":-1.0633619302646835E-5}]
[null,null,27,395.33695999999998,48.207515800000003,52.494872399999998,53.695433199999997,13276.957,19.007999999999999,3.688043611111111,null,{"$f":"Test!B206","v":395.32769999999999},{"$f":"Test!C206","v":48.2074},{"$f":"Test!D206","v":52.494900000000001},{"$f":"Test!E206","v":53.695399999999999},{"$f":"Test!F206","v":12418.99},{"$f":"Test!G206","v":10.96},3.4497194444444443,0.93537924390355409,0.57659932659932667]
[null,null,32,252.11359999999999,44.6722252,50.005911400000002,51.375082399999997,11041.724,17.920999999999999,3.0671455555555558,null,{"$f":"Test!B207","v":252.11359999999999},{"$f":"Test!C207","v":44.672199999999997},{"$f":"Test!D207","v":50.005899999999997},{"$f":"Test!E207","v":51.375100000000003},{"$f":"Test!F207","v":9473.9},{"$f":"Test!G207","v":10.62},2.6316388888888889,0.85800912973372634,0.59260085932704643]
[null,null,37,163.98176000000001,41.108013399999997,47.794682399999999,49.5488742,8688.7749999999996,17.265000000000001,2.4135486111111111,null,{"$f":"Test!B208","v":163.98179999999999},{"$f":"Test!C208","v":41.107999999999997},{"$f":"Test!D208","v":47.794699999999999},{"$f":"Test!E208","v":49.548900000000003},{"$f":"Test!F208","v":7164.39},{"$f":"Test!G208","v":10.15},1.9901083333333334,0.82455697149483109,0.5878945844193455]
[null,"Class A1",null,null,null,null,null,null,{"$f":"GEOMEAN(I3:I14)","v":160.04929561220482},{"$f":"GEOMEAN(J3:J14)","v":82.972429372822546},null,null,null,null,null,null,{"$f":"GEOMEAN(Q3:Q14)","v":129.06733548498505},{"$f":"GEOMEAN(R3:R14)","v":69.024575930419502},{"$f":"GEOMEAN(S3:S14)","v":0.83189773340574702},{"$f":"GEOMEAN(T3:T14)","v":0.80642238999734039},null,{"$f":"AVERAGE(V3:V14)","v":6.8812667287273159E-6},-2.7612343681907941E-7,6.1497948921814443E-6,1.126080995783596E-5,-1.6968311422616011E-6,6.3974377364495183E-6]
[null,"Class A2",null,null,null,null,null,null,{"$f":"GEOMEAN(I15:I26)","v":164.84507452063707},{"$f":"GEOMEAN(J15:J26)","v":80.769013016556542},null,null,null,null,null,null,{"$f":"GEOMEAN(Q15:Q26)","v":126.53440266701919},{"$f":"GEOMEAN(R15:R26)","v":69.550246991055161},{"$f":"GEOMEAN(S15:S26)","v":0.86110061759450152},{"$f":"GEOMEAN(T15:T26)","v":0.76759589593426569},null,{"$f":"AVERAGE(V15:V26)","v":7.9739995279733602E-6},7.1175683057367323E-6,8.984318681607798E-7,4.621100564983216E-6,7.4144817973446448E-6,-3.6899764081314384E-7]
[null,"Class B",null,null,null,null,null,null,{"$f":"GEOMEAN(I27:I46)","v":70.003837592324885},{"$f":"GEOMEAN(J27:J46)","v":37.971568848596277},null,null,null,null,null,null,{"$f":"GEOMEAN(Q27:Q46)","v":56.465274160328342},{"$f":"GEOMEAN(R27:R46)","v":30.392222879102704},{"$f":"GEOMEAN(S27:S46)","v":0.80039418440374066},{"$f":"GEOMEAN(T27:T46)","v":0.80660255355085153},null,{"$f":"AVERAGE(V27:V46)","v":2.4569340272062589E-6},2.7269865056744889E-6,1.4635426175413357E-5,2.2408279363617114E-6,2.7825499987477187E-6,1.4188587959429455E-5]
[null,"Class C",null,null,null,null,null,null,{"$f":"GEOMEAN(I47:I62)","v":11.552994904198611},{"$f":"GEOMEAN(J47:J62)","v":7.9365022051483045},null,null,null,null,null,null,{"$f":"GEOMEAN(Q47:Q62)","v":10.490353794111105},{"$f":"GEOMEAN(R47:R62)","v":6.2202564375388647},{"$f":"GEOMEAN(S47:S62)","v":0.78375287711806674},{"$f":"GEOMEAN(T47:T62)","v":0.90802029093760617},null,{"$f":"AVERAGE(V47:V62)","v":-2.8890309977380735E-6},-1.4052597982205928E-6,4.8552109180310943E-7,-2.8371420363326738E-6,-1.3499306434072711E-6,9.3760254119001907E-7]
[null,"Class D",null,null,null,null,null,null,{"$f":"GEOMEAN(I63:I78)","v":3.1316359071285782},{"$f":"GEOMEAN(J63:J78)","v":1.8177717406734755},null,null,null,null,null,null,{"$f":"GEOMEAN(Q63:Q78)","v":2.7379565158730474},{"$f":"GEOMEAN(R63:R78)","v":1.4250449196248132},{"$f":"GEOMEAN(S63:S78)","v":0.78395152028100124},{"$f":"GEOMEAN(T63:T78)","v":0.87428953973883305},null,{"$f":"AVERAGE(V63:V78)","v":-3.8825770493355893E-6},4.5865544379963818E-6,-5.5485474944050317E-6,-3.5253580061567202E-6,5.3744954433554426E-6,-5.7500452128322888E-6]
[null,"Class E"]
[null,"Class F",null,null,null,null,null,null,{"$f":"GEOMEAN(I91:I106)","v":19.227826514311797},{"$f":"GEOMEAN(J91:J106)","v":6.1495111222352348},null,null,null,null,null,null,{"$f":"GEOMEAN(Q91:Q106)","v":13.157187365100155},{"$f":"GEOMEAN(R91:R106)","v":5.0893142312064406},{"$f":"GEOMEAN(S91:S106)","v":0.8275965568717546},{"$f":"GEOMEAN(T91:T106)","v":0.68427845213326111},null,{"$f":"AVERAGE(V91:V106)","v":3.7912036549014871E-7},-4.4081028248432741E-6,-1.4411253075052866E-6,2.9329872255901002E-7,-4.3699072841407727E-6,-7.8835337652405357E-7]
[null,"All",null,null,null,null,null,null,{"$f":"GEOMEAN(I3:I62,I79:I90)","v":60.630588892058597},{"$f":"GEOMEAN(J3:J62,J79:J90)","v":34.011281906351122},null,null,null,null,null,null,{"$f":"GEOMEAN(Q3:Q62,Q79:Q90)","v":49.973853868959637},{"$f":"GEOMEAN(R3:R62,R79:R90)","v":27.68196086865624},{"$f":"GEOMEAN(S3:S62,S79:S90)","v":0.81390524899583483},{"$f":"GEOMEAN(T3:T62,T79:T90)","v":0.82423500715008258},null,{"$f":"AVERAGE(V3:V62,V79:V90)","v":3.0196229943454019E-6},1.9025485294828689E-6,6.4175930350203936E-6,3.1667535403290261E-6,1.7110652923572426E-6,6.1852446832544318E-6]
[null,"Time geomean",null,null,null,null,null,null,{"$f":"GEOMEAN(I3:I106)","v":29.657761976180076},{"$f":"GEOMEAN(J3:J106)","v":15.177893872357028},null,null,null,null,null,null,{"$f":"GEOMEAN(Q3:Q106)","v":23.910408869512189},{"$f":"GEOMEAN(R3:R106)","v":12.308729257723396}]
[null,"Time ratio",null,null,null,null,null,null,null,null,null,null,null,null,null,null,{"$f":"Q115/I115","v":0.80621082901387064},{"$f":"R115/J115","v":0.81096424584578608}]
[null,"Time sum (hours)"]

{"sheet":"LDB-10","index":4,"n_rows":117,"n_cols":27,"rows_kept":117,"cut":false,"hidden":false,"merged":[[0,3,0,9],[0,11,0,17],[0,21,0,23],[0,24,0,26]]}
[null,null,null,"Reference",null,null,null,null,null,null,null,"Tested",null,null,null,null,null,null,null,null,null,"BD-rate (piecewise cubic)",null,null,"BD-rate (cubic)"]
[null,null,"QPISlice","kbps","Y psnr","U psnr","V psnr","Enc T [s]","Dec T [s]","Enc T [h]",null,"kbps","Y psnr","U psnr","V psnr","Enc T [s]","Dec T [s]","Enc T [h]","Enc","Dec",null,"Y","U","V","Y","U","V"]
["Class A1","Tango2",22]
["4K",null,27]
[null,null,32]
[null,null,37]
[null,"FoodMarket4",22]
[null,null,27]
[null,null,32]
[null,null,37]
[null,"Campfire",22]
[null,null,27]
[null,null,32]
[null,null,37]
["Class A2","CatRobot1",22]
["4K",null,27]
[null,null,32]
[null,null,37]
[null,"DaylightRoad2",22]
[null,null,27]
[null,null,32]
[null,null,37]
[null,"ParkRunning3",22]
[null,null,27]
[null,null,32]
[null,null,37]
["Class B","MarketPlace",22,17649.36,41.038400000000003,44.095700000000001,44.831200000000003,286806.17300000001,105.40300000000001,{"$f":"H27/3600","v":79.668381388888889},null,{"$f":"Test!B233","v":17649.36},{"$f":"Test!C233","v":41.038400000000003},{"$f":"Test!D233","v":44.095700000000001},{"$f":"Test!E233","v":44.831200000000003},{"$f":"Test!F233","v":286003.18},{"$f":"Test!G233","v":96.92},{"$f":"P27/3600","v":79.445327777777777},{"$f":"P27/H27","v":0.9972002241388298},{"$f":"Q27/I27","v":0.91951841977932314},null,{"$f":"bdrate($D27:$D30,E27:E30,$L27:$L30,M27:M30)","v":0},{"$f":"bdrate($D27:$D30,F27:F30,$L27:$L30,N27:N30)","v":0},{"$f":"bdrate($D27:$D30,G27:G30,$L27:$L30,O27:O30)","v":0},{"$f":"bdrateOld($D27:$D30,E27:E30,$L27:$L30,M27:M30)","v":0},{"$f":"bdrateOld($D27:$D30,F27:F30,$L27:$L30,N27:N30)","v":0},{"$f":"bdrateOld($D27:$D30,G27:G30,$L27:$L30,O27:O30)","v":0}]
["1080p",null,27,6531.4279999999999,38.607599999999998,42.207000000000001,43.1708,163919.47200000001,81.540999999999997,45.533186666666666,null,{"$f":"Test!B234","v":6531.4279999999999},{"$f":"Test!C234","v":38.607599999999998},{"$f":"Test!D234","v":42.207000000000001},{"$f":"Test!E234","v":43.1708},{"$f":"Test!F234","v":149426.19},{"$f":"Test!G234","v":69.94},41.507275,0.91158291432271077,0.85772801412786204]
[null,null,32,2914.7264,36.200499999999998,40.795699999999997,41.811300000000003,117712.8,66.837999999999994,32.698,null,{"$f":"Test!B235","v":2914.7264},{"$f":"Test!C235","v":36.200499999999998},{"$f":"Test!D235","v":40.795699999999997},{"$f":"Test!E235","v":41.811300000000003},{"$f":"Test!F235","v":98264.98},{"$f":"Test!G235","v":54.89},27.295827777777777,0.83478585166608898,0.82123941470421025]
[null,null,37,1322.316,33.762700000000002,39.794400000000003,40.763399999999997,82566.320000000007,55.4,22.935088888888892,null,{"$f":"Test!B236","v":1322.316},{"$f":"Test!C236","v":33.762700000000002},{"$f":"Test!D236","v":39.794400000000003},{"$f":"Test!E236","v":40.763399999999997},{"$f":"Test!F236","v":64895.28},{"$f":"Test!G236","v":43.32},18.026466666666668,0.7859776238059295,0.78194945848375452]
[null,"RitualDance",22,10818.54,44.334400000000002,47.120199999999997,47.866199999999999,236115.728,97.004999999999995,65.587702222222219,null,{"$f":"Test!B237","v":10818.54},{"$f":"Test!C237","v":44.334400000000002},{"$f":"Test!D237","v":47.120199999999997},{"$f":"Test!E237","v":47.866199999999999},{"$f":"Test!F237","v":233835.5},{"$f":"Test!G237","v":84.45},64.95430555555555,0.99034275260138538,0.87057368176898109,null,{"$f":"bdrate($D31:$D34,E31:E34,$L31:$L34,M31:M34)","v":0},{"$f":"bdrate($D31:$D34,F31:F34,$L31:$L34,N31:N34)","v":0},{"$f":"bdrate($D31:$D34,G31:G34,$L31:$L34,O31:O34)","v":0},{"$f":"bdrateOld($D31:$D34,E31:E34,$L31:$L34,M31:M34)","v":0},{"$f":"bdrateOld($D31:$D34,F31:F34,$L31:$L34,N31:N34)","v":0},{"$f":"bdrateOld($D31:$D34,G31:G34,$L31:$L34,O31:O34)","v":0}]
[null,null,27,5412.8807999999999,41.053899999999999,44.754100000000001,45.307600000000001,167203.584,81.676000000000002,46.445439999999998,null,{"$f":"Test!B238","v":5412.8807999999999},{"$f":"Test!C238","v":41.053899999999999},{"$f":"Test!D238","v":44.754100000000001},{"$f":"Test!E238","v":45.307600000000001},{"$f":"Test!F238","v":161917.28},{"$f":"Test!G238","v":73.56},44.977022222222224,0.96838402698353643,0.90063176453303295]
[null,null,32,2875.8247999999999,37.924300000000002,43.1965,43.5901,129944.905,69.483999999999995,36.095806944444448,null,{"$f":"Test!B239","v":2875.8247999999999},{"$f":"Test!C239","v":37.924300000000002},{"$f":"Test!D239","v":43.1965},{"$f":"Test!E239","v":43.5901},{"$f":"Test!F239","v":115040.39},{"$f":"Test!G239","v":59.64},31.955663888888889,0.88530127441318307,0.85832709688561404]
[null,null,37,1566.7360000000001,35.084400000000002,42.101700000000001,42.282200000000003,95149.342999999993,59.564,26.430373055555552,null,{"$f":"Test!B240","v":1566.7360000000001},{"$f":"Test!C240","v":35.084400000000002},{"$f":"Test!D240","v":42.101700000000001},{"$f":"Test!E240","v":42.282200000000003},{"$f":"Test!F240","v":77474.33},{"$f":"Test!G240","v":50.08},21.520647222222223,0.81423925333882763,0.84077630783694846]
[null,"Cactus",22,18435.624,38.94,40.424199999999999,43.645299999999999,243667.69699999999,90.882000000000005,67.685471388888885,null,{"$f":"Test!B241","v":18435.624},{"$f":"Test!C241","v":38.94},{"$f":"Test!D241","v":40.424199999999999},{"$f":"Test!E241","v":43.645299999999999},{"$f":"Test!F241","v":240916.49},{"$f":"Test!G241","v":81.849999999999994},66.92124722222222,0.98870918454160139,0.90061838427851493,null,{"$f":"bdrate($D35:$D38,E35:E38,$L35:$L38,M35:M38)","v":0},{"$f":"bdrate($D35:$D38,F35:F38,$L35:$L38,N35:N38)","v":0},{"$f":"bdrate($D35:$D38,G35:G38,$L35:$L38,O35:O38)","v":0},{"$f":"bdrateOld($D35:$D38,E35:E38,$L35:$L38,M35:M38)","v":0},{"$f":"bdrateOld($D35:$D38,F35:F38,$L35:$L38,N35:N38)","v":0},{"$f":"bdrateOld($D35:$D38,G35:G38,$L35:$L38,O35:O38)","v":0}]
[null,null,27,4607.7695999999996,36.942999999999998,39.132599999999996,41.820399999999999,143890.23300000001,60.075000000000003,39.969509166666668,null,{"$f":"Test!B242","v":4607.7695999999996},{"$f":"Test!C242","v":36.942999999999998},{"$f":"Test!D242","v":39.132599999999996},{"$f":"Test!E242","v":41.820399999999999},{"$f":"Test!F242","v":127608.05},{"$f":"Test!G242","v":50.38},35.44668055555556,0.88684302846323138,0.83861839367457347]
[null,null,32,2075.7456000000002,34.901600000000002,38.285899999999998,40.324599999999997,106047.552,48.808999999999997,29.457653333333333,null,{"$f":"Test!B243","v":2075.7456000000002},{"$f":"Test!C243","v":34.901600000000002},{"$f":"Test!D243","v":38.285899999999998},{"$f":"Test!E243","v":40.324599999999997},{"$f":"Test!F243","v":88681.49},{"$f":"Test!G243","v":39.380000000000003},24.633747222222222,0.83624268856295725,0.80681841463664494]
[null,null,37,1020.9432,32.688099999999999,37.541600000000003,39.134099999999997,77368.584000000003,42.445,21.491273333333336,null,{"$f":"Test!B244","v":1020.9432},{"$f":"Test!C244","v":32.688099999999999},{"$f":"Test!D244","v":37.541600000000003},{"$f":"Test!E244","v":39.134099999999997},{"$f":"Test!F244","v":58963.76},{"$f":"Test!G244","v":32.54},16.378822222222222,0.76211502074278625,0.76663918011544352]
[null,"BasketballDrive",22,17189.7752,39.676900000000003,44.1128,45.587800000000001,288679.24,94.784999999999997,80.18867777777777,null,{"$f":"Test!B245","v":17189.7752},{"$f":"Test!C245","v":39.676900000000003},{"$f":"Test!D245","v":44.1128},{"$f":"Test!E245","v":45.587800000000001},{"$f":"Test!F245","v":268623.77},{"$f":"Test!G245","v":86.27},74.6177138888889,0.93052680199656901,0.91016511051326687,null,{"$f":"bdrate($D39:$D42,E39:E42,$L39:$L42,M39:M42)","v":0},{"$f":"bdrate($D39:$D42,F39:F42,$L39:$L42,N39:N42)","v":0},{"$f":"bdrate($D39:$D42,G39:G42,$L39:$L42,O39:O42)","v":0},{"$f":"bdrateOld($D39:$D42,E39:E42,$L39:$L42,M39:M42)","v":0},{"$f":"bdrateOld($D39:$D42,F39:F42,$L39:$L42,N39:N42)","v":0},{"$f":"bdrateOld($D39:$D42,G39:G42,$L39:$L42,O39:O42)","v":0}]
[null,null,27,5487.4448000000002,37.764899999999997,42.797499999999999,43.515000000000001,180810.25399999999,70.566999999999993,50.225070555555554,null,{"$f":"Test!B246","v":5487.4448000000002},{"$f":"Test!C246","v":37.764899999999997},{"$f":"Test!D246","v":42.797499999999999},{"$f":"Test!E246","v":43.515000000000001},{"$f":"Test!F246","v":168919.04000000001},{"$f":"Test!G246","v":62.92},46.921955555555556,0.9342337409691378,0.89163490016579994]
[null,null,32,2605.9904000000001,35.915199999999999,41.670699999999997,41.933799999999998,125476.924,59.405000000000001,34.854701111111112,null,{"$f":"Test!B247","v":2605.9904000000001},{"$f":"Test!C247","v":35.915199999999999},{"$f":"Test!D247","v":41.670699999999997},{"$f":"Test!E247","v":41.933799999999998},{"$f":"Test!F247","v":110952.83},{"$f":"Test!G247","v":52.4},30.820230555555558,0.88424888388242606,0.88208063294335493]
[null,null,37,1359.5944,33.939500000000002,40.708300000000001,40.5379,87796.244000000006,52.203000000000003,24.387845555555558,null,{"$f":"Test!B248","v":1359.5944},{"$f":"Test!C248","v":33.939500000000002},{"$f":"Test!D248","v":40.708300000000001},{"$f":"Test!E248","v":40.5379},{"$f":"Test!F248","v":70835.64},{"$f":"Test!G248","v":44.45},19.676566666666666,0.80681856959621179,0.85148363120893433]
[null,"BQTerrace",22,49842.4568,38.447899999999997,42.241,44.308799999999998,266540.44,165.12299999999999,74.039011111111108,null,{"$f":"Test!B249","v":49842.4568},{"$f":"Test!C249","v":38.447899999999997},{"$f":"Test!D249","v":42.241},{"$f":"Test!E249","v":44.308799999999998},{"$f":"Test!F249","v":263836.34999999998},{"$f":"Test!G249","v":157.38},73.287875,0.98985486029812197,0.95310768336331098,null,{"$f":"bdrate($D43:$D46,E43:E46,$L43:$L46,M43:M46)","v":0},{"$f":"bdrate($D43:$D46,F43:F46,$L43:$L46,N43:N46)","v":0},{"$f":"bdrate($D43:$D46,G43:G46,$L43:$L46,O43:O46)","v":0},{"$f":"bdrateOld($D43:$D46,E43:E46,$L43:$L46,M43:M46)","v":0},{"$f":"bdrateOld($D43:$D46,F43:F46,$L43:$L46,N43:N46)","v":0},{"$f":"bdrateOld($D43:$D46,G43:G46,$L43:$L46,O43:O46)","v":0}]
[null,null,27,6631.4727999999996,35.582099999999997,40.8506,43.167000000000002,134964.856,76.870999999999995,37.490237777777779,null,{"$f":"Test!B250","v":6631.4727999999996},{"$f":"Test!C250","v":35.582099999999997},{"$f":"Test!D250","v":40.8506},{"$f":"Test!E250","v":43.167000000000002},{"$f":"Test!F250","v":120803.08},{"$f":"Test!G250","v":66.55},33.55641111111111,0.89507063972268452,0.86573610334196249]
[null,null,32,1694.4064000000001,33.7896,39.643099999999997,42.261499999999998,86118.898000000001,53.747999999999998,23.921916111111113,null,{"$f":"Test!B251","v":1694.4064000000001},{"$f":"Test!C251","v":33.7896},{"$f":"Test!D251","v":39.643099999999997},{"$f":"Test!E251","v":42.261499999999998},{"$f":"Test!F251","v":69472.55},{"$f":"Test!G251","v":42.47},19.297930555555556,0.80670505096337863,0.79016893651856812]
[null,null,37,657.49360000000001,31.735499999999998,38.746499999999997,41.509,53653.925000000003,43.384999999999998,14.903868055555556,null,{"$f":"Test!B252","v":657.49360000000001},{"$f":"Test!C252","v":31.735499999999998},{"$f":"Test!D252","v":38.746499999999997},{"$f":"Test!E252","v":41.509},{"$f":"Test!F252","v":41345.67},{"$f":"Test!G252","v":30.07},11.484908333333333,0.77059916865355138,0.69309669240520921]
["Class C","BasketballDrill",22,3109.7464,40.604700000000001,43.401400000000002,44.1509,50702.826999999997,14.717000000000001,14.08411861111111,null,{"$f":"Test!B253","v":3109.7464},{"$f":"Test!C253","v":40.604700000000001},{"$f":"Test!D253","v":43.401400000000002},{"$f":"Test!E253","v":44.1509},{"$f":"Test!F253","v":44686.92},{"$f":"Test!G253","v":13.91},12.413033333333333,0.8813496730665531,0.94516545491608339,null,{"$f":"bdrate($D47:$D50,E47:E50,$L47:$L50,M47:M50)","v":0},{"$f":"bdrate($D47:$D50,F47:F50,$L47:$L50,N47:N50)","v":0},{"$f":"bdrate($D47:$D50,G47:G50,$L47:$L50,O47:O50)","v":0},{"$f":"bdrateOld($D47:$D50,E47:E50,$L47:$L50,M47:M50)","v":0},{"$f":"bdrateOld($D47:$D50,F47:F50,$L47:$L50,N47:N50)","v":0},{"$f":"bdrateOld($D47:$D50,G47:G50,$L47:$L50,O47:O50)","v":0}]
["WVGA",null,27,1420.9936,37.351599999999998,40.9358,41.429000000000002,40688.516000000003,11.5,11.302365555555557,null,{"$f":"Test!B254","v":1420.9936},{"$f":"Test!C254","v":37.351599999999998},{"$f":"Test!D254","v":40.9358},{"$f":"Test!E254","v":41.429000000000002},{"$f":"Test!F254","v":33898.39},{"$f":"Test!G254","v":10.86},9.4162194444444438,0.83311934994139369,0.94434782608695644]
[null,null,32,707.39679999999998,34.618499999999997,39.1447,39.516100000000002,31032.615000000002,9.3330000000000002,8.6201708333333329,null,{"$f":"Test!B255","v":707.39679999999998},{"$f":"Test!C255","v":34.618499999999997},{"$f":"Test!D255","v":39.1447},{"$f":"Test!E255","v":39.516100000000002},{"$f":"Test!F255","v":24059.919999999998},{"$f":"Test!G255","v":9.4600000000000009},6.6833111111111103,0.77531074967417335,1.0136076288438873]
[null,null,37,373.69760000000002,32.237200000000001,37.597200000000001,37.817700000000002,23445.386999999999,7.9269999999999996,6.5126074999999997,null,{"$f":"Test!B256","v":373.69760000000002},{"$f":"Test!C256","v":32.237200000000001},{"$f":"Test!D256","v":37.597200000000001},{"$f":"Test!E256","v":37.817700000000002},{"$f":"Test!F256","v":15983.65},{"$f":"Test!G256","v":6.58},4.4399027777777773,0.68173965309252527,0.83007442916614105]
[null,"BQMall",22,3586.56,40.471699999999998,43.550899999999999,45.042499999999997,46866.415000000001,18.166,13.018448611111111,null,{"$f":"Test!B257","v":3586.56},{"$f":"Test!C257","v":40.471699999999998},{"$f":"Test!D257","v":43.550899999999999},{"$f":"Test!E257","v":45.042499999999997},{"$f":"Test!F257","v":40640.94},{"$f":"Test!G257","v":18.53},11.289150000000001,0.86716553847782041,1.0200374325663328,null,{"$f":"bdrate($D51:$D54,E51:E54,$L51:$L54,M51:M54)","v":0},{"$f":"bdrate($D51:$D54,F51:F54,$L51:$L54,N51:N54)","v":0},{"$f":"bdrate($D51:$D54,G51:G54,$L51:$L54,O51:O54)","v":0},{"$f":"bdrateOld($D51:$D54,E51:E54,$L51:$L54,M51:M54)","v":0},{"$f":"bdrateOld($D51:$D54,F51:F54,$L51:$L54,N51:N54)","v":0},{"$f":"bdrateOld($D51:$D54,G51:G54,$L51:$L54,O51:O54)","v":0}]
[null,null,27,1565.7944,37.548099999999998,41.464799999999997,42.643300000000004,35243.237000000001,13.284000000000001,9.7897880555555563,null,{"$f":"Test!B258","v":1565.7944},{"$f":"Test!C258","v":37.548099999999998},{"$f":"Test!D258","v":41.464799999999997},{"$f":"Test!E258","v":42.643300000000004},{"$f":"Test!F258","v":28154.12},{"$f":"Test!G258","v":12.37},7.8205888888888886,0.79885170593155219,0.93119542306534164]
[null,null,32,771.25440000000003,34.627899999999997,39.8309,40.847200000000001,28578.876,10.379,7.9385766666666671,null,{"$f":"Test!B259","v":771.25440000000003},{"$f":"Test!C259","v":34.627899999999997},{"$f":"Test!D259","v":39.8309},{"$f":"Test!E259","v":40.847200000000001},{"$f":"Test!F259","v":20349.919999999998},{"$f":"Test!G259","v":8.74},5.6527555555555553,0.71206159402490143,0.84208497928509496]
[null,null,37,394.16559999999998,31.777999999999999,38.557699999999997,39.529499999999999,21189.148000000001,8.8019999999999996,5.8858744444444451,null,{"$f":"Test!B260","v":394.16559999999998},{"$f":"Test!C260","v":31.777999999999999},{"$f":"Test!D260","v":38.557699999999997},{"$f":"Test!E260","v":39.529499999999999},{"$f":"Test!F260","v":14480.14},{"$f":"Test!G260","v":7.06},4.0222611111111108,0.68337528247950308,0.80209043399227442]
[null,"PartyScene",22,6933.8320000000003,38.6631,41.496600000000001,42.4467,52999.436000000002,22.036999999999999,14.722065555555556,null,{"$f":"Test!B261","v":6933.8320000000003},{"$f":"Test!C261","v":38.6631},{"$f":"Test!D261","v":41.496600000000001},{"$f":"Test!E261","v":42.4467},{"$f":"Test!F261","v":47003.77},{"$f":"Test!G261","v":20.12},13.056602777777776,0.8868730225732967,0.91300993783182838,null,{"$f":"bdrate($D55:$D58,E55:E58,$L55:$L58,M55:M58)","v":0},{"$f":"bdrate($D55:$D58,F55:F58,$L55:$L58,N55:N58)","v":0},{"$f":"bdrate($D55:$D58,G55:G58,$L55:$L58,O55:O58)","v":0},{"$f":"bdrateOld($D55:$D58,E55:E58,$L55:$L58,M55:M58)","v":0},{"$f":"bdrateOld($D55:$D58,F55:F58,$L55:$L58,N55:N58)","v":0},{"$f":"bdrateOld($D55:$D58,G55:G58,$L55:$L58,O55:O58)","v":0}]
[null,null,27,2848.3616000000002,34.703899999999997,38.651400000000002,39.4893,39747.868000000002,15.814,11.041074444444446,null,{"$f":"Test!B262","v":2848.3616000000002},{"$f":"Test!C262","v":34.703899999999997},{"$f":"Test!D262","v":38.651400000000002},{"$f":"Test!E262","v":39.4893},{"$f":"Test!F262","v":32931.9},{"$f":"Test!G262","v":16.5},9.1477500000000003,0.82851990954584032,1.0433792841785758]
[null,null,32,1271.6248000000001,31.2455,36.753,37.551900000000003,30258.682000000001,12.157,8.4051894444444439,null,{"$f":"Test!B263","v":1271.6248000000001},{"$f":"Test!C263","v":31.2455},{"$f":"Test!D263","v":36.753},{"$f":"Test!E263","v":37.551900000000003},{"$f":"Test!F263","v":22037.68},{"$f":"Test!G263","v":11.01},6.1215777777777776,0.72830931631457052,0.90565106522990868]
[null,null,37,554.09119999999996,28.058900000000001,35.357199999999999,36.151899999999998,22425.219000000001,9.4589999999999996,6.2292275000000004,null,{"$f":"Test!B264","v":554.09119999999996},{"$f":"Test!C264","v":28.058900000000001},{"$f":"Test!D264","v":35.357199999999999},{"$f":"Test!E264","v":36.151899999999998},{"$f":"Test!F264","v":15299.7},{"$f":"Test!G264","v":7.99},4.2499166666666666,0.68225420674821502,0.84469817105402267]
[null,"RaceHorses",22,5100.9128000000001,40.167700000000004,41.757899999999999,43.086199999999998,34722.824000000001,13.722,{"$f":"H59/3600","v":9.6452288888888891},null,{"$f":"Test!B265","v":5100.9128000000001},{"$f":"Test!C265","v":40.167700000000004},{"$f":"Test!D265","v":41.757899999999999},{"$f":"Test!E265","v":43.086199999999998},{"$f":"Test!F265","v":35547.120000000003},{"$f":"Test!G265","v":13.25},{"$f":"P59/3600","v":9.8742000000000001},{"$f":"P59/H59","v":1.0237393133692121},{"$f":"Q59/I59","v":0.96560268182480691},null,{"$f":"bdrate($D59:$D62,E59:E62,$L59:$L62,M59:M62)","v":0},{"$f":"bdrate($D59:$D62,F59:F62,$L59:$L62,N59:N62)","v":0},{"$f":"bdrate($D59:$D62,G59:G62,$L59:$L62,O59:O62)","v":0},{"$f":"bdrateOld($D59:$D62,E59:E62,$L59:$L62,M59:M62)","v":0},{"$f":"bdrateOld($D59:$D62,F59:F62,$L59:$L62,N59:N62)","v":0},{"$f":"bdrateOld($D59:$D62,G59:G62,$L59:$L62,O59:O62)","v":0}]
[null,null,27,1934.8792000000001,36.402299999999997,39.068300000000001,40.692,23168.011999999999,9.6579999999999995,6.4355588888888882,null,{"$f":"Test!B266","v":1934.8792000000001},{"$f":"Test!C266","v":36.402299999999997},{"$f":"Test!D266","v":39.068300000000001},{"$f":"Test!E266","v":40.692},{"$f":"Test!F266","v":22958.17},{"$f":"Test!G266","v":9.5299999999999994},6.377269444444444,0.99094259792337813,0.98674673845516669]
[null,null,32,876.91520000000003,33.351300000000002,37.318199999999997,39.179600000000001,18336.226999999999,7.4779999999999998,5.0933963888888885,null,{"$f":"Test!B267","v":876.91520000000003},{"$f":"Test!C267","v":33.351300000000002},{"$f":"Test!D267","v":37.318199999999997},{"$f":"Test!E267","v":39.179600000000001},{"$f":"Test!F267","v":17659.099999999999},{"$f":"Test!G267","v":6.93},4.9053055555555556,0.96307162863985052,0.92671837389676381]
[null,null,37,405.34399999999999,30.5289,36.106900000000003,37.950099999999999,13888.626,5.9589999999999996,3.8579516666666667,null,{"$f":"Test!B268","v":405.34399999999999},{"$f":"Test!C268","v":30.5289},{"$f":"Test!D268","v":36.106900000000003},{"$f":"Test!E268","v":37.950099999999999},{"$f":"Test!F268","v":12249.98},{"$f":"Test!G268","v":5.35},3.4027722222222221,0.88201525478474252,0.89780164457123679]
["Class D","BasketballPass",{"$f":"C59","v":22},1493.9007999999999,41.329799999999999,44.266199999999998,43.712800000000001,12246.094999999999,4.7809999999999997,3.4016930555555556,null,{"$f":"Test!B269","v":1493.9007999999999},{"$f":"Test!C269","v":41.329799999999999},{"$f":"Test!D269","v":44.266199999999998},{"$f":"Test!E269","v":43.712800000000001},{"$f":"Test!F269","v":10582.95},{"$f":"Test!G269","v":4.82},2.9397083333333334,0.86418976824857241,1.0081572892700272,null,{"$f":"bdrate($D63:$D66,E63:E66,$L63:$L66,M63:M66)","v":0},{"$f":"bdrate($D63:$D66,F63:F66,$L63:$L66,N63:N66)","v":0},{"$f":"bdrate($D63:$D66,G63:G66,$L63:$L66,O63:O66)","v":0},{"$f":"bdrateOld($D63:$D66,E63:E66,$L63:$L66,M63:M66)","v":0},{"$f":"bdrateOld($D63:$D66,F63:F66,$L63:$L66,N63:N66)","v":0},{"$f":"bdrateOld($D63:$D66,G63:G66,$L63:$L66,O63:O66)","v":0}]
["WQVGA",null,{"$f":"C60","v":27},723.08159999999998,37.259700000000002,41.499099999999999,40.450099999999999,9491.2530000000006,3.6469999999999998,2.636459166666667,null,{"$f":"Test!B270","v":723.08159999999998},{"$f":"Test!C270","v":37.259700000000002},{"$f":"Test!D270","v":41.499099999999999},{"$f":"Test!E270","v":40.450099999999999},{"$f":"Test!F270","v":7969.76},{"$f":"Test!G270","v":3.54},2.2138222222222224,0.83969524361009018,0.97066081710995344]
[null,null,{"$f":"C61","v":32},365.49279999999999,33.844099999999997,39.600099999999998,38.4116,8071.94,2.798,2.2422055555555556,null,{"$f":"Test!B271","v":365.49279999999999},{"$f":"Test!C271","v":33.844099999999997},{"$f":"Test!D271","v":39.600099999999998},{"$f":"Test!E271","v":38.4116},{"$f":"Test!F271","v":6346.49},{"$f":"Test!G271","v":2.6},1.7629138888888889,0.78624097800528747,0.92923516797712657]
[null,null,{"$f":"C62","v":37},189.78479999999999,30.9938,38.164700000000003,36.7286,6496.4620000000004,2.2229999999999999,1.8045727777777778,null,{"$f":"Test!B272","v":189.78479999999999},{"$f":"Test!C272","v":30.9938},{"$f":"Test!D272","v":38.164700000000003},{"$f":"Test!E272","v":36.7286},{"$f":"Test!F272","v":4505.0200000000004},{"$f":"Test!G272","v":2},1.2513944444444445,0.69345745422662364,0.89968511021142605]
[null,"BQSquare",22,1909.4983999999999,38.641800000000003,42.870899999999999,44.030799999999999,12503.183000000001,6.1680000000000001,3.4731063888888891,null,{"$f":"Test!B273","v":1909.4983999999999},{"$f":"Test!C273","v":38.641800000000003},{"$f":"Test!D273","v":42.870899999999999},{"$f":"Test!E273","v":44.030799999999999},{"$f":"Test!F273","v":11110.87},{"$f":"Test!G273","v":6.13},3.0863527777777779,0.88864331586604783,0.99383916990920873,null,{"$f":"bdrate($D67:$D70,E67:E70,$L67:$L70,M67:M70)","v":0},{"$f":"bdrate($D67:$D70,F67:F70,$L67:$L70,N67:N70)","v":0},{"$f":"bdrate($D67:$D70,G67:G70,$L67:$L70,O67:O70)","v":0},{"$f":"bdrateOld($D67:$D70,E67:E70,$L67:$L70,M67:M70)","v":0},{"$f":"bdrateOld($D67:$D70,F67:F70,$L67:$L70,N67:N70)","v":0},{"$f":"bdrateOld($D67:$D70,G67:G70,$L67:$L70,O67:O70)","v":0}]
[null,null,27,636.12559999999996,34.816000000000003,40.853200000000001,42.021799999999999,9426.2260000000006,4.1289999999999996,2.6183961111111111,null,{"$f":"Test!B274","v":636.12559999999996},{"$f":"Test!C274","v":34.816000000000003},{"$f":"Test!D274","v":40.853200000000001},{"$f":"Test!E274","v":42.021799999999999},{"$f":"Test!F274","v":7243.46},{"$f":"Test!G274","v":3.82},2.0120722222222223,0.76843691207912901,0.92516347783967068]
[null,null,32,242.44479999999999,31.586500000000001,39.412199999999999,40.424399999999999,6128.1090000000004,3.3159999999999998,1.7022525000000002,null,{"$f":"Test!B275","v":242.44479999999999},{"$f":"Test!C275","v":31.586500000000001},{"$f":"Test!D275","v":39.412199999999999},{"$f":"Test!E275","v":40.424399999999999},{"$f":"Test!F275","v":4126.71},{"$f":"Test!G275","v":2.98},1.1463083333333333,0.67340675565659813,0.89867310012062729]
[null,null,37,98.740799999999993,28.5977,38.627099999999999,39.4116,3910.259,2.512,1.0861830555555556,null,{"$f":"Test!B276","v":98.740799999999993},{"$f":"Test!C276","v":28.5977},{"$f":"Test!D276","v":38.627099999999999},{"$f":"Test!E276","v":39.4116},{"$f":"Test!F276","v":2504.54},{"$f":"Test!G276","v":1.99},0.69570555555555558,0.64050488727217303,0.79219745222929938]
[null,"BlowingBubbles",22,1698.7655999999999,38.395499999999998,41.119100000000003,41.898200000000003,12216.102000000001,5.2439999999999998,3.3933616666666668,null,{"$f":"Test!B277","v":1698.7655999999999},{"$f":"Test!C277","v":38.395499999999998},{"$f":"Test!D277","v":41.119100000000003},{"$f":"Test!E277","v":41.898200000000003},{"$f":"Test!F277","v":10223.25},{"$f":"Test!G277","v":5.08},2.8397916666666667,0.83686678451113128,0.96872616323417249,null,{"$f":"bdrate($D71:$D74,E71:E74,$L71:$L74,M71:M74)","v":0},{"$f":"bdrate($D71:$D74,F71:F74,$L71:$L74,N71:N74)","v":0},{"$f":"bdrate($D71:$D74,G71:G74,$L71:$L74,O71:O74)","v":0},{"$f":"bdrateOld($D71:$D74,E71:E74,$L71:$L74,M71:M74)","v":0},{"$f":"bdrateOld($D71:$D74,F71:F74,$L71:$L74,N71:N74)","v":0},{"$f":"bdrateOld($D71:$D74,G71:G74,$L71:$L74,O71:O74)","v":0}]
[null,null,27,697.58,34.505200000000002,38.327100000000002,38.929699999999997,8800.73,3.5419999999999998,2.4446472222222222,null,{"$f":"Test!B278","v":697.58},{"$f":"Test!C278","v":34.505200000000002},{"$f":"Test!D278","v":38.327100000000002},{"$f":"Test!E278","v":38.929699999999997},{"$f":"Test!F278","v":7011.71},{"$f":"Test!G278","v":3.31},1.9476972222222222,0.79671913579896214,0.93450028232636939]
[null,null,32,305.93040000000002,31.069099999999999,36.356900000000003,36.930599999999998,6957.9849999999997,2.5670000000000002,1.9327736111111111,null,{"$f":"Test!B279","v":305.93040000000002},{"$f":"Test!C279","v":31.069099999999999},{"$f":"Test!D279","v":36.356900000000003},{"$f":"Test!E279","v":36.930599999999998},{"$f":"Test!F279","v":4802},{"$f":"Test!G279","v":2.27},1.3338888888888889,0.69014233287366966,0.88430074016361504]
[null,null,37,133.3048,28.061,34.8842,35.467799999999997,5018.32,1.9770000000000001,1.3939777777777778,null,{"$f":"Test!B280","v":133.3048},{"$f":"Test!C280","v":28.061},{"$f":"Test!D280","v":34.8842},{"$f":"Test!E280","v":35.467799999999997},{"$f":"Test!F280","v":3385.69},{"$f":"Test!G280","v":1.68},0.94046944444444447,0.67466602368920281,0.84977238239757202]
[null,"RaceHorses",22,1174.0391999999999,40.32,41.626300000000001,42.692700000000002,9372.8410000000003,3.53,2.6035669444444447,null,{"$f":"Test!B281","v":1174.0391999999999},{"$f":"Test!C281","v":40.32},{"$f":"Test!D281","v":41.626300000000001},{"$f":"Test!E281","v":42.692700000000002},{"$f":"Test!F281","v":7654.84},{"$f":"Test!G281","v":3.48},2.1263444444444444,0.81670434823336913,0.98583569405099158,null,{"$f":"bdrate($D75:$D78,E75:E78,$L75:$L78,M75:M78)","v":0},{"$f":"bdrate($D75:$D78,F75:F78,$L75:$L78,N75:N78)","v":0},{"$f":"bdrate($D75:$D78,G75:G78,$L75:$L78,O75:O78)","v":0},{"$f":"bdrateOld($D75:$D78,E75:E78,$L75:$L78,M75:M78)","v":0},{"$f":"bdrateOld($D75:$D78,F75:F78,$L75:$L78,N75:N78)","v":0},{"$f":"bdrateOld($D75:$D78,G75:G78,$L75:$L78,O75:O78)","v":0}]
[null,null,27,545.99279999999999,36.059800000000003,38.680900000000001,39.931199999999997,7191.152,2.5790000000000002,1.9975422222222223,null,{"$f":"Test!B282","v":545.99279999999999},{"$f":"Test!C282","v":36.059800000000003},{"$f":"Test!D282","v":38.680900000000001},{"$f":"Test!E282","v":39.931199999999997},{"$f":"Test!F282","v":5449.69},{"$f":"Test!G282","v":2.5299999999999998},1.5138027777777776,0.75783268105026835,0.98100038774718867]
[null,null,32,265.96319999999997,32.494999999999997,36.911999999999999,38.107799999999997,6070.9859999999999,1.917,1.686385,null,{"$f":"Test!B283","v":265.96319999999997},{"$f":"Test!C283","v":32.494999999999997},{"$f":"Test!D283","v":36.911999999999999},{"$f":"Test!E283","v":38.107799999999997},{"$f":"Test!F283","v":4165.07},{"$f":"Test!G283","v":1.85},1.1569638888888889,0.68606153926232083,0.96504955659885239]
[null,null,37,130.27279999999999,29.651299999999999,35.545699999999997,36.666699999999999,4298.3649999999998,1.4670000000000001,1.1939902777777778,null,{"$f":"Test!B284","v":130.27279999999999},{"$f":"Test!C284","v":29.651299999999999},{"$f":"Test!D284","v":35.545699999999997},{"$f":"Test!E284","v":36.666699999999999},{"$f":"Test!F284","v":2907.32},{"$f":"Test!G284","v":1.31},0.80758888888888891,0.67637811121205393,0.8929788684389911]
["ClassE","FourPeople",22,1964.7991999999999,42.9861,46.9086,48.237900000000003,52906.728000000003,26.768999999999998,14.696313333333334,null,{"$f":"Test!B285","v":1964.7991999999999},{"$f":"Test!C285","v":42.9861},{"$f":"Test!D285","v":46.9086},{"$f":"Test!E285","v":48.237900000000003},{"$f":"Test!F285","v":46856.38},{"$f":"Test!G285","v":19.739999999999998},13.015661111111111,0.88564123640380854,0.73742015017370843,null,{"$f":"bdrate($D79:$D82,E79:E82,$L79:$L82,M79:M82)","v":0},{"$f":"bdrate($D79:$D82,F79:F82,$L79:$L82,N79:N82)","v":0},{"$f":"bdrate($D79:$D82,G79:G82,$L79:$L82,O79:O82)","v":0},{"$f":"bdrateOld($D79:$D82,E79:E82,$L79:$L82,M79:M82)","v":0},{"$f":"bdrateOld($D79:$D82,F79:F82,$L79:$L82,N79:N82)","v":0},{"$f":"bdrateOld($D79:$D82,G79:G82,$L79:$L82,O79:O82)","v":0}]
["720p",null,27,732.34960000000001,40.656799999999997,44.922800000000002,46.282200000000003,35282.39,19.178999999999998,9.800663888888888,null,{"$f":"Test!B286","v":732.34960000000001},{"$f":"Test!C286","v":40.656799999999997},{"$f":"Test!D286","v":44.922800000000002},{"$f":"Test!E286","v":46.282200000000003},{"$f":"Test!F286","v":28119.43},{"$f":"Test!G286","v":14.19},7.8109527777777776,0.79698200717128287,0.73987173470983891]
[null,null,32,364.8152,38.0976,43.303699999999999,44.624299999999998,28032.556,16.056999999999999,7.7868211111111112,null,{"$f":"Test!B287","v":364.8152},{"$f":"Test!C287","v":38.0976},{"$f":"Test!D287","v":43.303699999999999},{"$f":"Test!E287","v":44.624299999999998},{"$f":"Test!F287","v":19138.439999999999},{"$f":"Test!G287","v":10.119999999999999},5.3162333333333329,0.68272190377502495,0.63025471756866169]
[null,null,37,194.08879999999999,35.265700000000002,42.043300000000002,43.1267,20268.775000000001,14.028,5.6302152777777783,null,{"$f":"Test!B288","v":194.08879999999999},{"$f":"Test!C288","v":35.265700000000002},{"$f":"Test!D288","v":42.043300000000002},{"$f":"Test!E288","v":43.1267},{"$f":"Test!F288","v":13897.53},{"$f":"Test!G288","v":9.8800000000000008},3.8604250000000002,0.68566205900455257,0.70430567436555469]
[null,"Johnny",22,1361.1776,43.330300000000001,48.535899999999998,49.162399999999998,47688.786,23.565999999999999,13.246885000000001,null,{"$f":"Test!B289","v":1361.1776},{"$f":"Test!C289","v":43.330300000000001},{"$f":"Test!D289","v":48.535899999999998},{"$f":"Test!E289","v":49.162399999999998},{"$f":"Test!F289","v":42413.26},{"$f":"Test!G289","v":17.010000000000002},11.781461111111112,0.88937596356510318,0.72180259696172466,null,{"$f":"bdrate($D83:$D86,E83:E86,$L83:$L86,M83:M86)","v":0},{"$f":"bdrate($D83:$D86,F83:F86,$L83:$L86,N83:N86)","v":0},{"$f":"bdrate($D83:$D86,G83:G86,$L83:$L86,O83:O86)","v":0},{"$f":"bdrateOld($D83:$D86,E83:E86,$L83:$L86,M83:M86)","v":0},{"$f":"bdrateOld($D83:$D86,F83:F86,$L83:$L86,N83:N86)","v":0},{"$f":"bdrateOld($D83:$D86,G83:G86,$L83:$L86,O83:O86)","v":0}]
[null,null,27,342.09120000000001,41.540700000000001,46.9206,47.562600000000003,29254.436000000002,17.763999999999999,8.1262322222222227,null,{"$f":"Test!B290","v":342.09120000000001},{"$f":"Test!C290","v":41.540700000000001},{"$f":"Test!D290","v":46.9206},{"$f":"Test!E290","v":47.562600000000003},{"$f":"Test!F290","v":21630.639999999999},{"$f":"Test!G290","v":11.39},6.0085111111111109,0.73939692428184223,0.64118441792389103]
[null,null,32,152.964,39.554400000000001,45.369100000000003,46.070099999999996,20568.026999999998,15.286,5.7133408333333326,null,{"$f":"Test!B291","v":152.964},{"$f":"Test!C291","v":39.554400000000001},{"$f":"Test!D291","v":45.369100000000003},{"$f":"Test!E291","v":46.070099999999996},{"$f":"Test!F291","v":13971.12},{"$f":"Test!G291","v":10.63},3.8808666666666669,0.67926398579698488,0.69540756247546787]
[null,null,37,82.157600000000002,37.200299999999999,44.047899999999998,44.701599999999999,13182.209000000001,13.628,3.6617247222222225,null,{"$f":"Test!B292","v":82.157600000000002},{"$f":"Test!C292","v":37.200299999999999},{"$f":"Test!D292","v":44.047899999999998},{"$f":"Test!E292","v":44.701599999999999},{"$f":"Test!F292","v":8926.59},{"$f":"Test!G292","v":9.7100000000000009},2.4796083333333332,0.67716950929847941,0.71250366891693573]
[null,"KristenAndSara",22,1775.2872,43.640099999999997,47.721299999999999,48.706299999999999,57151.184999999998,26.295999999999999,15.875329166666665,null,{"$f":"Test!B293","v":1775.2872},{"$f":"Test!C293","v":43.640099999999997},{"$f":"Test!D293","v":47.721299999999999},{"$f":"Test!E293","v":48.706299999999999},{"$f":"Test!F293","v":50948.17},{"$f":"Test!G293","v":18.97},14.152269444444444,0.89146305540296322,0.72140249467599638,null,{"$f":"bdrate($D87:$D90,E87:E90,$L87:$L90,M87:M90)","v":0},{"$f":"bdrate($D87:$D90,F87:F90,$L87:$L90,N87:N90)","v":0},{"$f":"bdrate($D87:$D90,G87:G90,$L87:$L90,O87:O90)","v":0},{"$f":"bdrateOld($D87:$D90,E87:E90,$L87:$L90,M87:M90)","v":0},{"$f":"bdrateOld($D87:$D90,F87:F90,$L87:$L90,N87:N90)","v":0},{"$f":"bdrateOld($D87:$D90,G87:G90,$L87:$L90,O87:O90)","v":0}]
[null,null,27,585.68240000000003,41.5625,45.835099999999997,46.873600000000003,36108.5,19.876999999999999,10.030138888888889,null,{"$f":"Test!B294","v":585.68240000000003},{"$f":"Test!C294","v":41.5625},{"$f":"Test!D294","v":45.835099999999997},{"$f":"Test!E294","v":46.873600000000003},{"$f":"Test!F294","v":28927.32},{"$f":"Test!G294","v":13.34},8.0353666666666665,0.80112217344946479,0.67112743371736183]
[null,null,32,261.96800000000002,39.2941,44.164999999999999,45.265000000000001,25903.097000000002,17.172999999999998,7.1953047222222226,null,{"$f":"Test!B295","v":261.96800000000002},{"$f":"Test!C295","v":39.2941},{"$f":"Test!D295","v":44.164999999999999},{"$f":"Test!E295","v":45.265000000000001},{"$f":"Test!F295","v":18571.05},{"$f":"Test!G295","v":12.4},5.1586249999999998,0.71694322883476047,0.72206370465265246]
[null,null,37,136.37119999999999,36.704999999999998,42.841500000000003,44.000900000000001,18112.442999999999,15.196,5.0312341666666667,null,{"$f":"Test!B296","v":136.37119999999999},{"$f":"Test!C296","v":36.704999999999998},{"$f":"Test!D296","v":42.841500000000003},{"$f":"Test!E296","v":44.000900000000001},{"$f":"Test!F296","v":11916.74},{"$f":"Test!G296","v":9.65},3.3102055555555556,0.65793112502824713,0.63503553566728088]
["ClassF","BasketballDrillText",22,3208.9223999999999,40.728400000000001,43.245600000000003,43.937399999999997,47496.228000000003,14.836,{"$f":"H91/3600","v":13.193396666666667},null,{"$f":"Test!B297","v":3208.9223999999999},{"$f":"Test!C297","v":40.728400000000001},{"$f":"Test!D297","v":43.245600000000003},{"$f":"Test!E297","v":43.937399999999997},{"$f":"Test!F297","v":42062.73},{"$f":"Test!G297","v":14.25},{"$f":"P91/3600","v":11.684091666666667},{"$f":"P91/H91","v":0.8856014839746853},{"$f":"Q91/I91","v":0.96050148287948234},null,{"$f":"bdrate($D91:$D94,E91:E94,$L91:$L94,M91:M94)","v":0},{"$f":"bdrate($D91:$D94,F91:F94,$L91:$L94,N91:N94)","v":0},{"$f":"bdrate($D91:$D94,G91:G94,$L91:$L94,O91:O94)","v":0},{"$f":"bdrateOld($D91:$D94,E91:E94,$L91:$L94,M91:M94)","v":0},{"$f":"bdrateOld($D91:$D94,F91:F94,$L91:$L94,N91:N94)","v":0},{"$f":"bdrateOld($D91:$D94,G91:G94,$L91:$L94,O91:O94)","v":0}]
[null,null,27,1477.0688,37.401000000000003,40.467100000000002,40.946399999999997,38654.284,11.401,10.737301111111112,null,{"$f":"Test!B298","v":1477.0688},{"$f":"Test!C298","v":37.401000000000003},{"$f":"Test!D298","v":40.467100000000002},{"$f":"Test!E298","v":40.946399999999997},{"$f":"Test!F298","v":31977.64},{"$f":"Test!G298","v":10.7},8.8826777777777775,0.82727285803560613,0.93851416542408561]
[null,null,32,743.19600000000003,34.522799999999997,38.474899999999998,38.861600000000003,30786.056,9.1549999999999994,8.5516822222222224,null,{"$f":"Test!B299","v":743.19600000000003},{"$f":"Test!C299","v":34.522799999999997},{"$f":"Test!D299","v":38.474899999999998},{"$f":"Test!E299","v":38.861600000000003},{"$f":"Test!F299","v":23633.35},{"$f":"Test!G299","v":8.48},6.5648194444444439,0.76766410091633686,0.92626979792463149]
[null,null,37,399.20400000000001,31.9072,36.816000000000003,37.086500000000001,23605.383000000002,7.7080000000000002,6.5570508333333342,null,{"$f":"Test!B300","v":399.20400000000001},{"$f":"Test!C300","v":31.9072},{"$f":"Test!D300","v":36.816000000000003},{"$f":"Test!E300","v":37.086500000000001},{"$f":"Test!F300","v":16035.68},{"$f":"Test!G300","v":6.28},4.4543555555555558,0.679323017127068,0.81473793461338873]
[null,"ArenaOfValor",22,13106.741599999999,42.425699999999999,44.308,45.008800000000001,165313.861,94.105000000000004,45.920516944444444,null,{"$f":"Test!B301","v":13106.741599999999},{"$f":"Test!C301","v":42.425699999999999},{"$f":"Test!D301","v":44.308},{"$f":"Test!E301","v":45.008800000000001},{"$f":"Test!F301","v":143475.12},{"$f":"Test!G301","v":80.569999999999993},39.854199999999999,0.86789528193283194,0.85617129801817105,null,{"$f":"bdrate($D95:$D98,E95:E98,$L95:$L98,M95:M98)","v":0},{"$f":"bdrate($D95:$D98,F95:F98,$L95:$L98,N95:N98)","v":0},{"$f":"bdrate($D95:$D98,G95:G98,$L95:$L98,O95:O98)","v":0},{"$f":"bdrateOld($D95:$D98,E95:E98,$L95:$L98,M95:M98)","v":0},{"$f":"bdrateOld($D95:$D98,F95:F98,$L95:$L98,N95:N98)","v":0},{"$f":"bdrateOld($D95:$D98,G95:G98,$L95:$L98,O95:O98)","v":0}]
[null,null,27,5509.3311999999996,38.972200000000001,41.582700000000003,42.078600000000002,126133.155,69.766999999999996,35.036987500000002,null,{"$f":"Test!B302","v":5509.3311999999996},{"$f":"Test!C302","v":38.972200000000001},{"$f":"Test!D302","v":41.582700000000003},{"$f":"Test!E302","v":42.078600000000002},{"$f":"Test!F302","v":112307.23},{"$f":"Test!G302","v":55.75},31.196452777777775,0.89038627472689469,0.7990883942264968]
[null,null,32,2571.5151999999998,36,39.646299999999997,39.995800000000003,100403.144,55.649000000000001,27.889762222222224,null,{"$f":"Test!B303","v":2571.5151999999998},{"$f":"Test!C303","v":36},{"$f":"Test!D303","v":39.646299999999997},{"$f":"Test!E303","v":39.995800000000003},{"$f":"Test!F303","v":82980.27},{"$f":"Test!G303","v":44.37},23.050075,0.82647083242731922,0.79731890959406271]
[null,null,37,1282.8696,33.304200000000002,38.063499999999998,38.284399999999998,79458.959000000003,46.05,22.071933055555558,null,{"$f":"Test!B304","v":1282.8696},{"$f":"Test!C304","v":33.304200000000002},{"$f":"Test!D304","v":38.063499999999998},{"$f":"Test!E304","v":38.284399999999998},{"$f":"Test!F304","v":59376.46},{"$f":"Test!G304","v":36.21},16.49346111111111,0.74725947517132707,0.78631921824104245]
[null,"SlideEditing",22,277.7568,47.375,45.715400000000002,45.988599999999998,7388.951,5.9569999999999999,2.0524863888888887,null,{"$f":"Test!B305","v":277.7568},{"$f":"Test!C305","v":47.375},{"$f":"Test!D305","v":45.715400000000002},{"$f":"Test!E305","v":45.988599999999998},{"$f":"Test!F305","v":5358.12},{"$f":"Test!G305","v":3.28},1.4883666666666666,0.7251530020973207,0.55061272452576804,null,{"$f":"bdrate($D99:$D102,E99:E102,$L99:$L102,M99:M102)","v":0},{"$f":"bdrate($D99:$D102,F99:F102,$L99:$L102,N99:N102)","v":0},{"$f":"bdrate($D99:$D102,G99:G102,$L99:$L102,O99:O102)","v":0},{"$f":"bdrateOld($D99:$D102,E99:E102,$L99:$L102,M99:M102)","v":0},{"$f":"bdrateOld($D99:$D102,F99:F102,$L99:$L102,N99:N102)","v":0},{"$f":"bdrateOld($D99:$D102,G99:G102,$L99:$L102,O99:O102)","v":0}]
[null,null,27,204.8904,43.080300000000001,41.690899999999999,42.121899999999997,6483.0429999999997,5.944,1.8008452777777777,null,{"$f":"Test!B306","v":204.8904},{"$f":"Test!C306","v":43.080300000000001},{"$f":"Test!D306","v":41.690899999999999},{"$f":"Test!E306","v":42.121899999999997},{"$f":"Test!F306","v":4749.5},{"$f":"Test!G306","v":3.07},1.3193055555555555,0.73260350116449946,0.51648721399730824]
[null,null,32,154.292,38.474299999999999,39.486499999999999,40.100099999999998,6051.9189999999999,5.7050000000000001,1.681088611111111,null,{"$f":"Test!B307","v":154.292},{"$f":"Test!C307","v":38.474299999999999},{"$f":"Test!D307","v":39.486499999999999},{"$f":"Test!E307","v":40.100099999999998},{"$f":"Test!F307","v":4370.3},{"$f":"Test!G307","v":3.05},1.2139722222222222,0.72213458243575301,0.53461875547765114]
[null,null,37,111.67919999999999,33.633200000000002,38.365099999999998,38.935000000000002,6005.1750000000002,5.617,1.6681041666666667,null,{"$f":"Test!B308","v":111.67919999999999},{"$f":"Test!C308","v":33.633200000000002},{"$f":"Test!D308","v":38.365099999999998},{"$f":"Test!E308","v":38.935000000000002},{"$f":"Test!F308","v":4141.4799999999996},{"$f":"Test!G308","v":3.01},1.1504111111111111,0.68965184195298213,0.53587324194409824]
[null,"SlideShow",22,528.44000000000005,49.408700000000003,53.024900000000002,54.088099999999997,19340.687999999998,15.599,5.3724133333333333,null,{"$f":"Test!B309","v":528.44000000000005},{"$f":"Test!C309","v":49.408700000000003},{"$f":"Test!D309","v":53.024900000000002},{"$f":"Test!E309","v":54.088099999999997},{"$f":"Test!F309","v":18556.560000000001},{"$f":"Test!G309","v":10.75},5.1546000000000003,0.95945707825905691,0.68914674017565225,null,{"$f":"bdrate($D103:$D106,E103:E106,$L103:$L106,M103:M106)","v":0},{"$f":"bdrate($D103:$D106,F103:F106,$L103:$L106,N103:N106)","v":0},{"$f":"bdrate($D103:$D106,G103:G106,$L103:$L106,O103:O106)","v":0},{"$f":"bdrateOld($D103:$D106,E103:E106,$L103:$L106,M103:M106)","v":0},{"$f":"bdrateOld($D103:$D106,F103:F106,$L103:$L106,N103:N106)","v":0},{"$f":"bdrateOld($D103:$D106,G103:G106,$L103:$L106,O103:O106)","v":0}]
[null,null,27,293.0838,45.423200000000001,49.741300000000003,50.926699999999997,16573.026000000002,14.986000000000001,4.6036183333333334,null,{"$f":"Test!B310","v":293.0838},{"$f":"Test!C310","v":45.423200000000001},{"$f":"Test!D310","v":49.741300000000003},{"$f":"Test!E310","v":50.926699999999997},{"$f":"Test!F310","v":15898.28},{"$f":"Test!G310","v":11.55},4.4161888888888887,0.95928649360714202,0.77071933804884563]
[null,null,32,169.31549999999999,41.741300000000003,47.348999999999997,48.86,13721.934999999999,14.09,3.811648611111111,null,{"$f":"Test!B311","v":169.31549999999999},{"$f":"Test!C311","v":41.741300000000003},{"$f":"Test!D311","v":47.348999999999997},{"$f":"Test!E311","v":48.86},{"$f":"Test!F311","v":12467.13},{"$f":"Test!G311","v":9.2100000000000009},3.4630916666666662,0.90855480659251042,0.65365507452093685]
[null,null,37,104.6198,38.032299999999999,45.485900000000001,47.166200000000003,11139.493,13.32,3.0943036111111111,null,{"$f":"Test!B312","v":104.6198},{"$f":"Test!C312","v":38.032299999999999},{"$f":"Test!D312","v":45.485900000000001},{"$f":"Test!E312","v":47.166200000000003},{"$f":"Test!F312","v":10009.02},{"$f":"Test!G312","v":9.85},2.7802833333333337,0.89851665600938935,0.73948948948948945]
[null,"Class A1"]
[null,"Class A2"]
[null,"Class B",null,null,null,null,null,null,{"$f":"GEOMEAN(I27:I46)","v":69.663848908229397},{"$f":"GEOMEAN(J27:J46)","v":38.289473718096254},null,null,null,null,null,null,{"$f":"GEOMEAN(Q27:Q46)","v":59.067004958624295},{"$f":"GEOMEAN(R27:R46)","v":33.719424912779644},{"$f":"GEOMEAN(S27:S46)","v":0.88064477357502224},{"$f":"GEOMEAN(T27:T46)","v":0.84788603966506804},null,{"$f":"AVERAGE(V27:V46)","v":0},0,0,0,0,0]
[null,"Class C",null,null,null,null,null,null,{"$f":"GEOMEAN(I47:I62)","v":11.244595858966264},{"$f":"GEOMEAN(J47:J62)","v":8.344350740951473},null,null,null,null,null,null,{"$f":"GEOMEAN(Q47:Q62)","v":10.380775904007157},{"$f":"GEOMEAN(R47:R62)","v":6.8359427713544738},{"$f":"GEOMEAN(S47:S62)","v":0.81923003761164981},{"$f":"GEOMEAN(T47:T62)","v":0.92317910169529904},null,{"$f":"AVERAGE(V47:V62)","v":0},0,0,0,0,0]
[null,"Class D",null,null,null,null,null,null,{"$f":"GEOMEAN(I63:I78)","v":3.0481086686535641},{"$f":"GEOMEAN(J63:J78)","v":2.0997712795406511},null,null,null,null,null,null,{"$f":"GEOMEAN(Q63:Q78)","v":2.8292806443934126},{"$f":"GEOMEAN(R63:R78)","v":1.578377405108357},{"$f":"GEOMEAN(S63:S78)","v":0.7516901581079084},{"$f":"GEOMEAN(T63:T78)","v":0.92820858832542419},null,{"$f":"AVERAGE(V63:V78)","v":0},0,0,0,0,0]
[null,"Class E",null,null,null,null,null,null,{"$f":"GEOMEAN(I79:I90)","v":18.261673457042296},{"$f":"GEOMEAN(J79:J90)","v":8.1184560463309445},null,null,null,null,null,null,{"$f":"GEOMEAN(Q79:Q90)","v":12.660522838332001},{"$f":"GEOMEAN(R79:R90)","v":6.1198718524398519},{"$f":"GEOMEAN(S79:S90)","v":0.75382213286794442},{"$f":"GEOMEAN(T79:T90)","v":0.69328382571914249},null,{"$f":"AVERAGE(V79:V88)","v":0},0,0,0,0,0]
[null,"Class F",null,null,null,null,null,null,{"$f":"GEOMEAN(I91:I106)","v":15.398985475189257},{"$f":"GEOMEAN(J91:J106)","v":6.8552231434560875},null,null,null,null,null,null,{"$f":"GEOMEAN(Q91:Q106)","v":11.196723392506923},{"$f":"GEOMEAN(R91:R106)","v":5.5715550232012649},{"$f":"GEOMEAN(S91:S106)","v":0.81274597582134189},{"$f":"GEOMEAN(T91:T106)","v":0.72710786113455395},null,{"$f":"AVERAGE(V91:V106)","v":0},0,0,0,0,0]
[null,"All",null,null,null,null,null,null,{"$f":"GEOMEAN(I3:I62,I79:I90)","v":27.14060581612986},{"$f":"GEOMEAN(J3:J62,J79:J90)","v":15.635638706249342},null,null,null,null,null,null,{"$f":"GEOMEAN(Q3:Q62,Q79:Q90)","v":22.51212948516288},{"$f":"GEOMEAN(R3:R62,R79:R90)","v":12.929104761413745},{"$f":"GEOMEAN(S3:S62,S79:S90)","v":0.82689968758654964},{"$f":"GEOMEAN(T3:T62,T79:T90)","v":0.82946304285454664},null,{"$f":"AVERAGE(V3:V62,V79:V90)","v":0},0,0,0,0,0]
[null,"Time geomean",null,null,null,null,null,null,{"$f":"GEOMEAN(I3:I106)","v":15.648626809885988},{"$f":"GEOMEAN(J3:J106)","v":8.8737684755910742},null,null,null,null,null,null,{"$f":"GEOMEAN(Q3:Q106)","v":12.930143430633994},{"$f":"GEOMEAN(R3:R106)","v":7.1742834036964078}]
[null,"Time ratio",null,null,null,null,null,null,null,null,null,null,null,null,null,null,{"$f":"Q115/I115","v":0.82627974887006717},{"$f":"R115/J115","v":0.80848214864187506}]
[null,"Time sum (hours)"]

{"sheet":"LDP-10","index":5,"n_rows":117,"n_cols":27,"rows_kept":117,"cut":false,"hidden":false,"merged":[[0,3,0,9],[0,11,0,17],[0,21,0,23],[0,24,0,26]]}
[null,null,null,"Reference",null,null,null,null,null,null,null,"Tested",null,null,null,null,null,null,null,null,null,"BD-rate (piecewise cubic)",null,null,"BD-rate (cubic)"]
[null,null,"QPISlice","kbps","Y psnr","U psnr","V psnr","Enc T [s]","Dec T [s]","Enc T [h]",null,"kbps","Y psnr","U psnr","V psnr","Enc T [s]","Dec T [s]","Enc T [h]","Enc","Dec",null,"Y","U","V","Y","U","V"]
["Class A1","Tango2",22]
["4K",null,27]
[null,null,32]
[null,null,37]
[null,"FoodMarket4",22]
[null,null,27]
[null,null,32]
[null,null,37]
[null,"Campfire",22]
[null,null,27]
[null,null,32]
[null,null,37]
["Class A2","CatRobot1",22]
["4K",null,27]
[null,null,32]
[null,null,37]
[null,"DaylightRoad2",22]
[null,null,27]
[null,null,32]
[null,null,37]
[null,"ParkRunning3",22]
[null,null,27]
[null,null,32]
[null,null,37]
["Class B","MarketPlace",22,null,null,null,null,null,null,null,null,null,null,null,null,null,null,null,{"$f":"P27/H27","v":{"$error":"#DIV/0!"}},{"$f":"Q27/I27","v":{"$error":"#DIV/0!"}},null,{"$f":"bdrate($D27:$D30,E27:E30,$L27:$L30,M27:M30)","v":{"$error":"#VALUE!"}},{"$f":"bdrate($D27:$D30,F27:F30,$L27:$L30,N27:N30)","v":{"$error":"#VALUE!"}},{"$f":"bdrate($D27:$D30,G27:G30,$L27:$L30,O27:O30)","v":{"$error":"#VALUE!"}},{"$f":"bdrateOld($D27:$D30,E27:E30,$L27:$L30,M27:M30)","v":{"$error":"#VALUE!"}},{"$f":"bdrateOld($D27:$D30,F27:F30,$L27:$L30,N27:N30)","v":{"$error":"#VALUE!"}},{"$f":"bdrateOld($D27:$D30,G27:G30,$L27:$L30,O27:O30)","v":{"$error":"#VALUE!"}}]
["1080p",null,27,null,null,null,null,null,null,null,null,null,null,null,null,null,null,null,{"$error":"#DIV/0!"},{"$error":"#DIV/0!"}]
[null,null,32,null,null,null,null,null,null,null,null,null,null,null,null,null,null,null,{"$error":"#DIV/0!"},{"$error":"#DIV/0!"}]
[null,null,37,null,null,null,null,null,null,null,null,null,null,null,null,null,null,null,{"$error":"#DIV/0!"},{"$error":"#DIV/0!"}]
[null,"RitualDance",22,null,null,null,null,null,null,null,null,null,null,null,null,null,null,null,{"$error":"#DIV/0!"},{"$error":"#DIV/0!"},null,{"$f":"bdrate($D31:$D34,E31:E34,$L31:$L34,M31:M34)","v":{"$error":"#VALUE!"}},{"$f":"bdrate($D31:$D34,F31:F34,$L31:$L34,N31:N34)","v":{"$error":"#VALUE!"}},{"$f":"bdrate($D31:$D34,G31:G34,$L31:$L34,O31:O34)","v":{"$error":"#VALUE!"}},{"$f":"bdrateOld($D31:$D34,E31:E34,$L31:$L34,M31:M34)","v":{"$error":"#VALUE!"}},{"$f":"bdrateOld($D31:$D34,F31:F34,$L31:$L34,N31:N34)","v":{"$error":"#VALUE!"}},{"$f":"bdrateOld($D31:$D34,G31:G34,$L31:$L34,O31:O34)","v":{"$error":"#VALUE!"}}]
[null,null,27,null,null,null,null,null,null,null,null,null,null,null,null,null,null,null,{"$error":"#DIV/0!"},{"$error":"#DIV/0!"}]
[null,null,32,null,null,null,null,null,null,null,null,null,null,null,null,null,null,null,{"$error":"#DIV/0!"},{"$error":"#DIV/0!"}]
[null,null,37,null,null,null,null,null,null,null,null,null,null,null,null,null,null,null,{"$error":"#DIV/0!"},{"$error":"#DIV/0!"}]
[null,"Cactus",22,null,null,null,null,null,null,null,null,null,null,null,null,null,null,null,{"$error":"#DIV/0!"},{"$error":"#DIV/0!"},null,{"$f":"bdrate($D35:$D38,E35:E38,$L35:$L38,M35:M38)","v":{"$error":"#VALUE!"}},{"$f":"bdrate($D35:$D38,F35:F38,$L35:$L38,N35:N38)","v":{"$error":"#VALUE!"}},{"$f":"bdrate($D35:$D38,G35:G38,$L35:$L38,O35:O38)","v":{"$error":"#VALUE!"}},{"$f":"bdrateOld($D35:$D38,E35:E38,$L35:$L38,M35:M38)","v":{"$error":"#VALUE!"}},{"$f":"bdrateOld($D35:$D38,F35:F38,$L35:$L38,N35:N38)","v":{"$error":"#VALUE!"}},{"$f":"bdrateOld($D35:$D38,G35:G38,$L35:$L38,O35:O38)","v":{"$error":"#VALUE!"}}]
[null,null,27,null,null,null,null,null,null,null,null,null,null,null,null,null,null,null,{"$error":"#DIV/0!"},{"$error":"#DIV/0!"}]
[null,null,32,null,null,null,null,null,null,null,null,null,null,null,null,null,null,null,{"$error":"#DIV/0!"},{"$error":"#DIV/0!"}]
[null,null,37,null,null,null,null,null,null,null,null,null,null,null,null,null,null,null,{"$error":"#DIV/0!"},{"$error":"#DIV/0!"}]
[null,"BasketballDrive",22,null,null,null,null,null,null,null,null,null,null,null,null,null,null,null,{"$error":"#DIV/0!"},{"$error":"#DIV/0!"},null,{"$f":"bdrate($D39:$D42,E39:E42,$L39:$L42,M39:M42)","v":{"$error":"#VALUE!"}},{"$f":"bdrate($D39:$D42,F39:F42,$L39:$L42,N39:N42)","v":{"$error":"#VALUE!"}},{"$f":"bdrate($D39:$D42,G39:G42,$L39:$L42,O39:O42)","v":{"$error":"#VALUE!"}},{"$f":"bdrateOld($D39:$D42,E39:E42,$L39:$L42,M39:M42)","v":{"$error":"#VALUE!"}},{"$f":"bdrateOld($D39:$D42,F39:F42,$L39:$L42,N39:N42)","v":{"$error":"#VALUE!"}},{"$f":"bdrateOld($D39:$D42,G39:G42,$L39:$L42,O39:O42)","v":{"$error":"#VALUE!"}}]
[null,null,27,null,null,null,null,null,null,null,null,null,null,null,null,null,null,null,{"$error":"#DIV/0!"},{"$error":"#DIV/0!"}]
[null,null,32,null,null,null,null,null,null,null,null,null,null,null,null,null,null,null,{"$error":"#DIV/0!"},{"$error":"#DIV/0!"}]
[null,null,37,null,null,null,null,null,null,null,null,null,null,null,null,null,null,null,{"$error":"#DIV/0!"},{"$error":"#DIV/0!"}]
[null,"BQTerrace",22,null,null,null,null,null,null,null,null,null,null,null,null,null,null,null,{"$error":"#DIV/0!"},{"$error":"#DIV/0!"},null,{"$f":"bdrate($D43:$D46,E43:E46,$L43:$L46,M43:M46)","v":{"$error":"#VALUE!"}},{"$f":"bdrate($D43:$D46,F43:F46,$L43:$L46,N43:N46)","v":{"$error":"#VALUE!"}},{"$f":"bdrate($D43:$D46,G43:G46,$L43:$L46,O43:O46)","v":{"$error":"#VALUE!"}},{"$f":"bdrateOld($D43:$D46,E43:E46,$L43:$L46,M43:M46)","v":{"$error":"#VALUE!"}},{"$f":"bdrateOld($D43:$D46,F43:F46,$L43:$L46,N43:N46)","v":{"$error":"#VALUE!"}},{"$f":"bdrateOld($D43:$D46,G43:G46,$L43:$L46,O43:O46)","v":{"$error":"#VALUE!"}}]
[null,null,27,null,null,null,null,null,null,null,null,null,null,null,null,null,null,null,{"$error":"#DIV/0!"},{"$error":"#DIV/0!"}]
[null,null,32,null,null,null,null,null,null,null,null,null,null,null,null,null,null,null,{"$error":"#DIV/0!"},{"$error":"#DIV/0!"}]
[null,null,37,null,null,null,null,null,null,null,null,null,null,null,null,null,null,null,{"$error":"#DIV/0!"},{"$error":"#DIV/0!"}]
["Class C","BasketballDrill",22,null,null,null,null,null,null,null,null,null,null,null,null,null,null,null,{"$error":"#DIV/0!"},{"$error":"#DIV/0!"},null,{"$f":"bdrate($D47:$D50,E47:E50,$L47:$L50,M47:M50)","v":{"$error":"#VALUE!"}},{"$f":"bdrate($D47:$D50,F47:F50,$L47:$L50,N47:N50)","v":{"$error":"#VALUE!"}},{"$f":"bdrate($D47:$D50,G47:G50,$L47:$L50,O47:O50)","v":{"$error":"#VALUE!"}},{"$f":"bdrateOld($D47:$D50,E47:E50,$L47:$L50,M47:M50)","v":{"$error":"#VALUE!"}},{"$f":"bdrateOld($D47:$D50,F47:F50,$L47:$L50,N47:N50)","v":{"$error":"#VALUE!"}},{"$f":"bdrateOld($D47:$D50,G47:G50,$L47:$L50,O47:O50)","v":{"$error":"#VALUE!"}}]
["WVGA",null,27,null,null,null,null,null,null,null,null,null,null,null,null,null,null,null,{"$error":"#DIV/0!"},{"$error":"#DIV/0!"}]
[null,null,32,null,null,null,null,null,null,null,null,null,null,null,null,null,null,null,{"$error":"#DIV/0!"},{"$error":"#DIV/0!"}]
[null,null,37,null,null,null,null,null,null,null,null,null,null,null,null,null,null,null,{"$error":"#DIV/0!"},{"$error":"#DIV/0!"}]
[null,"BQMall",22,null,null,null,null,null,null,null,null,null,null,null,null,null,null,null,{"$error":"#DIV/0!"},{"$error":"#DIV/0!"},null,{"$f":"bdrate($D51:$D54,E51:E54,$L51:$L54,M51:M54)","v":{"$error":"#VALUE!"}},{"$f":"bdrate($D51:$D54,F51:F54,$L51:$L54,N51:N54)","v":{"$error":"#VALUE!"}},{"$f":"bdrate($D51:$D54,G51:G54,$L51:$L54,O51:O54)","v":{"$error":"#VALUE!"}},{"$f":"bdrateOld($D51:$D54,E51:E54,$L51:$L54,M51:M54)","v":{"$error":"#VALUE!"}},{"$f":"bdrateOld($D51:$D54,F51:F54,$L51:$L54,N51:N54)","v":{"$error":"#VALUE!"}},{"$f":"bdrateOld($D51:$D54,G51:G54,$L51:$L54,O51:O54)","v":{"$error":"#VALUE!"}}]
[null,null,27,null,null,null,null,null,null,null,null,null,null,null,null,null,null,null,{"$error":"#DIV/0!"},{"$error":"#DIV/0!"}]
[null,null,32,null,null,null,null,null,null,null,null,null,null,null,null,null,null,null,{"$error":"#DIV/0!"},{"$error":"#DIV/0!"}]
[null,null,37,null,null,null,null,null,null,null,null,null,null,null,null,null,null,null,{"$error":"#DIV/0!"},{"$error":"#DIV/0!"}]
[null,"PartyScene",22,null,null,null,null,null,null,null,null,null,null,null,null,null,null,null,{"$error":"#DIV/0!"},{"$error":"#DIV/0!"},null,{"$f":"bdrate($D55:$D58,E55:E58,$L55:$L58,M55:M58)","v":{"$error":"#VALUE!"}},{"$f":"bdrate($D55:$D58,F55:F58,$L55:$L58,N55:N58)","v":{"$error":"#VALUE!"}},{"$f":"bdrate($D55:$D58,G55:G58,$L55:$L58,O55:O58)","v":{"$error":"#VALUE!"}},{"$f":"bdrateOld($D55:$D58,E55:E58,$L55:$L58,M55:M58)","v":{"$error":"#VALUE!"}},{"$f":"bdrateOld($D55:$D58,F55:F58,$L55:$L58,N55:N58)","v":{"$error":"#VALUE!"}},{"$f":"bdrateOld($D55:$D58,G55:G58,$L55:$L58,O55:O58)","v":{"$error":"#VALUE!"}}]
[null,null,27,null,null,null,null,null,null,null,null,null,null,null,null,null,null,null,{"$error":"#DIV/0!"},{"$error":"#DIV/0!"}]
[null,null,32,null,null,null,null,null,null,null,null,null,null,null,null,null,null,null,{"$error":"#DIV/0!"},{"$error":"#DIV/0!"}]
[null,null,37,null,null,null,null,null,null,null,null,null,null,null,null,null,null,null,{"$error":"#DIV/0!"},{"$error":"#DIV/0!"}]
[null,"RaceHorses",22,null,null,null,null,null,null,null,null,null,null,null,null,null,null,null,{"$f":"P59/H59","v":{"$error":"#DIV/0!"}},{"$f":"Q59/I59","v":{"$error":"#DIV/0!"}},null,{"$f":"bdrate($D59:$D62,E59:E62,$L59:$L62,M59:M62)","v":{"$error":"#VALUE!"}},{"$f":"bdrate($D59:$D62,F59:F62,$L59:$L62,N59:N62)","v":{"$error":"#VALUE!"}},{"$f":"bdrate($D59:$D62,G59:G62,$L59:$L62,O59:O62)","v":{"$error":"#VALUE!"}},{"$f":"bdrateOld($D59:$D62,E59:E62,$L59:$L62,M59:M62)","v":{"$error":"#VALUE!"}},{"$f":"bdrateOld($D59:$D62,F59:F62,$L59:$L62,N59:N62)","v":{"$error":"#VALUE!"}},{"$f":"bdrateOld($D59:$D62,G59:G62,$L59:$L62,O59:O62)","v":{"$error":"#VALUE!"}}]
[null,null,27,null,null,null,null,null,null,null,null,null,null,null,null,null,null,null,{"$error":"#DIV/0!"},{"$error":"#DIV/0!"}]
[null,null,32,null,null,null,null,null,null,null,null,null,null,null,null,null,null,null,{"$error":"#DIV/0!"},{"$error":"#DIV/0!"}]
[null,null,37,null,null,null,null,null,null,null,null,null,null,null,null,null,null,null,{"$error":"#DIV/0!"},{"$error":"#DIV/0!"}]
["Class D","BasketballPass",{"$f":"C59","v":22},null,null,null,null,null,null,null,null,null,null,null,null,null,null,null,{"$error":"#DIV/0!"},{"$error":"#DIV/0!"},null,{"$f":"bdrate($D63:$D66,E63:E66,$L63:$L66,M63:M66)","v":{"$error":"#VALUE!"}},{"$f":"bdrate($D63:$D66,F63:F66,$L63:$L66,N63:N66)","v":{"$error":"#VALUE!"}},{"$f":"bdrate($D63:$D66,G63:G66,$L63:$L66,O63:O66)","v":{"$error":"#VALUE!"}},{"$f":"bdrateOld($D63:$D66,E63:E66,$L63:$L66,M63:M66)","v":{"$error":"#VALUE!"}},{"$f":"bdrateOld($D63:$D66,F63:F66,$L63:$L66,N63:N66)","v":{"$error":"#VALUE!"}},{"$f":"bdrateOld($D63:$D66,G63:G66,$L63:$L66,O63:O66)","v":{"$error":"#VALUE!"}}]
["WQVGA",null,{"$f":"C60","v":27},null,null,null,null,null,null,null,null,null,null,null,null,null,null,null,{"$error":"#DIV/0!"},{"$error":"#DIV/0!"}]
[null,null,{"$f":"C61","v":32},null,null,null,null,null,null,null,null,null,null,null,null,null,null,null,{"$error":"#DIV/0!"},{"$error":"#DIV/0!"}]
[null,null,{"$f":"C62","v":37},null,null,null,null,null,null,null,null,null,null,null,null,null,null,null,{"$error":"#DIV/0!"},{"$error":"#DIV/0!"}]
[null,"BQSquare",22,null,null,null,null,null,null,null,null,null,null,null,null,null,null,null,{"$error":"#DIV/0!"},{"$error":"#DIV/0!"},null,{"$f":"bdrate($D67:$D70,E67:E70,$L67:$L70,M67:M70)","v":{"$error":"#VALUE!"}},{"$f":"bdrate($D67:$D70,F67:F70,$L67:$L70,N67:N70)","v":{"$error":"#VALUE!"}},{"$f":"bdrate($D67:$D70,G67:G70,$L67:$L70,O67:O70)","v":{"$error":"#VALUE!"}},{"$f":"bdrateOld($D67:$D70,E67:E70,$L67:$L70,M67:M70)","v":{"$error":"#VALUE!"}},{"$f":"bdrateOld($D67:$D70,F67:F70,$L67:$L70,N67:N70)","v":{"$error":"#VALUE!"}},{"$f":"bdrateOld($D67:$D70,G67:G70,$L67:$L70,O67:O70)","v":{"$error":"#VALUE!"}}]
[null,null,27,null,null,null,null,null,null,null,null,null,null,null,null,null,null,null,{"$error":"#DIV/0!"},{"$error":"#DIV/0!"}]
[null,null,32,null,null,null,null,null,null,null,null,null,null,null,null,null,null,null,{"$error":"#DIV/0!"},{"$error":"#DIV/0!"}]
[null,null,37,null,null,null,null,null,null,null,null,null,null,null,null,null,null,null,{"$error":"#DIV/0!"},{"$error":"#DIV/0!"}]
[null,"BlowingBubbles",22,null,null,null,null,null,null,null,null,null,null,null,null,null,null,null,{"$error":"#DIV/0!"},{"$error":"#DIV/0!"},null,{"$f":"bdrate($D71:$D74,E71:E74,$L71:$L74,M71:M74)","v":{"$error":"#VALUE!"}},{"$f":"bdrate($D71:$D74,F71:F74,$L71:$L74,N71:N74)","v":{"$error":"#VALUE!"}},{"$f":"bdrate($D71:$D74,G71:G74,$L71:$L74,O71:O74)","v":{"$error":"#VALUE!"}},{"$f":"bdrateOld($D71:$D74,E71:E74,$L71:$L74,M71:M74)","v":{"$error":"#VALUE!"}},{"$f":"bdrateOld($D71:$D74,F71:F74,$L71:$L74,N71:N74)","v":{"$error":"#VALUE!"}},{"$f":"bdrateOld($D71:$D74,G71:G74,$L71:$L74,O71:O74)","v":{"$error":"#VALUE!"}}]
[null,null,27,null,null,null,null,null,null,null,null,null,null,null,null,null,null,null,{"$error":"#DIV/0!"},{"$error":"#DIV/0!"}]
[null,null,32,null,null,null,null,null,null,null,null,null,null,null,null,null,null,null,{"$error":"#DIV/0!"},{"$error":"#DIV/0!"}]
[null,null,37,null,null,null,null,null,null,null,null,null,null,null,null,null,null,null,{"$error":"#DIV/0!"},{"$error":"#DIV/0!"}]
[null,"RaceHorses",22,null,null,null,null,null,null,null,null,null,null,null,null,null,null,null,{"$error":"#DIV/0!"},{"$error":"#DIV/0!"},null,{"$f":"bdrate($D75:$D78,E75:E78,$L75:$L78,M75:M78)","v":{"$error":"#VALUE!"}},{"$f":"bdrate($D75:$D78,F75:F78,$L75:$L78,N75:N78)","v":{"$error":"#VALUE!"}},{"$f":"bdrate($D75:$D78,G75:G78,$L75:$L78,O75:O78)","v":{"$error":"#VALUE!"}},{"$f":"bdrateOld($D75:$D78,E75:E78,$L75:$L78,M75:M78)","v":{"$error":"#VALUE!"}},{"$f":"bdrateOld($D75:$D78,F75:F78,$L75:$L78,N75:N78)","v":{"$error":"#VALUE!"}},{"$f":"bdrateOld($D75:$D78,G75:G78,$L75:$L78,O75:O78)","v":{"$error":"#VALUE!"}}]
[null,null,27,null,null,null,null,null,null,null,null,null,null,null,null,null,null,null,{"$error":"#DIV/0!"},{"$error":"#DIV/0!"}]
[null,null,32,null,null,null,null,null,null,null,null,null,null,null,null,null,null,null,{"$error":"#DIV/0!"},{"$error":"#DIV/0!"}]
[null,null,37,null,null,null,null,null,null,null,null,null,null,null,null,null,null,null,{"$error":"#DIV/0!"},{"$error":"#DIV/0!"}]
["ClassE","FourPeople",22,null,null,null,null,null,null,null,null,null,null,null,null,null,null,null,{"$error":"#DIV/0!"},{"$error":"#DIV/0!"},null,{"$f":"bdrate($D79:$D82,E79:E82,$L79:$L82,M79:M82)","v":{"$error":"#VALUE!"}},{"$f":"bdrate($D79:$D82,F79:F82,$L79:$L82,N79:N82)","v":{"$error":"#VALUE!"}},{"$f":"bdrate($D79:$D82,G79:G82,$L79:$L82,O79:O82)","v":{"$error":"#VALUE!"}},{"$f":"bdrateOld($D79:$D82,E79:E82,$L79:$L82,M79:M82)","v":{"$error":"#VALUE!"}},{"$f":"bdrateOld($D79:$D82,F79:F82,$L79:$L82,N79:N82)","v":{"$error":"#VALUE!"}},{"$f":"bdrateOld($D79:$D82,G79:G82,$L79:$L82,O79:O82)","v":{"$error":"#VALUE!"}}]
["720p",null,27,null,null,null,null,null,null,null,null,null,null,null,null,null,null,null,{"$error":"#DIV/0!"},{"$error":"#DIV/0!"}]
[null,null,32,null,null,null,null,null,null,null,null,null,null,null,null,null,null,null,{"$error":"#DIV/0!"},{"$error":"#DIV/0!"}]
[null,null,37,null,null,null,null,null,null,null,null,null,null,null,null,null,null,null,{"$error":"#DIV/0!"},{"$error":"#DIV/0!"}]
[null,"Johnny",22,null,null,null,null,null,null,null,null,null,null,null,null,null,null,null,{"$error":"#DIV/0!"},{"$error":"#DIV/0!"},null,{"$f":"bdrate($D83:$D86,E83:E86,$L83:$L86,M83:M86)","v":{"$error":"#VALUE!"}},{"$f":"bdrate($D83:$D86,F83:F86,$L83:$L86,N83:N86)","v":{"$error":"#VALUE!"}},{"$f":"bdrate($D83:$D86,G83:G86,$L83:$L86,O83:O86)","v":{"$error":"#VALUE!"}},{"$f":"bdrateOld($D83:$D86,E83:E86,$L83:$L86,M83:M86)","v":{"$error":"#VALUE!"}},{"$f":"bdrateOld($D83:$D86,F83:F86,$L83:$L86,N83:N86)","v":{"$error":"#VALUE!"}},{"$f":"bdrateOld($D83:$D86,G83:G86,$L83:$L86,O83:O86)","v":{"$error":"#VALUE!"}}]
[null,null,27,null,null,null,null,null,null,null,null,null,null,null,null,null,null,null,{"$error":"#DIV/0!"},{"$error":"#DIV/0!"}]
[null,null,32,null,null,null,null,null,null,null,null,null,null,null,null,null,null,null,{"$error":"#DIV/0!"},{"$error":"#DIV/0!"}]
[null,null,37,null,null,null,null,null,null,null,null,null,null,null,null,null,null,null,{"$error":"#DIV/0!"},{"$error":"#DIV/0!"}]
[null,"KristenAndSara",22,null,null,null,null,null,null,null,null,null,null,null,null,null,null,null,{"$error":"#DIV/0!"},{"$error":"#DIV/0!"},null,{"$f":"bdrate($D87:$D90,E87:E90,$L87:$L90,M87:M90)","v":{"$error":"#VALUE!"}},{"$f":"bdrate($D87:$D90,F87:F90,$L87:$L90,N87:N90)","v":{"$error":"#VALUE!"}},{"$f":"bdrate($D87:$D90,G87:G90,$L87:$L90,O87:O90)","v":{"$error":"#VALUE!"}},{"$f":"bdrateOld($D87:$D90,E87:E90,$L87:$L90,M87:M90)","v":{"$error":"#VALUE!"}},{"$f":"bdrateOld($D87:$D90,F87:F90,$L87:$L90,N87:N90)","v":{"$error":"#VALUE!"}},{"$f":"bdrateOld($D87:$D90,G87:G90,$L87:$L90,O87:O90)","v":{"$error":"#VALUE!"}}]
[null,null,27,null,null,null,null,null,null,null,null,null,null,null,null,null,null,null,{"$error":"#DIV/0!"},{"$error":"#DIV/0!"}]
[null,null,32,null,null,null,null,null,null,null,null,null,null,null,null,null,null,null,{"$error":"#DIV/0!"},{"$error":"#DIV/0!"}]
[null,null,37,null,null,null,null,null,null,null,null,null,null,null,null,null,null,null,{"$error":"#DIV/0!"},{"$error":"#DIV/0!"}]
["ClassF","BasketballDrillText",22,null,null,null,null,null,null,null,null,null,null,null,null,null,null,null,{"$f":"P91/H91","v":{"$error":"#DIV/0!"}},{"$f":"Q91/I91","v":{"$error":"#DIV/0!"}},null,{"$f":"bdrate($D91:$D94,E91:E94,$L91:$L94,M91:M94)","v":{"$error":"#VALUE!"}},{"$f":"bdrate($D91:$D94,F91:F94,$L91:$L94,N91:N94)","v":{"$error":"#VALUE!"}},{"$f":"bdrate($D91:$D94,G91:G94,$L91:$L94,O91:O94)","v":{"$error":"#VALUE!"}},{"$f":"bdrateOld($D91:$D94,E91:E94,$L91:$L94,M91:M94)","v":{"$error":"#VALUE!"}},{"$f":"bdrateOld($D91:$D94,F91:F94,$L91:$L94,N91:N94)","v":{"$error":"#VALUE!"}},{"$f":"bdrateOld($D91:$D94,G91:G94,$L91:$L94,O91:O94)","v":{"$error":"#VALUE!"}}]
[null,null,27,null,null,null,null,null,null,null,null,null,null,null,null,null,null,null,{"$error":"#DIV/0!"},{"$error":"#DIV/0!"}]
[null,null,32,null,null,null,null,null,null,null,null,null,null,null,null,null,null,null,{"$error":"#DIV/0!"},{"$error":"#DIV/0!"}]
[null,null,37,null,null,null,null,null,null,null,null,null,null,null,null,null,null,null,{"$error":"#DIV/0!"},{"$error":"#DIV/0!"}]
[null,"ArenaOfValor",22,null,null,null,null,null,null,null,null,null,null,null,null,null,null,null,{"$error":"#DIV/0!"},{"$error":"#DIV/0!"},null,{"$f":"bdrate($D95:$D98,E95:E98,$L95:$L98,M95:M98)","v":{"$error":"#VALUE!"}},{"$f":"bdrate($D95:$D98,F95:F98,$L95:$L98,N95:N98)","v":{"$error":"#VALUE!"}},{"$f":"bdrate($D95:$D98,G95:G98,$L95:$L98,O95:O98)","v":{"$error":"#VALUE!"}},{"$f":"bdrateOld($D95:$D98,E95:E98,$L95:$L98,M95:M98)","v":{"$error":"#VALUE!"}},{"$f":"bdrateOld($D95:$D98,F95:F98,$L95:$L98,N95:N98)","v":{"$error":"#VALUE!"}},{"$f":"bdrateOld($D95:$D98,G95:G98,$L95:$L98,O95:O98)","v":{"$error":"#VALUE!"}}]
[null,null,27,null,null,null,null,null,null,null,null,null,null,null,null,null,null,null,{"$error":"#DIV/0!"},{"$error":"#DIV/0!"}]
[null,null,32,null,null,null,null,null,null,null,null,null,null,null,null,null,null,null,{"$error":"#DIV/0!"},{"$error":"#DIV/0!"}]
[null,null,37,null,null,null,null,null,null,null,null,null,null,null,null,null,null,null,{"$error":"#DIV/0!"},{"$error":"#DIV/0!"}]
[null,"SlideEditing",22,null,null,null,null,null,null,null,null,null,null,null,null,null,null,null,{"$error":"#DIV/0!"},{"$error":"#DIV/0!"},null,{"$f":"bdrate($D99:$D102,E99:E102,$L99:$L102,M99:M102)","v":{"$error":"#VALUE!"}},{"$f":"bdrate($D99:$D102,F99:F102,$L99:$L102,N99:N102)","v":{"$error":"#VALUE!"}},{"$f":"bdrate($D99:$D102,G99:G102,$L99:$L102,O99:O102)","v":{"$error":"#VALUE!"}},{"$f":"bdrateOld($D99:$D102,E99:E102,$L99:$L102,M99:M102)","v":{"$error":"#VALUE!"}},{"$f":"bdrateOld($D99:$D102,F99:F102,$L99:$L102,N99:N102)","v":{"$error":"#VALUE!"}},{"$f":"bdrateOld($D99:$D102,G99:G102,$L99:$L102,O99:O102)","v":{"$error":"#VALUE!"}}]
[null,null,27,null,null,null,null,null,null,null,null,null,null,null,null,null,null,null,{"$error":"#DIV/0!"},{"$error":"#DIV/0!"}]
[null,null,32,null,null,null,null,null,null,null,null,null,null,null,null,null,null,null,{"$error":"#DIV/0!"},{"$error":"#DIV/0!"}]
[null,null,37,null,null,null,null,null,null,null,null,null,null,null,null,null,null,null,{"$error":"#DIV/0!"},{"$error":"#DIV/0!"}]
[null,"SlideShow",22,null,null,null,null,null,null,null,null,null,null,null,null,null,null,null,{"$error":"#DIV/0!"},{"$error":"#DIV/0!"},null,{"$f":"bdrate($D103:$D106,E103:E106,$L103:$L106,M103:M106)","v":{"$error":"#VALUE!"}},{"$f":"bdrate($D103:$D106,F103:F106,$L103:$L106,N103:N106)","v":{"$error":"#VALUE!"}},{"$f":"bdrate($D103:$D106,G103:G106,$L103:$L106,O103:O106)","v":{"$error":"#VALUE!"}},{"$f":"bdrateOld($D103:$D106,E103:E106,$L103:$L106,M103:M106)","v":{"$error":"#VALUE!"}},{"$f":"bdrateOld($D103:$D106,F103:F106,$L103:$L106,N103:N106)","v":{"$error":"#VALUE!"}},{"$f":"bdrateOld($D103:$D106,G103:G106,$L103:$L106,O103:O106)","v":{"$error":"#VALUE!"}}]
[null,null,27,null,null,null,null,null,null,null,null,null,null,null,null,null,null,null,{"$error":"#DIV/0!"},{"$error":"#DIV/0!"}]
[null,null,32,null,null,null,null,null,null,null,null,null,null,null,null,null,null,null,{"$error":"#DIV/0!"},{"$error":"#DIV/0!"}]
[null,null,37,null,null,null,null,null,null,null,null,null,null,null,null,null,null,null,{"$error":"#DIV/0!"},{"$error":"#DIV/0!"}]
[null,"Class A1"]
[null,"Class A2"]
[null,"Class B",null,null,null,null,null,null,{"$f":"GEOMEAN(I27:I46)","v":{"$error":"#NUM!"}},{"$f":"GEOMEAN(J27:J46)","v":{"$error":"#NUM!"}},null,null,null,null,null,null,{"$f":"GEOMEAN(Q27:Q46)","v":{"$error":"#NUM!"}},{"$f":"GEOMEAN(R27:R46)","v":{"$error":"#NUM!"}},{"$f":"GEOMEAN(S27:S46)","v":{"$error":"#DIV/0!"}},{"$f":"GEOMEAN(T27:T46)","v":{"$error":"#DIV/0!"}},null,{"$f":"AVERAGE(V27:V46)","v":{"$error":"#VALUE!"}},{"$error":"#VALUE!"},{"$error":"#VALUE!"},{"$error":"#VALUE!"},{"$error":"#VALUE!"},{"$error":"#VALUE!"}]
[null,"Class C",null,null,null,null,null,null,{"$f":"GEOMEAN(I47:I62)","v":{"$error":"#NUM!"}},{"$f":"GEOMEAN(J47:J62)","v":{"$error":"#NUM!"}},null,null,null,null,null,null,{"$f":"GEOMEAN(Q47:Q62)","v":{"$error":"#NUM!"}},{"$f":"GEOMEAN(R47:R62)","v":{"$error":"#NUM!"}},{"$f":"GEOMEAN(S47:S62)","v":{"$error":"#DIV/0!"}},{"$f":"GEOMEAN(T47:T62)","v":{"$error":"#DIV/0!"}},null,{"$f":"AVERAGE(V47:V62)","v":{"$error":"#VALUE!"}},{"$error":"#VALUE!"},{"$error":"#VALUE!"},{"$error":"#VALUE!"},{"$error":"#VALUE!"},{"$error":"#VALUE!"}]
[null,"Class D",null,null,null,null,null,null,{"$f":"GEOMEAN(I63:I78)","v":{"$error":"#NUM!"}},{"$f":"GEOMEAN(J63:J78)","v":{"$error":"#NUM!"}},null,null,null,null,null,null,{"$f":"GEOMEAN(Q63:Q78)","v":{"$error":"#NUM!"}},{"$f":"GEOMEAN(R63:R78)","v":{"$error":"#NUM!"}},{"$f":"GEOMEAN(S63:S78)","v":{"$error":"#DIV/0!"}},{"$f":"GEOMEAN(T63:T78)","v":{"$error":"#DIV/0!"}},null,{"$f":"AVERAGE(V63:V78)","v":{"$error":"#VALUE!"}},{"$error":"#VALUE!"},{"$error":"#VALUE!"},{"$error":"#VALUE!"},{"$error":"#VALUE!"},{"$error":"#VALUE!"}]
[null,"Class E",null,null,null,null,null,null,{"$f":"GEOMEAN(I79:I90)","v":{"$error":"#NUM!"}},{"$f":"GEOMEAN(J79:J90)","v":{"$error":"#NUM!"}},null,null,null,null,null,null,{"$f":"GEOMEAN(Q79:Q90)","v":{"$error":"#NUM!"}},{"$f":"GEOMEAN(R79:R90)","v":{"$error":"#NUM!"}},{"$f":"GEOMEAN(S79:S90)","v":{"$error":"#DIV/0!"}},{"$f":"GEOMEAN(T79:T90)","v":{"$error":"#DIV/0!"}},null,{"$f":"AVERAGE(V79:V88)","v":{"$error":"#VALUE!"}},{"$error":"#VALUE!"},{"$error":"#VALUE!"},{"$error":"#VALUE!"},{"$error":"#VALUE!"},{"$error":"#VALUE!"}]
[null,"Class F",null,null,null,null,null,null,{"$f":"GEOMEAN(I91:I106)","v":{"$error":"#NUM!"}},{"$f":"GEOMEAN(J91:J106)","v":{"$error":"#NUM!"}},null,null,null,null,null,null,{"$f":"GEOMEAN(Q91:Q106)","v":{"$error":"#NUM!"}},{"$f":"GEOMEAN(R91:R106)","v":{"$error":"#NUM!"}},{"$f":"GEOMEAN(S91:S106)","v":{"$error":"#DIV/0!"}},{"$f":"GEOMEAN(T91:T106)","v":{"$error":"#DIV/0!"}},null,{"$f":"AVERAGE(V91:V106)","v":{"$error":"#VALUE!"}},{"$error":"#VALUE!"},{"$error":"#VALUE!"},{"$error":"#VALUE!"},{"$error":"#VALUE!"},{"$error":"#VALUE!"}]
[null,"All",null,null,null,null,null,null,{"$f":"GEOMEAN(I3:I62,I79:I90)","v":{"$error":"#NUM!"}},{"$f":"GEOMEAN(J3:J62,J79:J90)","v":{"$error":"#NUM!"}},null,null,null,null,null,null,{"$f":"GEOMEAN(Q3:Q62,Q79:Q90)","v":{"$error":"#NUM!"}},{"$f":"GEOMEAN(R3:R62,R79:R90)","v":{"$error":"#NUM!"}},{"$f":"GEOMEAN(S3:S62,S79:S90)","v":{"$error":"#DIV/0!"}},{"$f":"GEOMEAN(T3:T62,T79:T90)","v":{"$error":"#DIV/0!"}},null,{"$f":"AVERAGE(V3:V62,V79:V90)","v":{"$error":"#VALUE!"}},{"$error":"#VALUE!"},{"$error":"#VALUE!"},{"$error":"#VALUE!"},{"$error":"#VALUE!"},{"$error":"#VALUE!"}]
[null,"Time geomean",null,null,null,null,null,null,{"$f":"GEOMEAN(I3:I106)","v":{"$error":"#NUM!"}},{"$f":"GEOMEAN(J3:J106)","v":{"$error":"#NUM!"}},null,null,null,null,null,null,{"$f":"GEOMEAN(Q3:Q106)","v":{"$error":"#NUM!"}},{"$f":"GEOMEAN(R3:R106)","v":{"$error":"#NUM!"}}]
[null,"Time ratio",null,null,null,null,null,null,null,null,null,null,null,null,null,null,{"$f":"Q115/I115","v":{"$error":"#NUM!"}},{"$f":"R115/J115","v":{"$error":"#NUM!"}}]
[null,"Time sum (hours)"]

{"sheet":"Reference","index":6,"n_rows":416,"n_cols":7,"rows_kept":416,"cut":false,"hidden":false,"merged":[]}
["Tango2.Q22.jvet10.ai",18734.284899999999,41.750399999999999,49.514099999999999,48.327800000000003,80159.510164599997,38.038151025799998]
["Tango2.Q27.jvet10.ai",5694.5968000000003,40.2346,48.502200000000002,46.677700000000002,30129.664979900001,29.6164698601]
["Tango2.Q32.jvet10.ai",3175.6280999999999,39.4131,47.487000000000002,45.2483,10711.832922899999,26.249410152399999]
["Tango2.Q37.jvet10.ai",1899.9357,38.2333,46.534700000000001,43.920699999999997,3919.2765252600002,23.319416046099999]
["FoodMarket4.Q22.jvet10.ai",15381.6963,45.170200000000001,49.701900000000002,50.442399999999999,47660.127066100002,35.582944869999999]
["FoodMarket4.Q27.jvet10.ai",8792.9115999999995,43.698700000000002,47.543999999999997,48.1554,21997.810718799999,32.283244132999997]
["FoodMarket4.Q32.jvet10.ai",5274.5842000000002,41.917099999999998,45.792099999999998,46.240900000000003,12643.689040900001,29.373127937300001]
["FoodMarket4.Q37.jvet10.ai",3151.6246999999998,39.698799999999999,44.424100000000003,44.7102,6275.6188797900004,26.5791769028]
["CampfireParty2.Q22.jvet10.ai",21433.453399999999,43.234499999999997,45.882599999999996,43.723300000000002,76637.375744999998,44.609726905800002]
["CampfireParty2.Q27.jvet10.ai",8938.6420999999991,39.622500000000002,42.034999999999997,41.6678,48328.970890999997,37.399422168699999]
["CampfireParty2.Q32.jvet10.ai",3254.1324,37.311700000000002,39.406799999999997,40.315300000000001,25369.2531581,29.296697855000001]
["CampfireParty2.Q37.jvet10.ai",1754.0724,35.9405,37.462299999999999,39.148000000000003,10590.219213,24.9716689587]
["CatRobot1.Q22.jvet10.ai",33948.909500000002,42.421399999999998,42.517600000000002,44.122399999999999,84388.510655200007,45.865070819899998]
["CatRobot1.Q27.jvet10.ai",11565.161099999999,39.8947,41.3994,42.463900000000002,44972.547382800003,34.702493190799999]
["CatRobot1.Q32.jvet10.ai",6680.7157999999999,38.529400000000003,40.626399999999997,41.053600000000003,21731.843597200001,30.340058803600002]
["CatRobot1.Q37.jvet10.ai",3988.9546999999998,36.664900000000003,39.892000000000003,39.821899999999999,11191.599799899999,27.025511980099999]
["DaylightRoad2.Q22.jvet10.ai",63003.806799999998,41.378900000000002,46.072000000000003,44.064399999999999,122274.52235699999,53.555646896399999]
["DaylightRoad2.Q27.jvet10.ai",11925.5479,37.771099999999997,44.828200000000002,42.436,59474.522054000001,34.010607957799998]
["DaylightRoad2.Q32.jvet10.ai",6401.3510999999999,36.734900000000003,43.756500000000003,41.133000000000003,25884.174011200001,28.568037033100001]
["DaylightRoad2.Q37.jvet10.ai",3567.0742,35.287399999999998,42.858199999999997,40.1389,11773.131784900001,25.390675783199999]
["ParkRunning3.Q22.jvet10.ai",49550.336799999997,46.4268,40.704700000000003,41.136600000000001,80971.943384400001,52.5222389698]
["ParkRunning3.Q27.jvet10.ai",28034.271100000002,42.537100000000002,36.966000000000001,37.8367,55489.563266099998,45.384500980399999]
["ParkRunning3.Q32.jvet10.ai",15577.6908,38.8292,34.427700000000002,35.556800000000003,38483.643448100003,40.3888399601]
["ParkRunning3.Q37.jvet10.ai",8485.6895000000004,35.397500000000001,32.697299999999998,34.019199999999998,23192.818242099998,36.690253019300002]
["MarketPlace.Q22.jvet10.ai",10306.888000000001,42.878999999999998,45.108899999999998,45.727400000000003,44176.611614200003,22.914959907499998]
["MarketPlace.Q27.jvet10.ai",5548.4935999999998,40.216799999999999,42.964399999999998,43.903599999999997,25731.556785600002,19.254499912299998]
["MarketPlace.Q32.jvet10.ai",3102.4983999999999,37.730200000000004,41.451000000000001,42.4373,15605.996922,16.932894945099999]
["MarketPlace.Q37.jvet10.ai",1655.348,35.129800000000003,40.371400000000001,41.326500000000003,8632.2083797499999,14.6637811661]
["RitualDance.Q22.jvet10.ai",6021.116,46.008400000000002,48.132800000000003,49.390300000000003,25891.963771300001,20.304611921300001]
["RitualDance.Q27.jvet10.ai",3491.2248,43.098199999999999,45.701999999999998,46.7883,16014.6239252,17.37590909]
["RitualDance.Q32.jvet10.ai",1966.9168,40.093600000000002,43.8992,44.776600000000002,10455.215770000001,14.8868141174]
["RitualDance.Q37.jvet10.ai",1075.8936000000001,37.1081,42.636299999999999,43.222299999999997,5573.0361096899996,12.786820173300001]
["Cactus.Q22.jvet10.ai",12587.8706,41.1128,41.683799999999998,44.305999999999997,49702.4016252,23.862974882100001]
["Cactus.Q27.jvet10.ai",5499.8302000000003,38.236699999999999,39.5717,42.311599999999999,30299.097002999999,18.4635820389]
["Cactus.Q32.jvet10.ai",2973.9357,36.088700000000003,38.624400000000001,40.728499999999997,17520.258955699999,16.6125400066]
["Cactus.Q37.jvet10.ai",1605.2412999999999,33.706699999999998,37.846600000000002,39.520600000000002,9658.97919989,12.546162843699999]
["BasketballDrive.Q22.jvet10.ai",7977.9324999999999,41.419699999999999,44.634099999999997,46.516399999999997,39806.235785199999,19.756515026100001]
["BasketballDrive.Q27.jvet10.ai",3270.3746000000001,39.005000000000003,43.303800000000003,44.487099999999998,22933.142045000001,15.5008971691]
["BasketballDrive.Q32.jvet10.ai",1676.2429,37.305399999999999,42.106699999999996,42.713099999999997,11347.386281499999,12.870417118100001]
["BasketballDrive.Q37.jvet10.ai",935.39760000000001,35.433599999999998,41.0989,41.286499999999997,5408.5296738099996,11.0663540363]
["BQTerrace.Q22.jvet10.ai",21304.6168,42.405700000000003,42.798900000000003,44.629399999999997,34670.030201200003,30.975376129200001]
["BQTerrace.Q27.jvet10.ai",9138.8096000000005,37.323399999999999,41.014499999999998,43.268900000000002,39085.832770599998,21.422159910200001]
["BQTerrace.Q32.jvet10.ai",4591.1808000000001,34.844799999999999,39.7012,42.244399999999999,25144.218160199998,17.5512709618]
["BQTerrace.Q37.jvet10.ai",2443.4623999999999,32.490299999999998,38.774099999999997,41.484000000000002,14945.131061100001,14.980526924099999]
["BasketballDrill.Q22.jvet10.ai",2317.0142999999998,42.358699999999999,43.945500000000003,44.741399999999999,7192.41500068,5.1232771873500003]
["BasketballDrill.Q27.jvet10.ai",1241.9523999999999,38.945900000000002,41.442999999999998,41.993400000000001,5475.3208017300003,3.8785808086400002]
["BasketballDrill.Q32.jvet10.ai",668.70870000000002,35.974800000000002,39.652799999999999,40.018599999999999,3696.89631414,3.1050488948799999]
["BasketballDrill.Q37.jvet10.ai",369.53019999999998,33.2761,38.2087,38.313299999999998,2067.7133343199998,2.6242489814800001]
["BQMall.Q22.jvet10.ai",2630.6624000000002,42.290599999999998,44.2958,45.959899999999998,9513.97971392,5.3405051231399998]
["BQMall.Q27.jvet10.ai",1577.0888,39.4694,42.124299999999998,43.508800000000001,6437.2542021299996,4.36634802818]
["BQMall.Q32.jvet10.ai",928.54079999999999,36.4679,40.438400000000001,41.610900000000001,4671.6574857200003,3.64643001556]
["BQMall.Q37.jvet10.ai",527.50319999999999,33.391599999999997,39.128300000000003,40.104199999999999,3079.3174531499999,3.1518840789799998]
["PartyScene.Q22.jvet10.ai",5093.0460000000003,41.440300000000001,42.637700000000002,43.7117,9868.8155632100006,6.8218839168500001]
["PartyScene.Q27.jvet10.ai",3155.1547999999998,37.1982,39.712699999999998,40.591000000000001,8163.7437658400004,5.2388551235199996]
["PartyScene.Q32.jvet10.ai",1887.5071,33.447099999999999,37.7639,38.471600000000002,6585.3053014300003,4.3215339183800001]
["PartyScene.Q37.jvet10.ai",1012.6833,29.758099999999999,36.349899999999998,36.959200000000003,5073.8300847999999,3.4530680179600002]
["RaceHorsesC.Q22.jvet10.ai",1734.8068000000001,42.742199999999997,43.525700000000001,44.3733,4941.0051620000004,2.9454200267799999]
["RaceHorsesC.Q27.jvet10.ai",1040.8721,39.368699999999997,40.264800000000001,41.725299999999997,3553.1875140699999,2.36375594139]
["RaceHorsesC.Q32.jvet10.ai",600.06949999999995,36.000999999999998,38.041699999999999,39.988500000000002,2610.9005370099999,2.1866898536699999]
["RaceHorsesC.Q37.jvet10.ai",305.05180000000001,32.567799999999998,36.695599999999999,38.664000000000001,1729.4465339200001,1.8774921894100001]
["BasketballPass.Q22.jvet10.ai",597.33169999999996,43.532600000000002,45.488199999999999,45.279899999999998,1931.7459888400001,1.23808503151]
["BasketballPass.Q27.jvet10.ai",358.11430000000001,39.918199999999999,42.607599999999998,42.095199999999998,1451.3157067300001,0.99127197265599998]
["BasketballPass.Q32.jvet10.ai",207.2722,36.513100000000001,40.465299999999999,39.680700000000002,1044.39308667,0.84113907814]
["BasketballPass.Q37.jvet10.ai",115.75790000000001,33.315199999999997,38.778599999999997,37.844499999999996,656.23903918300005,0.72177195548999995]
["BQSquare.Q22.jvet10.ai",1543.788,41.594900000000003,43.439100000000003,44.575699999999998,2817.0596933400002,1.8928849697100001]
["BQSquare.Q27.jvet10.ai",988.4896,37.22,40.742199999999997,42.025100000000002,2285.7294597599998,1.4735357761400001]
["BQSquare.Q32.jvet10.ai",610.31119999999999,33.415999999999997,39.267699999999998,40.373100000000001,1712.4147887199999,1.1949410438500001]
["BQSquare.Q37.jvet10.ai",360.5872,29.852599999999999,38.345100000000002,39.183700000000002,1285.11034346,0.99575209617600002]
["BlowingBubbles.Q22.jvet10.ai",1332.6937,41.414099999999998,42.210500000000003,43.057099999999998,2628.3266017400001,1.76660490036]
["BlowingBubbles.Q27.jvet10.ai",827.01430000000005,37.141300000000001,39.286900000000003,39.885100000000001,2196.7761511799999,1.4341280460400001]
["BlowingBubbles.Q32.jvet10.ai",472.54840000000002,33.18,37.198900000000002,37.634999999999998,1825.34318089,1.14897704124]
["BlowingBubbles.Q37.jvet10.ai",240.18889999999999,29.572800000000001,35.6785,36.070500000000003,1345.4547173999999,0.89236283302300001]
["RaceHorses.Q22.jvet10.ai",513.85500000000002,43.081099999999999,43.105200000000004,44.039900000000003,1324.9654247799999,0.88567709922799998]
["RaceHorses.Q27.jvet10.ai",312.56760000000003,39.053899999999999,39.8506,41.207999999999998,1035.3282651899999,0.69350409507800004]
["RaceHorses.Q32.jvet10.ai",174.2732,35.163499999999999,37.825800000000001,39.0655,800.30003380799997,0.60263705253599997]
["RaceHorses.Q37.jvet10.ai",86.486099999999993,31.677099999999999,36.298699999999997,37.3444,525.21882104899998,0.48007106780999997]
["FourPeople.Q22.jvet10.ai",3348.8119999999999,44.3277,47.316800000000001,48.515700000000002,14267.625423,9.0203001499200006]
["FourPeople.Q27.jvet10.ai",2057.5472,41.844499999999996,45.153599999999997,46.416899999999998,9154.7290565999992,7.92858409882]
["FourPeople.Q32.jvet10.ai",1271.6584,39.028799999999997,43.4206,44.610300000000002,6625.4383447199998,7.0921800136600002]
["FourPeople.Q37.jvet10.ai",768.57360000000006,35.874400000000001,42.081499999999998,43.209000000000003,4289.3242969499997,6.5094828605700004]
["Johnny.Q22.jvet10.ai",2257.7768000000001,44.492600000000003,48.589100000000002,49.296799999999998,10430.444278000001,7.3418819904300001]
["Johnny.Q27.jvet10.ai",1256.7464,42.379100000000001,46.6783,47.4771,6414.35488248,6.7845289707200003]
["Johnny.Q32.jvet10.ai",716.23199999999997,40.085900000000002,45.010300000000001,45.727400000000003,4181.8748188,5.8873348236099998]
["Johnny.Q37.jvet10.ai",411.40800000000002,37.507100000000001,43.5548,44.324199999999998,2372.73705006,5.2133450508100001]
["KristenAndSara.Q22.jvet10.ai",2470.2008000000001,44.883499999999998,47.965800000000002,48.882899999999999,10764.4403606,7.9974839687300001]
["KristenAndSara.Q27.jvet10.ai",1486.0432000000001,42.658000000000001,45.865600000000001,46.956699999999998,6455.4960160299997,7.0050170421600004]
["KristenAndSara.Q32.jvet10.ai",899.89840000000004,40.096499999999999,44.1372,45.2239,4459.3012940899998,6.3267970085099998]
["KristenAndSara.Q37.jvet10.ai",545.63599999999997,37.2498,42.7971,43.865200000000002,2861.9198999400001,5.9100949764299999]
["BasketballDrillText.Q22.jvet10.ai",2507.873,42.539099999999998,43.9101,44.642200000000003,6986.9637622800001,5.2302200794199996]
["BasketballDrillText.Q27.jvet10.ai",1425.3372999999999,39.051499999999997,41.110799999999998,41.622700000000002,5425.6346828899996,4.2055771350900004]
["BasketballDrillText.Q32.jvet10.ai",823.21270000000004,35.969299999999997,39.035600000000002,39.393999999999998,3825.8273405999998,3.37410902977]
["BasketballDrillText.Q37.jvet10.ai",483.40870000000001,33.053899999999999,37.453600000000002,37.598100000000002,2394.3775758699999,2.7512629032100002]
["ArenaOfValor.Q22.jvet10.ai",11682.78,44.212000000000003,45.177500000000002,45.788400000000003,36566.403272099997,29.774019002900001]
["ArenaOfValor.Q27.jvet10.ai",6828.1383999999998,40.689500000000002,42.346200000000003,42.741300000000003,26751.649356599999,24.171493053399999]
["ArenaOfValor.Q32.jvet10.ai",3920.9520000000002,37.430500000000002,40.175199999999997,40.380299999999998,19163.546277000001,20.9160130024]
["ArenaOfValor.Q37.jvet10.ai",2222.8424,34.346600000000002,38.458100000000002,38.560499999999998,11706.651946100001,17.1493461132]
["SlideEditing.Q22.jvet10.ai",3692.1244999999999,47.004199999999997,45.178400000000003,45.685299999999998,5655.3496570699999,6.3900349140200001]
["SlideEditing.Q27.jvet10.ai",2801.1316000000002,42.531399999999998,41.167099999999998,42.156500000000001,4944.2571392,5.6487360000600004]
["SlideEditing.Q32.jvet10.ai",2192.9250000000002,37.974899999999998,39.1935,40.394300000000001,4347.5159299300003,5.0242390632599996]
["SlideEditing.Q37.jvet10.ai",1610.2224000000001,33.0929,38.262999999999998,39.377800000000001,3786.1954801100001,4.6669039726300001]
["SlideShow.Q22.jvet10.ai",592.53620000000001,51.096499999999999,54.025399999999998,54.962400000000002,3973.0614583500001,5.4490480423000003]
["SlideShow.Q27.jvet10.ai",401.97620000000001,47.435000000000002,50.696899999999999,51.814999999999998,3039.4619717599999,4.4996221065500004]
["SlideShow.Q32.jvet10.ai",276.15170000000001,43.803699999999999,48.291800000000002,49.675600000000003,2471.6593797199998,4.4037740230600004]
["SlideShow.Q37.jvet10.ai",184.44669999999999,39.972099999999998,46.451700000000002,48.185400000000001,1899.12724686,4.0379121303599996]
["Tango2.Q22.jvet10.ra",28292.991000000002,40.325099999999999,49.103099999999998,47.4163,427188.65260999999,159.32914185499999]
["Tango2.Q27.jvet10.ra",7652.4245000000001,39.5745,48.329300000000003,46.191400000000002,187988.90025800001,112.51298999799999]
["Tango2.Q32.jvet10.ra",3804.7460999999998,38.631999999999998,47.509099999999997,44.988100000000003,114331.761518,101.275781155]
["Tango2.Q37.jvet10.ra",2087.569,37.208500000000001,46.622700000000002,43.699399999999997,73472.012428799993,88.219820022600004]
["FoodMarket4.Q22.jvet10.ra",17684.249599999999,44.164299999999997,49.014600000000002,49.640300000000003,258334.00683599999,143.74645805399999]
["FoodMarket4.Q27.jvet10.ra",7705.2016000000003,42.656100000000002,47.248800000000003,47.688699999999997,149822.038932,122.47484684]
["FoodMarket4.Q32.jvet10.ra",4052.7008000000001,40.7288,45.771299999999997,46.084800000000001,97849.007972299994,107.47694206200001]
["FoodMarket4.Q37.jvet10.ra",2147.864,38.353299999999997,44.3962,44.573700000000002,63396.134698000002,87.528657198000005]
["CampfireParty2.Q22.jvet10.ra",60918.510399999999,39.502000000000002,42.231999999999999,42.522100000000002,671247.61904599995,224.504261017]
["CampfireParty2.Q27.jvet10.ra",17735.7808,37.530099999999997,39.025799999999997,40.997799999999998,355208.97103199997,143.41257810600001]
["CampfireParty2.Q32.jvet10.ra",8978.4536000000007,36.408000000000001,37.384,39.862400000000001,224975.67486599999,122.744215965]
["CampfireParty2.Q37.jvet10.ra",4915.5839999999998,35.0227,35.306800000000003,38.543700000000001,152164.97336,97.293528080000002]
["CatRobot1.Q22.jvet10.ra",34204.705600000001,40.366500000000002,41.840699999999998,43.517600000000002,297261.551461,151.88070011100001]
["CatRobot1.Q27.jvet10.ra",8940.4367999999995,39.337400000000002,41.304600000000001,42.349800000000002,156239.21354900001,108.12030792199999]
["CatRobot1.Q32.jvet10.ra",4375.3984,38.046999999999997,40.712899999999998,41.165700000000001,98011.706627099993,92.238142013499996]
["CatRobot1.Q37.jvet10.ra",2317.3184000000001,36.289000000000001,40.048999999999999,39.950499999999998,64545.900158099997,82.420714139899999]
["DaylightRoad2.Q22.jvet10.ra",60840.862399999998,38.122999999999998,45.597900000000003,43.356699999999996,478899.810643,182.851955175]
["DaylightRoad2.Q27.jvet10.ra",10729.625599999999,37.195500000000003,44.809600000000003,42.403700000000001,192096.906257,130.37125515899999]
["DaylightRoad2.Q32.jvet10.ra",4467.6624000000002,36.240699999999997,43.984000000000002,41.431899999999999,107292.78832399999,113.15003991099999]
["DaylightRoad2.Q37.jvet10.ra",2241.4479999999999,34.848100000000002,43.063899999999997,40.369700000000002,69128.026171899997,90.929164886500004]
["ParkRunning3.Q22.jvet10.ra",113116.8707,43.0687,37.920999999999999,38.838500000000003,441278.90304499998,272.91107082399998]
["ParkRunning3.Q27.jvet10.ra",44928.417300000001,39.110500000000002,35.004899999999999,36.261000000000003,281228.07134299999,210.37541508699999]
["ParkRunning3.Q32.jvet10.ra",21299.869299999998,35.870699999999999,33.278500000000001,34.718400000000003,192523.53310500001,155.79716706299999]
["ParkRunning3.Q37.jvet10.ra",9512.3359999999993,32.943100000000001,31.787400000000002,33.398899999999998,135650.08757199999,122.11107993100001]
["MarketPlace.Q22.jvet10.ra",14585.6976,40.779899999999998,44.257199999999997,45.158200000000001,165981.600118,86.320196867000007]
["MarketPlace.Q27.jvet10.ra",5607.3352000000004,38.6569,42.739400000000003,43.7744,91831.814902700004,67.506808042499998]
["MarketPlace.Q32.jvet10.ra",2540.1055999999999,36.454599999999999,41.531399999999998,42.598399999999998,62004.887152700001,57.004135847100002]
["MarketPlace.Q37.jvet10.ra",1127.9096,34.134799999999998,40.462499999999999,41.437399999999997,41285.625741199998,43.2199189663]
["RitualDance.Q22.jvet10.ra",9717.1991999999991,44.420499999999997,47.478400000000001,48.442300000000003,159742.69618500001,87.736556053200005]
["RitualDance.Q27.jvet10.ra",4798.6808000000001,41.248199999999997,45.340800000000002,46.0535,111603.783773,67.551598072100006]
["RitualDance.Q32.jvet10.ra",2545.9704000000002,38.185200000000002,43.820999999999998,44.364899999999999,80454.750473499997,54.989921093]
["RitualDance.Q37.jvet10.ra",1326.2744,35.221800000000002,42.514899999999997,42.861199999999997,55145.584577599999,45.872117042500001]
["Cactus.Q22.jvet10.ra",15349.5128,38.652900000000002,40.213900000000002,43.968299999999999,142346.944655,73.316132068599998]
["Cactus.Q27.jvet10.ra",4493.3375999999998,37.108699999999999,39.393799999999999,42.475999999999999,79570.137593000007,48.800638914099999]
["Cactus.Q32.jvet10.ra",2088.3719999999998,35.392800000000001,38.759099999999997,41.130299999999998,52544.707564099997,42.131454944600002]
["Cactus.Q37.jvet10.ra",1012.0272,33.272599999999997,37.987400000000001,39.796999999999997,35070.327814299999,32.216593027099997]
["BasketballDrive.Q22.jvet10.ra",14762.284,39.382399999999997,44.185400000000001,45.688699999999997,196462.981742,73.384960889799999]
["BasketballDrive.Q27.jvet10.ra",4820.1383999999998,37.717399999999998,43.0852,43.880699999999997,109325.796758,58.926892042200002]
["BasketballDrive.Q32.jvet10.ra",2281.8335999999999,35.985900000000001,42.079700000000003,42.416800000000002,70158.533467999994,48.640096902800003]
["BasketballDrive.Q37.jvet10.ra",1147.3992000000001,33.979999999999997,41.071399999999997,40.916400000000003,46336.631029099997,45.0502848625]
["BQTerrace.Q22.jvet10.ra",33072.703999999998,37.386099999999999,42.502299999999998,44.7179,152457.960785,127.472812891]
["BQTerrace.Q27.jvet10.ra",5717.2287999999999,35.413200000000003,41.441400000000002,43.7804,61192.000003300003,58.9482219219]
["BQTerrace.Q32.jvet10.ra",1810.0655999999999,34.104100000000003,40.332900000000002,42.860799999999998,36205.064899199999,43.628381013899997]
["BQTerrace.Q37.jvet10.ra",807.50800000000004,32.549500000000002,39.229599999999998,41.941099999999999,23289.7859914,32.194221973399998]
["BasketballDrill.Q22.jvet10.ra",2965.6624000000002,41.254600000000003,43.721299999999999,44.517200000000003,27727.7068841,14.6363720894]
["BasketballDrill.Q27.jvet10.ra",1367.7136,38.025599999999997,41.526200000000003,41.908799999999999,20107.685534200002,11.443515062299999]
["BasketballDrill.Q32.jvet10.ra",690.35680000000002,35.117100000000001,39.765900000000002,39.992699999999999,14309.2679329,9.3850920200299992]
["BasketballDrill.Q37.jvet10.ra",352.3784,32.484400000000001,38.192300000000003,38.233699999999999,9698.2633483400004,6.66340208054]
["BQMall.Q22.jvet10.ra",3020.2240000000002,40.466799999999999,44.083300000000001,45.814599999999999,25369.712911800001,17.447971105600001]
["BQMall.Q27.jvet10.ra",1357.3871999999999,37.906399999999998,42.2774,43.629899999999999,16835.843034000001,12.368297100099999]
["BQMall.Q32.jvet10.ra",682.27440000000001,35.2104,40.778599999999997,41.901600000000002,12370.8216271,9.0581459999099998]
["BQMall.Q37.jvet10.ra",347.74639999999999,32.442900000000002,39.347499999999997,40.297199999999997,9250.1798148100006,7.21665978432]
["PartyScene.Q22.jvet10.ra",5756.3328000000001,38.718200000000003,42.211799999999997,43.4422,26119.727624899999,20.2256081104]
["PartyScene.Q27.jvet10.ra",2541.4935999999998,35.239400000000003,39.772799999999997,40.847799999999999,17863.255914699999,13.9345929623]
["PartyScene.Q32.jvet10.ra",1224.4839999999999,32.186700000000002,38.0212,38.923900000000003,13167.4007442,10.962402105300001]
["PartyScene.Q37.jvet10.ra",569.58799999999997,29.316199999999998,36.510100000000001,37.234299999999998,9464.8316719499999,8.0627949237800003]
["RaceHorsesC.Q22.jvet10.ra",4316.6984000000002,39.345500000000001,41.612699999999997,43.156700000000001,25406.160144099998,13.182357788099999]
["RaceHorsesC.Q27.jvet10.ra",1674.2472,35.927599999999998,39.476199999999999,41.092300000000002,16605.0605512,8.9787540435800004]
["RaceHorsesC.Q32.jvet10.ra",797.46879999999999,33.210900000000002,37.875900000000001,39.630299999999998,12119.324546100001,7.0888290405300003]
["RaceHorsesC.Q37.jvet10.ra",382.59120000000001,30.572299999999998,36.393300000000004,38.297899999999998,8481.3485109899993,5.4333279132800003]
["BasketballPass.Q22.jvet10.ra",1317.8024,41.254300000000001,44.620399999999997,43.798200000000001,7783.9288091600001,4.7269549369800004]
["BasketballPass.Q27.jvet10.ra",626.476,37.15,42.065899999999999,40.821300000000001,5793.2026567499997,3.6172788143200001]
["BasketballPass.Q32.jvet10.ra",316.2568,33.807400000000001,40.243899999999996,38.795000000000002,4405.3213713200003,2.75327301025]
["BasketballPass.Q37.jvet10.ra",158.42400000000001,30.860600000000002,38.658000000000001,36.942500000000003,3049.6233179599999,2.1305131912199999]
["BQSquare.Q22.jvet10.ra",1364.2375999999999,38.436199999999999,44.044499999999999,45.395499999999998,5870.37822151,5.8080761432600001]
["BQSquare.Q27.jvet10.ra",495.7176,35.1494,41.850099999999998,43.1008,3106.3832089900002,3.52523994446]
["BQSquare.Q32.jvet10.ra",223.01679999999999,32.397100000000002,40.190899999999999,41.397399999999998,1932.1268315299999,2.9254138469700002]
["BQSquare.Q37.jvet10.ra",114.456,29.842099999999999,38.9116,39.965400000000002,1315.5498011100001,2.4108278751399999]
["BlowingBubbles.Q22.jvet10.ra",1388.9096,38.511499999999998,41.921799999999998,43.054400000000001,5586.8945052600002,4.9625101089500001]
["BlowingBubbles.Q27.jvet10.ra",618.99760000000003,35.141300000000001,39.470300000000002,40.3598,3894.4259159600001,3.4600689411199999]
["BlowingBubbles.Q32.jvet10.ra",297.19119999999998,32.100499999999997,37.569400000000002,38.311399999999999,2795.5127665999998,2.4794700145699999]
["BlowingBubbles.Q37.jvet10.ra",137.21680000000001,29.2178,35.932099999999998,36.478900000000003,1907.7959563700001,1.90246582031]
["RaceHorses.Q22.jvet10.ra",1052.5688,39.887,42.008299999999998,43.066800000000001,5481.2169213300003,3.4886260032699998]
["RaceHorses.Q27.jvet10.ra",497.52080000000001,35.9375,39.345100000000002,40.515500000000003,4017.94423413,2.46837496758]
["RaceHorses.Q32.jvet10.ra",248.7808,32.628700000000002,37.514000000000003,38.768599999999999,2909.03352713,1.9026670455900001]
["RaceHorses.Q37.jvet10.ra",120.36960000000001,29.704899999999999,35.9649,37.111600000000003,2049.3006844500001,1.4854819774600001]
["FourPeople.Q22.jvet10.ra"]
["FourPeople.Q27.jvet10.ra"]
["FourPeople.Q32.jvet10.ra"]
["FourPeople.Q37.jvet10.ra"]
["Johnny.Q22.jvet10.ra"]
["Johnny.Q27.jvet10.ra"]
["Johnny.Q32.jvet10.ra"]
["Johnny.Q37.jvet10.ra"]
["KristenAndSara.Q22.jvet10.ra"]
["KristenAndSara.Q27.jvet10.ra"]
["KristenAndSara.Q32.jvet10.ra"]
["KristenAndSara.Q37.jvet10.ra"]
["BasketballDrillText.Q22.jvet10.ra",3057.6224000000002,41.393999999999998,43.716000000000001,44.456400000000002,25970.0596912,14.592124939]
["BasketballDrillText.Q27.jvet10.ra",1445.4151999999999,38.081699999999998,41.2639,41.654499999999999,19206.143827899999,11.1311950684]
["BasketballDrillText.Q32.jvet10.ra",744.548,35.073999999999998,39.258899999999997,39.506999999999998,13869.889230700001,8.3859927654300002]
["BasketballDrillText.Q37.jvet10.ra",388.05919999999998,32.325600000000001,37.4786,37.608899999999998,9549.3518109399993,6.4850108623500002]
["ArenaOfValor.Q22.jvet10.ra",11910.951999999999,43.031599999999997,45.104599999999998,45.694400000000002,96603.866911200006,82.404240846600004]
["ArenaOfValor.Q27.jvet10.ra",5123.7776000000003,39.670999999999999,42.4925,42.888199999999998,68538.412047899998,56.879734039299997]
["ArenaOfValor.Q32.jvet10.ra",2502.56,36.776499999999999,40.549100000000003,40.7988,51300.126437899999,42.115288019200001]
["ArenaOfValor.Q37.jvet10.ra",1253.0047999999999,34.042400000000001,38.735300000000002,38.837200000000003,37432.072361999999,34.544342994700003]
["SlideEditing.Q22.jvet10.ra",1268.9448,50.039000000000001,48.073099999999997,48.283499999999997,4337.5662970499998,6.8128769397699998]
["SlideEditing.Q27.jvet10.ra",958.82479999999998,45.840899999999998,43.514200000000002,44.144300000000001,3734.6144928899998,6.28279304504]
["SlideEditing.Q32.jvet10.ra",740.04560000000004,41.313699999999997,40.610700000000001,41.548400000000001,3333.4022696000002,5.9338290691399997]
["SlideEditing.Q37.jvet10.ra",563.01199999999994,36.442700000000002,38.864899999999999,39.963799999999999,3013.2529780899999,5.9102849960299997]
["SlideShow.Q22.jvet10.ra",695.03679999999997,52.068199999999997,55.266500000000001,56.316800000000001,11937.2934694,14.000798940699999]
["SlideShow.Q27.jvet10.ra",409.9744,48.140599999999999,52.321300000000001,53.434800000000003,9472.4463455700006,14.7414259911]
["SlideShow.Q32.jvet10.ra",259.73660000000001,44.581299999999999,49.837000000000003,51.146599999999999,7293.0017566699998,12.6410918236]
["SlideShow.Q37.jvet10.ra",166.70500000000001,41.0471,47.583799999999997,49.234000000000002,5617.3350670299997,12.141063213300001]
["Tango2.Q22.jvet10.lb"]
["Tango2.Q27.jvet10.lb"]
["Tango2.Q32.jvet10.lb"]
["Tango2.Q37.jvet10.lb"]
["FoodMarket4.Q22.jvet10.lb"]
["FoodMarket4.Q27.jvet10.lb"]
["FoodMarket4.Q32.jvet10.lb"]
["FoodMarket4.Q37.jvet10.lb"]
["CampfireParty2.Q22.jvet10.lb"]
["CampfireParty2.Q27.jvet10.lb"]
["CampfireParty2.Q32.jvet10.lb"]
["CampfireParty2.Q37.jvet10.lb"]
["CatRobot1.Q22.jvet10.lb"]
["CatRobot1.Q27.jvet10.lb"]
["CatRobot1.Q32.jvet10.lb"]
["CatRobot1.Q37.jvet10.lb"]
["DaylightRoad2.Q22.jvet10.lb"]
["DaylightRoad2.Q27.jvet10.lb"]
["DaylightRoad2.Q32.jvet10.lb"]
["DaylightRoad2.Q37.jvet10.lb"]
["ParkRunning3.Q22.jvet10.lb"]
["ParkRunning3.Q27.jvet10.lb"]
["ParkRunning3.Q32.jvet10.lb"]
["ParkRunning3.Q37.jvet10.lb"]
["MarketPlace.Q22.jvet10.lb",17978.723999999998,41.013599999999997,44.076900000000002,44.790799999999997,201666.522963,99.133544206600007]
["MarketPlace.Q27.jvet10.lb",6665.5616,38.5779,42.183999999999997,43.072899999999997,111491.832064,76.235054969800004]
["MarketPlace.Q32.jvet10.lb",2971.6232,36.162100000000002,40.756399999999999,41.707099999999997,72903.343071900003,59.300662040699997]
["MarketPlace.Q37.jvet10.lb",1342.2616,33.722299999999997,39.764000000000003,40.692,50943.677880000003,47.161838054699999]
["RitualDance.Q22.jvet10.lb",11087.1536,44.290100000000002,47.090400000000002,47.814500000000002,179316.83147500001,89.700222015400001]
["RitualDance.Q27.jvet10.lb",5546.1127999999999,41.008899999999997,44.726100000000002,45.240200000000002,122847.112007,76.792673110999999]
["RitualDance.Q32.jvet10.lb",2943.596,37.882199999999997,43.154200000000003,43.507399999999997,90232.991356099999,61.618160963100003]
["RitualDance.Q37.jvet10.lb",1598.7744,35.033900000000003,42.058199999999999,42.188600000000001,64312.830579000001,50.612673997900004]
["Cactus.Q22.jvet10.lb",18652.252,38.921999999999997,40.414900000000003,43.634700000000002,171382.49097399999,85.450450181999997]
["Cactus.Q27.jvet10.lb",4710.9183999999996,36.915199999999999,39.136600000000001,41.816299999999998,91055.985425899999,51.859395980800002]
["Cactus.Q32.jvet10.lb",2118.6655999999998,34.862000000000002,38.301200000000001,40.331299999999999,63193.759125899996,42.526270866399997]
["Cactus.Q37.jvet10.lb",1037.4623999999999,32.656399999999998,37.553100000000001,39.129100000000001,44875.733301200002,35.638165950800001]
["BasketballDrive.Q22.jvet10.lb",17521.967199999999,39.656300000000002,44.097900000000003,45.571399999999997,214651.80985300001,86.669397830999998]
["BasketballDrive.Q27.jvet10.lb",5628.7448000000004,37.739199999999997,42.7819,43.4923,124468.344942,64.647948026700007]
["BasketballDrive.Q32.jvet10.lb",2677.2568000000001,35.883800000000001,41.659799999999997,41.907600000000002,81330.858415800001,53.5291450024]
["BasketballDrive.Q37.jvet10.lb",1392.6568,33.902000000000001,40.686700000000002,40.501800000000003,54048.990865,44.821815967600003]
["BQTerrace.Q22.jvet10.lb",51965.735200000003,38.4221,42.228200000000001,44.2913,182168.11938799999,150.531920195]
["BQTerrace.Q27.jvet10.lb",6738.6408000000001,35.552500000000002,40.827199999999998,43.1374,78548.975437899993,68.177176952400004]
["BQTerrace.Q32.jvet10.lb",1726.212,33.742699999999999,39.624600000000001,42.219700000000003,44459.359898800001,45.345901012399999]
["BQTerrace.Q37.jvet10.lb",659.42079999999999,31.682300000000001,38.7393,41.468699999999998,29070.797673000001,34.574719905899997]
["BasketballDrill.Q22.jvet10.lb",3193.1984000000002,40.564500000000002,43.370399999999997,44.108699999999999,30787.941591999999,15.005461931199999]
["BasketballDrill.Q27.jvet10.lb",1463.3696,37.307600000000001,40.9176,41.384700000000002,24023.981059099999,12.094830036199999]
["BasketballDrill.Q32.jvet10.lb",726.91920000000005,34.540399999999998,39.100900000000003,39.460299999999997,17451.6022801,9.2940659523000004]
["BasketballDrill.Q37.jvet10.lb",383.47280000000001,32.164099999999998,37.448599999999999,37.663800000000002,12423.485873,7.3469498157500004]
["BQMall.Q22.jvet10.lb",3659.7503999999999,40.444899999999997,43.529400000000003,45.006900000000002,28006.7776299,18.740308046300001]
["BQMall.Q27.jvet10.lb",1608.0136,37.506599999999999,41.413899999999998,42.573700000000002,19740.075174099999,13.1907808781]
["BQMall.Q32.jvet10.lb",793.23040000000003,34.5717,39.775799999999997,40.776899999999998,14479.177568900001,10.470833063100001]
["BQMall.Q37.jvet10.lb",406.37520000000001,31.701799999999999,38.505000000000003,39.421799999999998,10965.8218579,8.4062061309799994]
["PartyScene.Q22.jvet10.lb",6989.9704000000002,38.638599999999997,41.489100000000001,42.428800000000003,33045.104511999998,22.707892894699999]
["PartyScene.Q27.jvet10.lb",2898.5592000000001,34.6723,38.632800000000003,39.465400000000002,21935.217872099998,17.485234975800001]
["PartyScene.Q32.jvet10.lb",1297.0912000000001,31.1998,36.730600000000003,37.508299999999998,15320.7099922,12.307363987]
["PartyScene.Q37.jvet10.lb",564.57759999999996,28.011399999999998,35.370800000000003,36.125,11352.926575900001,9.7360961437199993]
["RaceHorsesC.Q22.jvet10.lb",5194.4008000000003,40.139899999999997,41.73,43.049199999999999,26941.000051999999,13.571156024900001]
["RaceHorsesC.Q27.jvet10.lb",1980.444,36.362099999999998,39.035800000000002,40.648800000000001,17094.125279899999,10.1756911278]
["RaceHorsesC.Q32.jvet10.lb",898.59280000000001,33.307099999999998,37.277900000000002,39.112200000000001,13289.833213100001,7.4652938842800003]
["RaceHorsesC.Q37.jvet10.lb",416.92239999999998,30.483499999999999,36.066000000000003,37.878799999999998,9455.0252580600009,6.0384390354199997]
["BasketballPass.Q22.jvet10.lb",1525.808,41.301200000000001,44.209899999999998,43.657699999999998,7947.5994610799999,5.1434421539299997]
["BasketballPass.Q27.jvet10.lb",742.96400000000006,37.226999999999997,41.429000000000002,40.416200000000003,6046.2601609200001,4.13578295708]
["BasketballPass.Q32.jvet10.lb",376.42320000000001,33.798299999999998,39.543399999999998,38.3371,4743.5326168499996,2.9672780036900002]
["BasketballPass.Q37.jvet10.lb",195.6728,30.9162,38.058399999999999,36.651699999999998,3492.8303771000001,2.4000368118300002]
["BQSquare.Q22.jvet10.lb",1918.164,38.619700000000002,42.880600000000001,44.003,7535.3110368300004,7.3165230751000001]
["BQSquare.Q27.jvet10.lb",641.89599999999996,34.770000000000003,40.802100000000003,41.886200000000002,4602.4580550199998,4.6317360401199998]
["BQSquare.Q32.jvet10.lb",244.3184,31.533100000000001,39.355499999999999,40.270499999999998,2745.5180740400001,3.74995303154]
["BQSquare.Q37.jvet10.lb",100.1088,28.566099999999999,38.5685,39.359299999999998,1883.7438390299999,3.1797668933900001]
["BlowingBubbles.Q22.jvet10.lb",1720.9128000000001,38.363500000000002,41.110900000000001,41.860399999999998,7222.7591280899996,5.8413062095599999]
["BlowingBubbles.Q27.jvet10.lb",711.55439999999999,34.458100000000002,38.303800000000003,38.870800000000003,4770.0589430299997,4.0193819999700002]
["BlowingBubbles.Q32.jvet10.lb",312.75760000000002,31.009699999999999,36.322000000000003,36.869900000000001,3393.24565196,2.8414630889899999]
["BlowingBubbles.Q37.jvet10.lb",135.67760000000001,27.998799999999999,34.892299999999999,35.423999999999999,2492.0646068999999,2.1797089576699999]
["RaceHorses.Q22.jvet10.lb",1200.1623999999999,40.277200000000001,41.593899999999998,42.633699999999997,5890.1630551799999,3.9725770950300001]
["RaceHorses.Q27.jvet10.lb",559.95439999999996,36.007199999999997,38.657400000000003,39.847999999999999,4177.5881459700004,2.9860310554499998]
["RaceHorses.Q32.jvet10.lb",273.23919999999998,32.447600000000001,36.886499999999998,37.996299999999998,3131.7941667999999,2.1444308757799999]
["RaceHorses.Q37.jvet10.lb",134,29.583300000000001,35.4758,36.513500000000001,2272.1881740099998,1.6144819259600001]
["FourPeople.Q22.jvet10.lb",2011.5632000000001,42.957099999999997,46.871200000000002,48.205599999999997,32507.5380721,24.219717025800001]
["FourPeople.Q27.jvet10.lb",750.50480000000005,40.611499999999999,44.891599999999997,46.227200000000003,19713.584370100001,16.068114995999998]
["FourPeople.Q32.jvet10.lb",371.8272,38.054200000000002,43.304200000000002,44.535499999999999,14113.891411099999,13.2233629227]
["FourPeople.Q37.jvet10.lb",196.25360000000001,35.204799999999999,41.955100000000002,43.158000000000001,10631.561710100001,10.7218220234]
["Johnny.Q22.jvet10.lb",1386.5927999999999,43.307200000000002,48.46,49.158000000000001,27941.783470900002,21.413839101800001]
["Johnny.Q27.jvet10.lb",347.73360000000002,41.508400000000002,46.862200000000001,47.563600000000001,14827.1221159,14.363508939700001]
["Johnny.Q32.jvet10.lb",155.56720000000001,39.508400000000002,45.231999999999999,46.099499999999999,10075.298481899999,12.461580038099999]
["Johnny.Q37.jvet10.lb",82.561599999999999,37.154699999999998,44.073700000000002,44.703099999999999,6752.7035229200001,10.433511018800001]
["KristenAndSara.Q22.jvet10.lb",1802.7855999999999,43.622799999999998,47.7224,48.677199999999999,34933.143764,22.959639072400002]
["KristenAndSara.Q27.jvet10.lb",596.69200000000001,41.5291,45.821100000000001,46.828200000000002,20684.715695899999,16.5984761715]
["KristenAndSara.Q32.jvet10.lb",267.04480000000001,39.239899999999999,44.132300000000001,45.137,13922.055815,16.024991989099998]
["KristenAndSara.Q37.jvet10.lb",138.1968,36.6434,42.895699999999998,43.877600000000001,9388.0978920500002,11.720895051999999]
["BasketballDrillText.Q22.jvet10.lb",3334.3607999999999,40.688800000000001,43.230600000000003,43.8962,29413.948795100001,15.3159060478]
["BasketballDrillText.Q27.jvet10.lb",1529.7911999999999,37.322899999999997,40.49,40.9345,22774.3897421,12.0663590431]
["BasketballDrillText.Q32.jvet10.lb",768.3288,34.437600000000003,38.432499999999997,38.849699999999999,16941.615560099999,9.7178440094000003]
["BasketballDrillText.Q37.jvet10.lb",407.64960000000002,31.826000000000001,36.778599999999997,37.0261,12195.749320000001,7.2467911243399996]
["ArenaOfValor.Q22.jvet10.lb",13278.036,42.395899999999997,44.278500000000001,44.968899999999998,105314.520083,84.671244859699996]
["ArenaOfValor.Q27.jvet10.lb",5599.6912000000002,38.945700000000002,41.548299999999998,42.035200000000003,80090.623949100001,64.875752925900002]
["ArenaOfValor.Q32.jvet10.lb",2611.3824,35.981699999999996,39.590000000000003,39.954300000000003,60745.087738000002,48.694994926500001]
["ArenaOfValor.Q37.jvet10.lb",1298.124,33.279299999999999,38.035499999999999,38.242400000000004,43660.3021801,36.540979862199997]
["SlideEditing.Q22.jvet10.lb",281.73680000000002,47.372700000000002,45.738599999999998,46.017299999999999,3407.1713089899999,4.8538959026299997]
["SlideEditing.Q27.jvet10.lb",210.69200000000001,43.155700000000003,41.647399999999998,42.052999999999997,3058.1523032199998,4.93467903137]
["SlideEditing.Q32.jvet10.lb",156.52879999999999,38.507300000000001,39.441400000000002,40.001199999999997,2834.3002679299998,4.6994931697800002]
["SlideEditing.Q37.jvet10.lb",112.02160000000001,33.629199999999997,38.337600000000002,38.9041,2658.27992511,4.5634849071500003]
["SlideShow.Q22.jvet10.lb",563.04219999999998,49.416600000000003,52.963000000000001,53.947099999999999,14333.851153899999,13.342926025400001]
["SlideShow.Q27.jvet10.lb",309.80259999999998,45.423499999999997,49.738300000000002,50.842399999999998,11828.747732899999,12.153275966600001]
["SlideShow.Q32.jvet10.lb",176.60130000000001,41.6892,47.349400000000003,48.5413,9746.1473090599993,11.328297853500001]
["SlideShow.Q37.jvet10.lb",106.44450000000001,37.975099999999998,45.527500000000003,47.106499999999997,7867.0340700099996,10.621013164500001]
["Tango2.Q22.jvet10.lp"]
["Tango2.Q27.jvet10.lp"]
["Tango2.Q32.jvet10.lp"]
["Tango2.Q37.jvet10.lp"]
["FoodMarket4.Q22.jvet10.lp"]
["FoodMarket4.Q27.jvet10.lp"]
["FoodMarket4.Q32.jvet10.lp"]
["FoodMarket4.Q37.jvet10.lp"]
["CampfireParty2.Q22.jvet10.lp"]
["CampfireParty2.Q27.jvet10.lp"]
["CampfireParty2.Q32.jvet10.lp"]
["CampfireParty2.Q37.jvet10.lp"]
["CatRobot1.Q22.jvet10.lp"]
["CatRobot1.Q27.jvet10.lp"]
["CatRobot1.Q32.jvet10.lp"]
["CatRobot1.Q37.jvet10.lp"]
["DaylightRoad2.Q22.jvet10.lp"]
["DaylightRoad2.Q27.jvet10.lp"]
["DaylightRoad2.Q32.jvet10.lp"]
["DaylightRoad2.Q37.jvet10.lp"]
["ParkRunning3.Q22.jvet10.lp"]
["ParkRunning3.Q27.jvet10.lp"]
["ParkRunning3.Q32.jvet10.lp"]
["DaylightRoad2.Q37.jvet10.lp"]
["MarketPlace.Q22.jvet10.lp",19114.356,40.9923,44.008000000000003,44.735999999999997,153026.12530799999,99.082236051600006]
["MarketPlace.Q27.jvet10.lp",6894.7424000000001,38.544899999999998,42.160600000000002,43.063200000000002,78993.545306200002,78.624361038200007]
["MarketPlace.Q32.jvet10.lp",3049.8287999999998,36.139600000000002,40.757199999999997,41.7014,51254.758457199998,60.203271150600003]
["MarketPlace.Q37.jvet10.lp",1370.652,33.701500000000003,39.768500000000003,40.669800000000002,35250.068281899999,49.555042028400003]
["RitualDance.Q22.jvet10.lp",11339.8032,44.247500000000002,47.064599999999999,47.793900000000001,141654.067216,87.628487825400001]
["RitualDance.Q27.jvet10.lp",5619.8752000000004,40.978099999999998,44.692399999999999,45.227600000000002,93611.370022999996,76.163677930800006]
["RitualDance.Q32.jvet10.lp",2971.3024,37.862699999999997,43.128100000000003,43.494100000000003,67054.176286899994,62.316951036500001]
["RitualDance.Q37.jvet10.lp",1610.9184,35.033799999999999,42.018300000000004,42.176000000000002,45515.438175900003,52.003410100899998]
["Cactus.Q22.jvet10.lp",20796.655999999999,38.856299999999997,40.371600000000001,43.553800000000003,125459.877567,87.942447185500001]
["Cactus.Q27.jvet10.lp",4953.7888000000003,36.869900000000001,39.113,41.790700000000001,68170.265035899996,51.630259037000002]
["Cactus.Q32.jvet10.lp",2183.6552000000001,34.837800000000001,38.288899999999998,40.304000000000002,45812.508268099999,41.927446126900001]
["Cactus.Q37.jvet10.lp",1061.3512000000001,32.631,37.548200000000001,39.119399999999999,31134.9924369,35.691908121099999]
["BasketballDrive.Q22.jvet10.lp",18516.428800000002,39.627299999999998,44.0411,45.494399999999999,174857.488071,86.090850830099996]
["BasketballDrive.Q27.jvet10.lp",5859.9856,37.696199999999997,42.722299999999997,43.416400000000003,97237.472354199999,63.994144201300003]
["BasketballDrive.Q32.jvet10.lp",2763.6808000000001,35.828200000000002,41.603099999999998,41.826599999999999,61097.535831900001,54.453773021700002]
["BasketballDrive.Q37.jvet10.lp",1430.2144000000001,33.8491,40.640900000000002,40.471400000000003,39357.879739000004,44.894310951199998]
["BQTerrace.Q22.jvet10.lp",60430.525600000001,38.470100000000002,42.084499999999998,44.185699999999997,141455.540932,160.15985512699999]
["BQTerrace.Q27.jvet10.lp",8084.3968000000004,35.3553,40.7271,43.092300000000002,56784.290833999999,68.051067829100006]
["BQTerrace.Q32.jvet10.lp",1916.4544000000001,33.6387,39.595100000000002,42.197099999999999,30953.298382000001,45.713799953500001]
["BQTerrace.Q37.jvet10.lp",704.49519999999995,31.604700000000001,38.7316,41.481699999999996,18991.5688481,36.032583952000003]
["BasketballDrill.Q22.jvet10.lp",3389.6480000000001,40.508899999999997,43.292299999999997,43.973100000000002,24228.961367799999,15.4246799946]
["BasketballDrill.Q27.jvet10.lp",1525.5816,37.246200000000002,40.818100000000001,41.2074,18026.794156799999,12.3513629436]
["BasketballDrill.Q32.jvet10.lp",750.97199999999998,34.488100000000003,39.015300000000003,39.323500000000003,12913.011071000001,10.101051092100001]
["BasketballDrill.Q37.jvet10.lp",393.13679999999999,32.103700000000003,37.430500000000002,37.547899999999998,8958.8405461300008,7.9928631782500004]
["BQMall.Q22.jvet10.lp",3855.1792,40.389000000000003,43.4985,44.964399999999998,20721.280432,18.4643359184]
["BQMall.Q27.jvet10.lp",1663.96,37.454599999999999,41.405200000000001,42.5595,14253.833277,13.2227652073]
["BQMall.Q32.jvet10.lp",814.4384,34.520800000000001,39.749299999999998,40.759599999999999,10064.481718999999,10.339820146599999]
["BQMall.Q37.jvet10.lp",415.13200000000001,31.677199999999999,38.488900000000001,39.4206,7598.5579671900005,8.5609710216499995]
["PartyScene.Q22.jvet10.lp",7667.8136000000004,38.4983,41.425699999999999,42.372199999999999,24094.292115,22.8209519386]
["PartyScene.Q27.jvet10.lp",3063.7896000000001,34.555,38.599899999999998,39.435400000000001,15515.152284899999,16.286705017100001]
["PartyScene.Q32.jvet10.lp",1347.8424,31.1709,36.7196,37.484900000000003,11201.78613,11.5807509422]
["PartyScene.Q37.jvet10.lp",580.63120000000004,28.002600000000001,35.348500000000001,36.070300000000003,8035.6608529100004,9.1668329238900004]
["RaceHorsesC.Q22.jvet10.lp",5465.2479999999996,40.137799999999999,41.648200000000003,42.983600000000003,21234.560631,13.739763975100001]
["RaceHorsesC.Q27.jvet10.lp",2045.7144000000001,36.285899999999998,38.974299999999999,40.588900000000002,13580.7325201,10.624561071400001]
["RaceHorsesC.Q32.jvet10.lp",914.48159999999996,33.252800000000001,37.25,39.069800000000001,10220.197460900001,7.9644989967299997]
["RaceHorsesC.Q37.jvet10.lp",419.34879999999998,30.462499999999999,36.044400000000003,37.838900000000002,6864.0214140400003,6.3957300186200001]
["BasketballPass.Q22.jvet10.lp",1565.3096,41.258099999999999,44.161499999999997,43.618200000000002,6268.7412171400001,5.0643510818499999]
["BasketballPass.Q27.jvet10.lp",758.26319999999998,37.198099999999997,41.408200000000001,40.400100000000002,4654.0086350399997,4.1227960586499997]
["BasketballPass.Q32.jvet10.lp",384.11520000000002,33.783200000000001,39.5336,38.3459,3566.8551800300002,3.05263805389]
["BasketballPass.Q37.jvet10.lp",199.02799999999999,30.907499999999999,38.073599999999999,36.655000000000001,2605.5133659799999,2.51929497719]
["BQSquare.Q22.jvet10.lp",2259.3960000000002,38.490099999999998,42.792900000000003,43.870699999999999,5129.2935528799999,7.2032029628799998]
["BQSquare.Q27.jvet10.lp",722.01120000000003,34.496400000000001,40.72,41.758200000000002,2907.8834128399999,4.5133600234999998]
["BQSquare.Q32.jvet10.lp",264.51600000000002,31.375699999999998,39.3078,40.2667,1797.0697741500001,3.2346489429499998]
["BQSquare.Q37.jvet10.lp",103.7936,28.4941,38.5105,39.378100000000003,1219.9732039,2.6924381256099998]
["BlowingBubbles.Q22.jvet10.lp",1828.9856,38.280200000000001,41.053800000000003,41.806899999999999,5166.5203888400001,5.7644021511099997]
["BlowingBubbles.Q27.jvet10.lp",737.37360000000001,34.411000000000001,38.256300000000003,38.860999999999997,3444.7333278699998,3.9270842075300001]
["BlowingBubbles.Q32.jvet10.lp",320.0872,30.989799999999999,36.2911,36.853200000000001,2469.32399893,2.7897601127599998]
["BlowingBubbles.Q37.jvet10.lp",138.39279999999999,27.996400000000001,34.863,35.441299999999998,1688.90217495,2.1952271461500001]
["RaceHorses.Q22.jvet10.lp",1231.1407999999999,40.201500000000003,41.556199999999997,42.591500000000003,4533.3391010799996,4.0841319561000002]
["RaceHorses.Q27.jvet10.lp",566.8048,35.981200000000001,38.624600000000001,39.837000000000003,3216.3370168199999,2.9489839077000002]
["RaceHorses.Q32.jvet10.lp",274.94080000000002,32.441200000000002,36.8245,37.966799999999999,2341.9952549899999,2.1754479408299998]
["RaceHorses.Q37.jvet10.lp",135.2424,29.5944,35.454099999999997,36.542999999999999,1652.6133019900001,1.7821521759000001]
["FourPeople.Q22.jvet10.lp",2163.7768000000001,42.881900000000002,46.865400000000001,48.212899999999998,22761.094459100001,24.300750970799999]
["FourPeople.Q27.jvet10.lp",772.6,40.560899999999997,44.883200000000002,46.228900000000003,13432.8680339,17.671164989499999]
["FourPeople.Q32.jvet10.lp",381.02640000000002,38.012799999999999,43.312600000000003,44.508299999999998,9404.4860410700003,16.4342799187]
["FourPeople.Q37.jvet10.lp",200.7824,35.1556,41.958799999999997,43.147500000000001,6907.5734438899999,11.4112348557]
["Johnny.Q22.jvet10.lp",1621.0488,43.206200000000003,48.433199999999999,49.144399999999997,19719.206417099998,21.147861003900001]
["Johnny.Q27.jvet10.lp",372.61439999999999,41.430100000000003,46.81,47.568199999999997,9788.9493699100003,14.375749111199999]
["Johnny.Q32.jvet10.lp",159.51759999999999,39.410200000000003,45.258400000000002,46.079900000000002,6568.8994448200001,12.6935448647]
["Johnny.Q37.jvet10.lp",83.782399999999996,37.059800000000003,44.007899999999999,44.682600000000001,4310.6178510199998,10.7371299267]
["KristenAndSara.Q22.jvet10.lp",1932.0784000000001,43.552500000000002,47.685699999999997,48.644500000000001,24297.434383200001,23.641206026100001]
["KristenAndSara.Q27.jvet10.lp",613.32079999999996,41.478200000000001,45.768900000000002,46.776299999999999,13756.731734999999,17.082967042899998]
["KristenAndSara.Q32.jvet10.lp",272.55680000000001,39.216299999999997,44.073599999999999,45.067500000000003,9184.8653678899991,14.4686791897]
["KristenAndSara.Q37.jvet10.lp",141.15119999999999,36.613500000000002,42.820900000000002,43.856999999999999,6138.0848870299997,13.818971872300001]
["BasketballDrillText.Q22.jvet10.lp",3592.9488000000001,40.608400000000003,43.161700000000003,43.792900000000003,22465.115519999999,15.943058967600001]
["BasketballDrillText.Q27.jvet10.lp",1628.1432,37.222200000000001,40.414099999999998,40.819200000000002,17095.861648800001,12.254553079600001]
["BasketballDrillText.Q32.jvet10.lp",804.60159999999996,34.351300000000002,38.3718,38.733899999999998,12360.8700981,9.9035520553600005]
["BasketballDrillText.Q37.jvet10.lp",423.01119999999997,31.77,36.729599999999998,36.895400000000002,8763.7236070599993,7.8013420105]
["ArenaOfValor.Q22.jvet10.lp",13682.0432,42.371400000000001,44.212899999999998,44.8977,78262.042033000005,83.513347148899996]
["ArenaOfValor.Q27.jvet10.lp",5717.7136,38.9069,41.4741,41.954599999999999,56373.6905501,60.853720188099999]
["ArenaOfValor.Q32.jvet10.lp",2650.86,35.937199999999997,39.519500000000001,39.868400000000001,43304.7863822,46.965900898000001]
["ArenaOfValor.Q37.jvet10.lp",1317.5160000000001,33.2408,37.956899999999997,38.174100000000003,30550.647015999999,37.6227278709]
["SlideEditing.Q22.jvet10.lp",281.30799999999999,47.330199999999998,45.715499999999999,45.9985,2488.6460280400001,5.1819708347300004]
["SlideEditing.Q27.jvet10.lp",209.9768,43.067,41.659199999999998,42.063699999999997,2174.6566679500002,5.1050169467900002]
["SlideEditing.Q32.jvet10.lp",156.73519999999999,38.452500000000001,39.4664,40.034399999999998,1982.45061207,5.1347990036000004]
["SlideEditing.Q37.jvet10.lp",111.85120000000001,33.537500000000001,38.320599999999999,38.816800000000001,1824.72519803,4.9226889610300004]
["SlideShow.Q22.jvet10.lp",589.10429999999997,49.396999999999998,52.860599999999998,53.918599999999998,11184.7162819,13.792407989499999]
["SlideShow.Q27.jvet10.lp",322.02589999999998,45.353000000000002,49.612499999999997,50.832900000000002,9136.0709040199999,13.0195271969]
["SlideShow.Q32.jvet10.lp",181.8621,41.634900000000002,47.280099999999997,48.577399999999997,7287.9227771799997,11.858019113499999]
["SlideShow.Q37.jvet10.lp",108.1117,37.889800000000001,45.328200000000002,46.755499999999998,5790.1428401499998,10.9491219521]

{"sheet":"Test","index":7,"n_rows":416,"n_cols":7,"rows_kept":416,"cut":false,"hidden":false,"merged":[]}
["Tango2.Q22.jvet10.ai",18820.906999999999,41.767899999999997,49.551400000000001,48.402799999999999,76856.929999999993,36.15]
["Tango2.Q27.jvet10.ai",5684.1810999999998,40.239699999999999,48.576500000000003,46.780299999999997,29745.360000000001,29.17]
["Tango2.Q32.jvet10.ai",3168.4557,39.421100000000003,47.604500000000002,45.381999999999998,10440.879999999999,26.83]
["Tango2.Q37.jvet10.ai",1895.8362,38.246499999999997,46.6496,44.072000000000003,3580.06,22.12]
["FoodMarket4.Q22.jvet10.ai",15410.2058,45.177999999999997,49.741700000000002,50.540199999999999,45950.05,35.64]
["FoodMarket4.Q27.jvet10.ai",8790.0205000000005,43.707299999999996,47.6004,48.275199999999998,20879.54,32.26]
["FoodMarket4.Q32.jvet10.ai",5270.7947000000004,41.933700000000002,45.8508,46.369599999999998,12210.06,29.33]
["FoodMarket4.Q37.jvet10.ai",3145.8568,39.718000000000004,44.501800000000003,44.851799999999997,5895.96,26.52]
["CampfireParty2.Q22.jvet10.ai",21210.6047,43.253799999999998,46.0349,43.836500000000001,78909.740000000005,43.62]
["CampfireParty2.Q27.jvet10.ai",8885.9470999999994,39.645499999999998,42.137700000000002,41.780200000000001,49596.21,33.97]
["CampfireParty2.Q32.jvet10.ai",3235.5378999999998,37.320500000000003,39.488300000000002,40.400599999999997,25873.87,27.06]
["CampfireParty2.Q37.jvet10.ai",1756.7763,35.955300000000001,37.549999999999997,39.235599999999998,10695.63,22.63]
["CatRobot1.Q22.jvet10.ai",33977.602099999996,42.448399999999999,42.537100000000002,44.153399999999998,87328.33,43.76]
["CatRobot1.Q27.jvet10.ai",11469.326800000001,39.904600000000002,41.435899999999997,42.532699999999998,46382.89,35.380000000000003]
["CatRobot1.Q32.jvet10.ai",6631.2837,38.549799999999998,40.685699999999997,41.155099999999997,22884.3,29.16]
["CatRobot1.Q37.jvet10.ai",3967.2062999999998,36.694899999999997,39.973599999999998,39.930300000000003,10920.55,25.66]
["DaylightRoad2.Q22.jvet10.ai",55938.639499999997,41.422199999999997,46.081899999999997,44.077399999999997,124895.34,52.81]
["DaylightRoad2.Q27.jvet10.ai",11793.236800000001,37.7776,44.8414,42.456200000000003,61431.24,34.369999999999997]
["DaylightRoad2.Q32.jvet10.ai",6331.4132,36.752800000000001,43.771599999999999,41.151000000000003,27037.56,27.59]
["DaylightRoad2.Q37.jvet10.ai",3530.8168000000001,35.314599999999999,42.881,40.169499999999999,12092.92,24.16]
["ParkRunning3.Q22.jvet10.ai",49757.269699999997,46.433300000000003,40.732799999999997,41.163800000000002,81465.86,50.43]
["ParkRunning3.Q27.jvet10.ai",28126.0553,42.551400000000001,36.995100000000001,37.860500000000002,54526.400000000001,45.39]
["ParkRunning3.Q32.jvet10.ai",15617.619699999999,38.849899999999998,34.454700000000003,35.584899999999998,38594.300000000003,40.01]
["ParkRunning3.Q37.jvet10.ai",8508.1026000000002,35.4208,32.726900000000001,34.044600000000003,22703.73,32.49]
["MarketPlace.Q22.jvet10.ai",10327.8472,42.893799999999999,45.161000000000001,45.825600000000001,44335.69,22.57]
["MarketPlace.Q27.jvet10.ai",5558.3008,40.231200000000001,43.029800000000002,44.079900000000002,25528.52,18.329999999999998]
["MarketPlace.Q32.jvet10.ai",3107.5176000000001,37.746000000000002,41.533799999999999,42.665900000000001,15879.79,16.32]
["MarketPlace.Q37.jvet10.ai",1655.3312000000001,35.146900000000002,40.463200000000001,41.5169,8277.93,14.17]
["RitualDance.Q22.jvet10.ai",6012.2879999999996,46.0169,48.192300000000003,49.559600000000003,27094.74,20.2]
["RitualDance.Q27.jvet10.ai",3485.4735999999998,43.117699999999999,45.7746,46.994100000000003,16644.310000000001,16.89]
["RitualDance.Q32.jvet10.ai",1962.9007999999999,40.116599999999998,43.9711,45.008200000000002,11032.08,15.24]
["RitualDance.Q37.jvet10.ai",1072.9792,37.134700000000002,42.716000000000001,43.451999999999998,5847.1,13.35]
["Cactus.Q22.jvet10.ai",12570.1659,41.139099999999999,41.716900000000003,44.341900000000003,51911.11,23]
["Cactus.Q27.jvet10.ai",5445.6364999999996,38.243400000000001,39.586500000000001,42.367699999999999,32008.11,17.52]
["Cactus.Q32.jvet10.ai",2937.6754000000001,36.103000000000002,38.656399999999998,40.792299999999997,18791.32,14.93]
["Cactus.Q37.jvet10.ai",1584.2333000000001,33.737200000000001,37.884399999999999,39.592500000000001,10289.73,12.69]
["BasketballDrive.Q22.jvet10.ai",7973.1341000000002,41.4574,44.662599999999998,46.557899999999997,41679.449999999997,19.71]
["BasketballDrive.Q27.jvet10.ai",3222.9245999999998,39.015999999999998,43.348300000000002,44.523600000000002,24837.88,15.14]
["BasketballDrive.Q32.jvet10.ai",1645.1126999999999,37.327199999999998,42.161799999999999,42.762099999999997,12630.36,12.86]
["BasketballDrive.Q37.jvet10.ai",916.43100000000004,35.469499999999996,41.171500000000002,41.353099999999998,5987.83,10.55]
["BQTerrace.Q22.jvet10.ai",21077.556,42.44,42.811399999999999,44.647100000000002,41177.32,28.19]
["BQTerrace.Q27.jvet10.ai",8952.1368000000002,37.338999999999999,41.047699999999999,43.290999999999997,41386.910000000003,21.22]
["BQTerrace.Q32.jvet10.ai",4418.0623999999998,34.851100000000002,39.754300000000001,42.276600000000002,26891.86,17.329999999999998]
["BQTerrace.Q37.jvet10.ai",2327.5439999999999,32.519199999999998,38.826300000000003,41.512700000000002,15982.49,14.01]
["BasketballDrill.Q22.jvet10.ai",2215.5174999999999,42.339799999999997,44.009700000000002,44.809800000000003,7387.52,5.01]
["BasketballDrill.Q27.jvet10.ai",1180.3071,38.9801,41.522799999999997,42.056100000000001,5647.72,3.88]
["BasketballDrill.Q32.jvet10.ai",632.93809999999996,36.020800000000001,39.772300000000001,40.136299999999999,3983.31,3.19]
["BasketballDrill.Q37.jvet10.ai",355.47140000000002,33.393799999999999,38.402099999999997,38.496200000000002,2255.21,2.52]
["BQMall.Q22.jvet10.ai",2612.7536,42.296900000000001,44.350999999999999,46.046199999999999,10146.68,5.27]
["BQMall.Q27.jvet10.ai",1562.7552000000001,39.478900000000003,42.192399999999999,43.601700000000001,7014.13,4.1900000000000004]
["BQMall.Q32.jvet10.ai",919.40480000000002,36.488999999999997,40.5105,41.702100000000002,5107.82,3.51]
["BQMall.Q37.jvet10.ai",523.23440000000005,33.4255,39.206099999999999,40.2209,3352.19,2.92]
["PartyScene.Q22.jvet10.ai",5079.5451999999996,41.4589,42.706299999999999,43.810200000000002,10274.299999999999,6.72]
["PartyScene.Q27.jvet10.ai",3147.0070999999998,37.210299999999997,39.805399999999999,40.7483,8748.31,5.43]
["PartyScene.Q32.jvet10.ai",1877.7317,33.461199999999998,37.871600000000001,38.619599999999998,7043.59,4.53]
["PartyScene.Q37.jvet10.ai",1007.4087,29.788799999999998,36.457599999999999,37.089799999999997,5456.7,3.48]
["RaceHorsesC.Q22.jvet10.ai",1734.3110999999999,42.753700000000002,43.5657,44.411000000000001,5142.2700000000004,2.74]
["RaceHorsesC.Q27.jvet10.ai",1037.0289,39.374699999999997,40.306899999999999,41.763599999999997,3780.65,2.31]
["RaceHorsesC.Q32.jvet10.ai",594.90790000000004,36.017899999999997,38.100099999999998,40.049199999999999,2815.56,1.92]
["RaceHorsesC.Q37.jvet10.ai",301.62079999999997,32.596600000000002,36.751899999999999,38.744799999999998,1882.1,1.69]
["BasketballPass.Q22.jvet10.ai",592.21900000000005,43.538200000000003,45.576500000000003,45.386600000000001,2027.68,1.1499999999999999]
["BasketballPass.Q27.jvet10.ai",354.50630000000001,39.936900000000001,42.747999999999998,42.2074,1555.67,0.95]
["BasketballPass.Q32.jvet10.ai",205.12219999999999,36.552,40.5535,39.8215,1153.67,0.83]
["BasketballPass.Q37.jvet10.ai",114.5048,33.356699999999996,38.842799999999997,38.004300000000001,728.76,0.63]
["BQSquare.Q22.jvet10.ai",1526.3632,41.613199999999999,43.500599999999999,44.627800000000001,2869.35,1.84]
["BQSquare.Q27.jvet10.ai",977.57680000000005,37.239899999999999,40.826099999999997,42.096499999999999,2353.58,1.44]
["BQSquare.Q32.jvet10.ai",601.1336,33.425699999999999,39.303800000000003,40.440100000000001,1831.71,1.1100000000000001]
["BQSquare.Q37.jvet10.ai",354.35840000000002,29.870899999999999,38.3658,39.287199999999999,1379.65,0.91]
["BlowingBubbles.Q22.jvet10.ai",1330.3341,41.429000000000002,42.293799999999997,43.145499999999998,2778.8,1.77]
["BlowingBubbles.Q27.jvet10.ai",823.53809999999999,37.145699999999998,39.357700000000001,39.990499999999997,2354.34,1.38]
["BlowingBubbles.Q32.jvet10.ai",469.17219999999998,33.193399999999997,37.2669,37.748399999999997,1952.52,1.05]
["BlowingBubbles.Q37.jvet10.ai",238.596,29.596399999999999,35.773000000000003,36.186300000000003,1480.09,0.83]
["RaceHorses.Q22.jvet10.ai",512.07470000000001,43.085500000000003,43.170400000000001,44.090600000000002,1392.77,0.78]
["RaceHorses.Q27.jvet10.ai",310.18740000000003,39.059899999999999,39.939300000000003,41.292700000000004,1096.6600000000001,0.65]
["RaceHorses.Q32.jvet10.ai",172.5497,35.182299999999998,37.901499999999999,39.183999999999997,856.11,0.55000000000000004]
["RaceHorses.Q37.jvet10.ai",85.891599999999997,31.706099999999999,36.404200000000003,37.503500000000003,573.09,0.43]
["FourPeople.Q22.jvet10.ai",3322.6415999999999,44.329300000000003,47.325200000000002,48.538400000000003,15351.85,9.14]
["FourPeople.Q27.jvet10.ai",2035.9256,41.858199999999997,45.166200000000003,46.470700000000001,9926.41,7.44]
["FourPeople.Q32.jvet10.ai",1256.9304,39.051099999999998,43.436900000000001,44.6693,7028.48,6.9]
["FourPeople.Q37.jvet10.ai",761.24800000000005,35.912399999999998,42.139099999999999,43.308500000000002,4416,5.89]
["Johnny.Q22.jvet10.ai",2228.4223999999999,44.500100000000003,48.590699999999998,49.303100000000001,11656.1,7.25]
["Johnny.Q27.jvet10.ai",1228.7031999999999,42.371000000000002,46.684899999999999,47.497,7229.75,6.02]
["Johnny.Q32.jvet10.ai",698.44399999999996,40.096400000000003,45.011299999999999,45.769599999999997,4650.07,5.33]
["Johnny.Q37.jvet10.ai",402.20639999999997,37.5306,43.586799999999997,44.331000000000003,2610.6799999999998,5.17]
["KristenAndSara.Q22.jvet10.ai",2438.8103999999998,44.879899999999999,47.974899999999998,48.904400000000003,11654.36,7.72]
["KristenAndSara.Q27.jvet10.ai",1461.3679999999999,42.667400000000001,45.8992,46.997599999999998,7070.34,6.6]
["KristenAndSara.Q32.jvet10.ai",884.48800000000006,40.125,44.171900000000001,45.305300000000003,4807.88,5.92]
["KristenAndSara.Q37.jvet10.ai",536.83920000000001,37.301400000000001,42.8005,43.925600000000003,3065.66,5.19]
["BasketballDrillText.Q22.jvet10.ai",2414.5079000000001,42.524999999999999,43.960599999999999,44.723599999999998,7214.65,5.12]
["BasketballDrillText.Q27.jvet10.ai",1367.431,39.077300000000001,41.198099999999997,41.736699999999999,5685.12,4.08]
["BasketballDrillText.Q32.jvet10.ai",787.69600000000003,36.007199999999997,39.162199999999999,39.5687,4153.07,3.15]
["BasketballDrillText.Q37.jvet10.ai",467.24520000000001,33.1479,37.616199999999999,37.7986,2655.73,2.64]
["ArenaOfValor.Q22.jvet10.ai",11635.8392,44.222499999999997,45.270099999999999,45.892400000000002,39013.49,29.94]
["ArenaOfValor.Q27.jvet10.ai",6795.5568000000003,40.7059,42.451900000000002,42.851599999999998,28633.03,26.29]
["ArenaOfValor.Q32.jvet10.ai",3899.4504000000002,37.454700000000003,40.284199999999998,40.5,20835.52,19.8]
["ArenaOfValor.Q37.jvet10.ai",2215.3807999999999,34.382300000000001,38.578299999999999,38.6768,12779.18,16.829999999999998]
["SlideEditing.Q22.jvet10.ai",3707.8721,47.005200000000002,45.259799999999998,45.7532,5837.5,6.25]
["SlideEditing.Q27.jvet10.ai",2789.4324000000001,42.481699999999996,41.252400000000002,42.219700000000003,5192.3999999999996,5.64]
["SlideEditing.Q32.jvet10.ai",2166.6970999999999,37.927799999999998,39.261499999999998,40.499499999999998,4605.53,4.8499999999999996]
["SlideEditing.Q37.jvet10.ai",1628.9005,33.148800000000001,38.320399999999999,39.566699999999997,3991.7,4.34]
["SlideShow.Q22.jvet10.ai",584.74789999999996,51.0749,54.123800000000003,55.1389,4316.75,4.54]
["SlideShow.Q27.jvet10.ai",394.78190000000001,47.422400000000003,50.876300000000001,52.0884,3204.2,4.12]
["SlideShow.Q32.jvet10.ai",270.31560000000002,43.816600000000001,48.429099999999998,50.075200000000002,2544.87,3.74]
["SlideShow.Q37.jvet10.ai",180.8451,40.012500000000003,46.5441,48.445799999999998,2019.04,3.46]
["Tango2.Q22.jvet10.ra",27806.1878,40.341500000000003,49.155200000000001,47.471899999999998,601457.09,169.65]
["Tango2.Q27.jvet10.ra",7407.6293999999998,39.6038,48.389499999999998,46.276299999999999,263434.89,117.55]
["Tango2.Q32.jvet10.ra",3684.0228999999999,38.686500000000002,47.582299999999996,45.095199999999998,156520.41,110.63]
["Tango2.Q37.jvet10.ra",2034.7166999999999,37.289200000000001,46.6999,43.819800000000001,91125.01,90.64]
["FoodMarket4.Q22.jvet10.ra",17147.6672,44.199300000000001,49.054499999999997,49.7029,390123.55,154.44]
["FoodMarket4.Q27.jvet10.ra",7449.8688000000002,42.707999999999998,47.295900000000003,47.777500000000003,220923.28,132.83000000000001]
["FoodMarket4.Q32.jvet10.ra",3922.0944,40.798099999999998,45.821399999999997,46.179299999999998,135325.91,111.95]
["FoodMarket4.Q37.jvet10.ra",2092.9535999999998,38.451900000000002,44.468600000000002,44.691499999999998,81802.070000000007,99]
["CampfireParty2.Q22.jvet10.ra",59923.084000000003,39.529899999999998,42.198799999999999,42.593400000000003,867394.95,235.67]
["CampfireParty2.Q27.jvet10.ra",17556.428,37.556699999999999,39.046900000000001,41.084000000000003,470197.14,150.81]
["CampfireParty2.Q32.jvet10.ra",8964.8088000000007,36.439500000000002,37.417299999999997,39.953699999999998,307992.89,124.7]
["CampfireParty2.Q37.jvet10.ra",4925.3,35.060899999999997,35.3386,38.639200000000002,204626.56,106.05]
["CatRobot1.Q22.jvet10.ra",33305.7264,40.393900000000002,41.851599999999998,43.533999999999999,447204.18,144.11000000000001]
["CatRobot1.Q27.jvet10.ra",8628.5424000000003,39.381300000000003,41.326700000000002,42.384500000000003,229737.09,109.48]
["CatRobot1.Q32.jvet10.ra",4239.68,38.114699999999999,40.746699999999997,41.219200000000001,150618.71,92.16]
["CatRobot1.Q37.jvet10.ra",2272.5792000000001,36.378500000000003,40.092599999999997,40.030799999999999,94918.720000000001,79.94]
["DaylightRoad2.Q22.jvet10.ra",56872.398399999998,38.152000000000001,45.623800000000003,43.380699999999997,651421.59,183.42]
["DaylightRoad2.Q27.jvet10.ra",10305.6368,37.231699999999996,44.837699999999998,42.423900000000003,285546.59000000003,121.41]
["DaylightRoad2.Q32.jvet10.ra",4254.8447999999999,36.296300000000002,44.008400000000002,41.452100000000002,164449.84,95.45]
["DaylightRoad2.Q37.jvet10.ra",2155.2512000000002,34.932400000000001,43.075400000000002,40.399099999999997,98802.66,76.760000000000005]
["ParkRunning3.Q22.jvet10.ra",110968.1053,43.116599999999998,37.941499999999998,38.862200000000001,625300.87,218.79]
["ParkRunning3.Q27.jvet10.ra",43737.8027,39.183500000000002,35.035400000000003,36.296300000000002,398598.15,194.4]
["ParkRunning3.Q32.jvet10.ra",20674.254700000001,35.965699999999998,33.311500000000002,34.759900000000002,280573.94,159.22]
["ParkRunning3.Q37.jvet10.ra",9256.9,33.055399999999999,31.8307,33.4437,195539.05,131.16999999999999]
["MarketPlace.Q22.jvet10.ra",14159.456,40.819099999999999,44.294899999999998,45.221899999999998,234940.25,89.16]
["MarketPlace.Q27.jvet10.ra",5420.2752,38.717399999999998,42.801200000000001,43.917099999999998,134199.07999999999,62.81]
["MarketPlace.Q32.jvet10.ra",2459.8760000000002,36.531999999999996,41.625300000000003,42.7378,91657.85,51.19]
["MarketPlace.Q37.jvet10.ra",1102.2248,34.229300000000002,40.536799999999999,41.6128,59250.44,43.69]
["RitualDance.Q22.jvet10.ra",9364.9959999999992,44.496400000000001,47.5364,48.5792,213912.37,80.14]
["RitualDance.Q27.jvet10.ra",4629.2864,41.347200000000001,45.417700000000004,46.234400000000001,149551.04999999999,70.010000000000005]
["RitualDance.Q32.jvet10.ra",2466.5192000000002,38.295499999999997,43.9146,44.545999999999999,106713.17,58.33]
["RitualDance.Q37.jvet10.ra",1292.2983999999999,35.337600000000002,42.625500000000002,43.037199999999999,70851.78,48.25]
["Cactus.Q22.jvet10.ra",14682.135200000001,38.677100000000003,40.223199999999999,43.984099999999998,207142.76,77.27]
["Cactus.Q27.jvet10.ra",4349.7816000000003,37.154299999999999,39.3992,42.484200000000001,115437.94,48.46]
["Cactus.Q32.jvet10.ra",2027.7447999999999,35.470199999999998,38.770099999999999,41.148200000000003,78721.55,37.93]
["Cactus.Q37.jvet10.ra",989.05439999999999,33.370399999999997,38.0105,39.8598,51929.21,33.76]
["BasketballDrive.Q22.jvet10.ra",14299.208000000001,39.420699999999997,44.226500000000001,45.742600000000003,255219.63,77.73]
["BasketballDrive.Q27.jvet10.ra",4625.1927999999998,37.776600000000002,43.128500000000003,43.937199999999997,154037.03,60.46]
["BasketballDrive.Q32.jvet10.ra",2185.7328000000002,36.070399999999999,42.133299999999998,42.474200000000003,101327.44,48.97]
["BasketballDrive.Q37.jvet10.ra",1102.9456,34.0869,41.129199999999997,40.9816,63694.38,43.12]
["BQTerrace.Q22.jvet10.ra",32127.4208,37.4193,42.509,44.732900000000001,242847.26,126.28]
["BQTerrace.Q27.jvet10.ra",5540.9719999999998,35.462200000000003,41.471600000000002,43.805799999999998,101718.21,62.53]
["BQTerrace.Q32.jvet10.ra",1737.3520000000001,34.176200000000001,40.389200000000002,42.893300000000004,60917.27,42.05]
["BQTerrace.Q37.jvet10.ra",775.37120000000004,32.637900000000002,39.277000000000001,41.985399999999998,39099.71,34.74]
["BasketballDrill.Q22.jvet10.ra",2856.6552000000001,41.313499999999998,43.762,44.567799999999998,41340.51,15.38]
["BasketballDrill.Q27.jvet10.ra",1310.5719999999999,38.109400000000001,41.567,41.975099999999998,29610.95,11.56]
["BasketballDrill.Q32.jvet10.ra",661.6096,35.209499999999998,39.849699999999999,40.091799999999999,21475.4,9.33]
["BasketballDrill.Q37.jvet10.ra",339.27440000000001,32.601500000000001,38.330199999999998,38.3842,14048.82,6.83]
["BQMall.Q22.jvet10.ra",2894.8824,40.509399999999999,44.113500000000002,45.868699999999997,37305.46,16.52]
["BQMall.Q27.jvet10.ra",1293.2447999999999,37.990299999999998,42.354399999999998,43.724800000000002,25472.080000000002,11.41]
["BQMall.Q32.jvet10.ra",650.95600000000002,35.339500000000001,40.841799999999999,41.971800000000002,18421.689999999999,9.3800000000000008]
["BQMall.Q37.jvet10.ra",334.54,32.598999999999997,39.440399999999997,40.4,13152.85,7.51]
["PartyScene.Q22.jvet10.ra",5576.0695999999998,38.755400000000002,42.241700000000002,43.496899999999997,39645.07,20.29]
["PartyScene.Q27.jvet10.ra",2461.8303999999998,35.31,39.825000000000003,40.953400000000002,26927.37,14.76]
["PartyScene.Q32.jvet10.ra",1188.9680000000001,32.268500000000003,38.095700000000001,39.055100000000003,19912.38,11.27]
["PartyScene.Q37.jvet10.ra",558.1096,29.4191,36.594299999999997,37.3812,14084.03,8.5]
["RaceHorsesC.Q22.jvet10.ra",4204.7352000000001,39.383200000000002,41.647199999999998,43.195999999999998,34286.74,13.83]
["RaceHorsesC.Q27.jvet10.ra",1615.9232,35.994900000000001,39.519399999999997,41.1586,23248.38,9.84]
["RaceHorsesC.Q32.jvet10.ra",771.54880000000003,33.303600000000003,37.945500000000003,39.7438,17015.68,6.82]
["RaceHorsesC.Q37.jvet10.ra",372.6336,30.678899999999999,36.484999999999999,38.392099999999999,11576.46,5.37]
["BasketballPass.Q22.jvet10.ra",1275.3504,41.313800000000001,44.688499999999998,43.8367,10511.38,4.95]
["BasketballPass.Q27.jvet10.ra",602.29359999999997,37.229300000000002,42.159599999999998,40.876399999999997,8106.85,3.52]
["BasketballPass.Q32.jvet10.ra",304.00799999999998,33.921999999999997,40.372700000000002,38.895699999999998,6238.83,2.5]
["BasketballPass.Q37.jvet10.ra",153.0712,31.002800000000001,38.743299999999998,37.0871,4344.2299999999996,1.93]
["BQSquare.Q22.jvet10.ra",1278.6600000000001,38.453400000000002,44.057000000000002,45.420999999999999,8918.41,5.42]
["BQSquare.Q27.jvet10.ra",467.61040000000003,35.243899999999996,41.8932,43.176099999999998,4697.7700000000004,3.38]
["BQSquare.Q32.jvet10.ra",212.71440000000001,32.508800000000001,40.192599999999999,41.439599999999999,3033.19,2.54]
["BQSquare.Q37.jvet10.ra",112.0968,29.991099999999999,38.968800000000002,39.978999999999999,2174.6999999999998,2.2000000000000002]
["BlowingBubbles.Q22.jvet10.ra",1347.1448,38.550800000000002,41.9495,43.1081,8579.41,4.4800000000000004]
["BlowingBubbles.Q27.jvet10.ra",599.35040000000004,35.2226,39.532600000000002,40.4529,6072.29,3.3]
["BlowingBubbles.Q32.jvet10.ra",289.548,32.209499999999998,37.669899999999998,38.403500000000001,4443.6400000000003,2.3199999999999998]
["BlowingBubbles.Q37.jvet10.ra",135.43360000000001,29.338000000000001,35.9786,36.620699999999999,3120.73,1.83]
["RaceHorses.Q22.jvet10.ra",1021.0504,39.946100000000001,42.043599999999998,43.120199999999997,7389.38,3.3]
["RaceHorses.Q27.jvet10.ra",481.11279999999999,36.0274,39.417099999999998,40.615299999999998,5430.11,2.39]
["RaceHorses.Q32.jvet10.ra",240.6824,32.752499999999998,37.594099999999997,38.921300000000002,4225.8900000000003,1.76]
["RaceHorses.Q37.jvet10.ra",116.74720000000001,29.847200000000001,36.055999999999997,37.295299999999997,2944.09,1.33]
["FourPeople.Q22.jvet10.ra"]
["FourPeople.Q27.jvet10.ra"]
["FourPeople.Q32.jvet10.ra"]
["FourPeople.Q37.jvet10.ra"]
["Johnny.Q22.jvet10.ra"]
["Johnny.Q27.jvet10.ra"]
["Johnny.Q32.jvet10.ra"]
["Johnny.Q37.jvet10.ra"]
["KristenAndSara.Q22.jvet10.ra"]
["KristenAndSara.Q27.jvet10.ra"]
["KristenAndSara.Q32.jvet10.ra"]
["KristenAndSara.Q37.jvet10.ra"]
["BasketballDrillText.Q22.jvet10.ra",2952.4112,41.436100000000003,43.744799999999998,44.524000000000001,38503.03,15.23]
["BasketballDrillText.Q27.jvet10.ra",1387.5576000000001,38.1569,41.300600000000003,41.717799999999997,28156.87,12.27]
["BasketballDrillText.Q32.jvet10.ra",715.08479999999997,35.166200000000003,39.3521,39.631,20428.63,8.8800000000000008]
["BasketballDrillText.Q37.jvet10.ra",374.87439999999998,32.445599999999999,37.6342,37.790100000000002,14001.91,6.37]
["ArenaOfValor.Q22.jvet10.ra",11635.047200000001,43.062600000000003,45.163600000000002,45.759399999999999,142765.41,78.02]
["ArenaOfValor.Q27.jvet10.ra",4999.1696000000002,39.730699999999999,42.567900000000002,42.9604,101901.24,51.46]
["ArenaOfValor.Q32.jvet10.ra",2449.1167999999998,36.858699999999999,40.636499999999998,40.891300000000001,77076.34,44.13]
["ArenaOfValor.Q37.jvet10.ra",1234.212,34.143799999999999,38.833100000000002,38.956600000000002,53809.36,37.31]
["SlideEditing.Q22.jvet10.ra",1276.0216,50.097299999999997,48.120399999999997,48.3172,6011.24,5.51]
["SlideEditing.Q27.jvet10.ra",956.34479999999996,45.791200000000003,43.568899999999999,44.191600000000001,5171.58,5.54]
["SlideEditing.Q32.jvet10.ra",731.98800000000006,41.310600000000001,40.663899999999998,41.616599999999998,4841.45,4.95]
["SlideEditing.Q37.jvet10.ra",556.16079999999999,36.474899999999998,38.909999999999997,40.051299999999998,4355.38,5.21]
["SlideShow.Q22.jvet10.ra",669.19870000000003,52.118600000000001,55.392400000000002,56.493400000000001,15592.58,12.41]
["SlideShow.Q27.jvet10.ra",395.32769999999999,48.2074,52.494900000000001,53.695399999999999,12418.99,10.96]
["SlideShow.Q32.jvet10.ra",252.11359999999999,44.672199999999997,50.005899999999997,51.375100000000003,9473.9,10.62]
["SlideShow.Q37.jvet10.ra",163.98179999999999,41.107999999999997,47.794699999999999,49.548900000000003,7164.39,10.15]
["Tango2.Q22.jvet10.lb"]
["Tango2.Q27.jvet10.lb"]
["Tango2.Q32.jvet10.lb"]
["Tango2.Q37.jvet10.lb"]
["FoodMarket4.Q22.jvet10.lb"]
["FoodMarket4.Q27.jvet10.lb"]
["FoodMarket4.Q32.jvet10.lb"]
["FoodMarket4.Q37.jvet10.lb"]
["CampfireParty2.Q22.jvet10.lb"]
["CampfireParty2.Q27.jvet10.lb"]
["CampfireParty2.Q32.jvet10.lb"]
["CampfireParty2.Q37.jvet10.lb"]
["CatRobot1.Q22.jvet10.lb"]
["CatRobot1.Q27.jvet10.lb"]
["CatRobot1.Q32.jvet10.lb"]
["CatRobot1.Q37.jvet10.lb"]
["DaylightRoad2.Q22.jvet10.lb"]
["DaylightRoad2.Q27.jvet10.lb"]
["DaylightRoad2.Q32.jvet10.lb"]
["DaylightRoad2.Q37.jvet10.lb"]
["ParkRunning3.Q22.jvet10.lb"]
["ParkRunning3.Q27.jvet10.lb"]
["ParkRunning3.Q32.jvet10.lb"]
["ParkRunning3.Q37.jvet10.lb"]
["MarketPlace.Q22.jvet10.lb",17649.36,41.038400000000003,44.095700000000001,44.831200000000003,286003.18,96.92]
["MarketPlace.Q27.jvet10.lb",6531.4279999999999,38.607599999999998,42.207000000000001,43.1708,149426.19,69.94]
["MarketPlace.Q32.jvet10.lb",2914.7264,36.200499999999998,40.795699999999997,41.811300000000003,98264.98,54.89]
["MarketPlace.Q37.jvet10.lb",1322.316,33.762700000000002,39.794400000000003,40.763399999999997,64895.28,43.32]
["RitualDance.Q22.jvet10.lb",10818.54,44.334400000000002,47.120199999999997,47.866199999999999,233835.5,84.45]
["RitualDance.Q27.jvet10.lb",5412.8807999999999,41.053899999999999,44.754100000000001,45.307600000000001,161917.28,73.56]
["RitualDance.Q32.jvet10.lb",2875.8247999999999,37.924300000000002,43.1965,43.5901,115040.39,59.64]
["RitualDance.Q37.jvet10.lb",1566.7360000000001,35.084400000000002,42.101700000000001,42.282200000000003,77474.33,50.08]
["Cactus.Q22.jvet10.lb",18435.624,38.94,40.424199999999999,43.645299999999999,240916.49,81.849999999999994]
["Cactus.Q27.jvet10.lb",4607.7695999999996,36.942999999999998,39.132599999999996,41.820399999999999,127608.05,50.38]
["Cactus.Q32.jvet10.lb",2075.7456000000002,34.901600000000002,38.285899999999998,40.324599999999997,88681.49,39.380000000000003]
["Cactus.Q37.jvet10.lb",1020.9432,32.688099999999999,37.541600000000003,39.134099999999997,58963.76,32.54]
["BasketballDrive.Q22.jvet10.lb",17189.7752,39.676900000000003,44.1128,45.587800000000001,268623.77,86.27]
["BasketballDrive.Q27.jvet10.lb",5487.4448000000002,37.764899999999997,42.797499999999999,43.515000000000001,168919.04000000001,62.92]
["BasketballDrive.Q32.jvet10.lb",2605.9904000000001,35.915199999999999,41.670699999999997,41.933799999999998,110952.83,52.4]
["BasketballDrive.Q37.jvet10.lb",1359.5944,33.939500000000002,40.708300000000001,40.5379,70835.64,44.45]
["BQTerrace.Q22.jvet10.lb",49842.4568,38.447899999999997,42.241,44.308799999999998,263836.34999999998,157.38]
["BQTerrace.Q27.jvet10.lb",6631.4727999999996,35.582099999999997,40.8506,43.167000000000002,120803.08,66.55]
["BQTerrace.Q32.jvet10.lb",1694.4064000000001,33.7896,39.643099999999997,42.261499999999998,69472.55,42.47]
["BQTerrace.Q37.jvet10.lb",657.49360000000001,31.735499999999998,38.746499999999997,41.509,41345.67,30.07]
["BasketballDrill.Q22.jvet10.lb",3109.7464,40.604700000000001,43.401400000000002,44.1509,44686.92,13.91]
["BasketballDrill.Q27.jvet10.lb",1420.9936,37.351599999999998,40.9358,41.429000000000002,33898.39,10.86]
["BasketballDrill.Q32.jvet10.lb",707.39679999999998,34.618499999999997,39.1447,39.516100000000002,24059.919999999998,9.4600000000000009]
["BasketballDrill.Q37.jvet10.lb",373.69760000000002,32.237200000000001,37.597200000000001,37.817700000000002,15983.65,6.58]
["BQMall.Q22.jvet10.lb",3586.56,40.471699999999998,43.550899999999999,45.042499999999997,40640.94,18.53]
["BQMall.Q27.jvet10.lb",1565.7944,37.548099999999998,41.464799999999997,42.643300000000004,28154.12,12.37]
["BQMall.Q32.jvet10.lb",771.25440000000003,34.627899999999997,39.8309,40.847200000000001,20349.919999999998,8.74]
["BQMall.Q37.jvet10.lb",394.16559999999998,31.777999999999999,38.557699999999997,39.529499999999999,14480.14,7.06]
["PartyScene.Q22.jvet10.lb",6933.8320000000003,38.6631,41.496600000000001,42.4467,47003.77,20.12]
["PartyScene.Q27.jvet10.lb",2848.3616000000002,34.703899999999997,38.651400000000002,39.4893,32931.9,16.5]
["PartyScene.Q32.jvet10.lb",1271.6248000000001,31.2455,36.753,37.551900000000003,22037.68,11.01]
["PartyScene.Q37.jvet10.lb",554.09119999999996,28.058900000000001,35.357199999999999,36.151899999999998,15299.7,7.99]
["RaceHorsesC.Q22.jvet10.lb",5100.9128000000001,40.167700000000004,41.757899999999999,43.086199999999998,35547.120000000003,13.25]
["RaceHorsesC.Q27.jvet10.lb",1934.8792000000001,36.402299999999997,39.068300000000001,40.692,22958.17,9.5299999999999994]
["RaceHorsesC.Q32.jvet10.lb",876.91520000000003,33.351300000000002,37.318199999999997,39.179600000000001,17659.099999999999,6.93]
["RaceHorsesC.Q37.jvet10.lb",405.34399999999999,30.5289,36.106900000000003,37.950099999999999,12249.98,5.35]
["BasketballPass.Q22.jvet10.lb",1493.9007999999999,41.329799999999999,44.266199999999998,43.712800000000001,10582.95,4.82]
["BasketballPass.Q27.jvet10.lb",723.08159999999998,37.259700000000002,41.499099999999999,40.450099999999999,7969.76,3.54]
["BasketballPass.Q32.jvet10.lb",365.49279999999999,33.844099999999997,39.600099999999998,38.4116,6346.49,2.6]
["BasketballPass.Q37.jvet10.lb",189.78479999999999,30.9938,38.164700000000003,36.7286,4505.0200000000004,2]
["BQSquare.Q22.jvet10.lb",1909.4983999999999,38.641800000000003,42.870899999999999,44.030799999999999,11110.87,6.13]
["BQSquare.Q27.jvet10.lb",636.12559999999996,34.816000000000003,40.853200000000001,42.021799999999999,7243.46,3.82]
["BQSquare.Q32.jvet10.lb",242.44479999999999,31.586500000000001,39.412199999999999,40.424399999999999,4126.71,2.98]
["BQSquare.Q37.jvet10.lb",98.740799999999993,28.5977,38.627099999999999,39.4116,2504.54,1.99]
["BlowingBubbles.Q22.jvet10.lb",1698.7655999999999,38.395499999999998,41.119100000000003,41.898200000000003,10223.25,5.08]
["BlowingBubbles.Q27.jvet10.lb",697.58,34.505200000000002,38.327100000000002,38.929699999999997,7011.71,3.31]
["BlowingBubbles.Q32.jvet10.lb",305.93040000000002,31.069099999999999,36.356900000000003,36.930599999999998,4802,2.27]
["BlowingBubbles.Q37.jvet10.lb",133.3048,28.061,34.8842,35.467799999999997,3385.69,1.68]
["RaceHorses.Q22.jvet10.lb",1174.0391999999999,40.32,41.626300000000001,42.692700000000002,7654.84,3.48]
["RaceHorses.Q27.jvet10.lb",545.99279999999999,36.059800000000003,38.680900000000001,39.931199999999997,5449.69,2.5299999999999998]
["RaceHorses.Q32.jvet10.lb",265.96319999999997,32.494999999999997,36.911999999999999,38.107799999999997,4165.07,1.85]
["RaceHorses.Q37.jvet10.lb",130.27279999999999,29.651299999999999,35.545699999999997,36.666699999999999,2907.32,1.31]
["FourPeople.Q22.jvet10.lb",1964.7991999999999,42.9861,46.9086,48.237900000000003,46856.38,19.739999999999998]
["FourPeople.Q27.jvet10.lb",732.34960000000001,40.656799999999997,44.922800000000002,46.282200000000003,28119.43,14.19]
["FourPeople.Q32.jvet10.lb",364.8152,38.0976,43.303699999999999,44.624299999999998,19138.439999999999,10.119999999999999]
["FourPeople.Q37.jvet10.lb",194.08879999999999,35.265700000000002,42.043300000000002,43.1267,13897.53,9.8800000000000008]
["Johnny.Q22.jvet10.lb",1361.1776,43.330300000000001,48.535899999999998,49.162399999999998,42413.26,17.010000000000002]
["Johnny.Q27.jvet10.lb",342.09120000000001,41.540700000000001,46.9206,47.562600000000003,21630.639999999999,11.39]
["Johnny.Q32.jvet10.lb",152.964,39.554400000000001,45.369100000000003,46.070099999999996,13971.12,10.63]
["Johnny.Q37.jvet10.lb",82.157600000000002,37.200299999999999,44.047899999999998,44.701599999999999,8926.59,9.7100000000000009]
["KristenAndSara.Q22.jvet10.lb",1775.2872,43.640099999999997,47.721299999999999,48.706299999999999,50948.17,18.97]
["KristenAndSara.Q27.jvet10.lb",585.68240000000003,41.5625,45.835099999999997,46.873600000000003,28927.32,13.34]
["KristenAndSara.Q32.jvet10.lb",261.96800000000002,39.2941,44.164999999999999,45.265000000000001,18571.05,12.4]
["KristenAndSara.Q37.jvet10.lb",136.37119999999999,36.704999999999998,42.841500000000003,44.000900000000001,11916.74,9.65]
["BasketballDrillText.Q22.jvet10.lb",3208.9223999999999,40.728400000000001,43.245600000000003,43.937399999999997,42062.73,14.25]
["BasketballDrillText.Q27.jvet10.lb",1477.0688,37.401000000000003,40.467100000000002,40.946399999999997,31977.64,10.7]
["BasketballDrillText.Q32.jvet10.lb",743.19600000000003,34.522799999999997,38.474899999999998,38.861600000000003,23633.35,8.48]
["BasketballDrillText.Q37.jvet10.lb",399.20400000000001,31.9072,36.816000000000003,37.086500000000001,16035.68,6.28]
["ArenaOfValor.Q22.jvet10.lb",13106.741599999999,42.425699999999999,44.308,45.008800000000001,143475.12,80.569999999999993]
["ArenaOfValor.Q27.jvet10.lb",5509.3311999999996,38.972200000000001,41.582700000000003,42.078600000000002,112307.23,55.75]
["ArenaOfValor.Q32.jvet10.lb",2571.5151999999998,36,39.646299999999997,39.995800000000003,82980.27,44.37]
["ArenaOfValor.Q37.jvet10.lb",1282.8696,33.304200000000002,38.063499999999998,38.284399999999998,59376.46,36.21]
["SlideEditing.Q22.jvet10.lb",277.7568,47.375,45.715400000000002,45.988599999999998,5358.12,3.28]
["SlideEditing.Q27.jvet10.lb",204.8904,43.080300000000001,41.690899999999999,42.121899999999997,4749.5,3.07]
["SlideEditing.Q32.jvet10.lb",154.292,38.474299999999999,39.486499999999999,40.100099999999998,4370.3,3.05]
["SlideEditing.Q37.jvet10.lb",111.67919999999999,33.633200000000002,38.365099999999998,38.935000000000002,4141.4799999999996,3.01]
["SlideShow.Q22.jvet10.lb",528.44000000000005,49.408700000000003,53.024900000000002,54.088099999999997,18556.560000000001,10.75]
["SlideShow.Q27.jvet10.lb",293.0838,45.423200000000001,49.741300000000003,50.926699999999997,15898.28,11.55]
["SlideShow.Q32.jvet10.lb",169.31549999999999,41.741300000000003,47.348999999999997,48.86,12467.13,9.2100000000000009]
["SlideShow.Q37.jvet10.lb",104.6198,38.032299999999999,45.485900000000001,47.166200000000003,10009.02,9.85]
["Tango2.Q22.jvet10.lp"]
["Tango2.Q27.jvet10.lp"]
["Tango2.Q32.jvet10.lp"]
["Tango2.Q37.jvet10.lp"]
["FoodMarket4.Q22.jvet10.lp"]
["FoodMarket4.Q27.jvet10.lp"]
["FoodMarket4.Q32.jvet10.lp"]
["FoodMarket4.Q37.jvet10.lp"]
["CampfireParty2.Q22.jvet10.lp"]
["CampfireParty2.Q27.jvet10.lp"]
["CampfireParty2.Q32.jvet10.lp"]
["CampfireParty2.Q37.jvet10.lp"]
["CatRobot1.Q22.jvet10.lp"]
["CatRobot1.Q27.jvet10.lp"]
["CatRobot1.Q32.jvet10.lp"]
["CatRobot1.Q37.jvet10.lp"]
["DaylightRoad2.Q22.jvet10.lp"]
["DaylightRoad2.Q27.jvet10.lp"]
["DaylightRoad2.Q32.jvet10.lp"]
["DaylightRoad2.Q37.jvet10.lp"]
["ParkRunning3.Q22.jvet10.lp"]
["ParkRunning3.Q27.jvet10.lp"]
["ParkRunning3.Q32.jvet10.lp"]
["DaylightRoad2.Q37.jvet10.lp"]
["MarketPlace.Q22.jvet10.lp",18896.34,41.014699999999998,44.026800000000001,44.7682,195088.34,92.76]
["MarketPlace.Q27.jvet10.lp",6773.08,38.5685,42.177399999999999,43.1327,97042.77,70.709999999999994]
["MarketPlace.Q32.jvet10.lp",2993.5272,36.167499999999997,40.778399999999998,41.788499999999999,61955.58,55.26]
["MarketPlace.Q37.jvet10.lp",1347.7224000000001,33.7361,39.7883,40.7303,42123.360000000001,42.96]
["RitualDance.Q22.jvet10.lp",11057.0056,44.29,47.089199999999998,47.832099999999997,166908.10999999999,81.45]
["RitualDance.Q27.jvet10.lp",5485.9992000000002,41.020899999999997,44.726999999999997,45.273899999999998,111602.87,72.709999999999994]
["RitualDance.Q32.jvet10.lp",2903.5871999999999,37.9026,43.173099999999998,43.548699999999997,80299.509999999995,61.39]
["RitualDance.Q37.jvet10.lp",1576.9048,35.0655,42.071599999999997,42.244999999999997,53930.879999999997,52.26]
["Cactus.Q22.jvet10.lp",20564.7896,38.863500000000002,40.366999999999997,43.525300000000001,162503.24,87.81]
["Cactus.Q27.jvet10.lp",4820.9880000000003,36.893999999999998,39.098399999999998,41.774299999999997,86770.68,51.79]
["Cactus.Q32.jvet10.lp",2134.1439999999998,34.863199999999999,38.258499999999998,40.266199999999998,56703.28,41.31]
["Cactus.Q37.jvet10.lp",1041.0655999999999,32.6586,37.526600000000002,39.0901,38327.440000000002,33.5]
["BasketballDrive.Q22.jvet10.lp",18147.896799999999,39.646700000000003,44.046999999999997,45.503599999999999,197518.29,84.92]
["BasketballDrive.Q27.jvet10.lp",5693.6688000000004,37.719700000000003,42.730499999999999,43.430700000000002,119958.65,63.14]
["BasketballDrive.Q32.jvet10.lp",2684.5039999999999,35.863300000000002,41.607999999999997,41.847999999999999,75540.009999999995,50.65]
["BasketballDrive.Q37.jvet10.lp",1389.6296,33.8874,40.639800000000001,40.463999999999999,48214.58,42.83]
["BQTerrace.Q22.jvet10.lp",57568.594400000002,38.482999999999997,42.075600000000001,44.156999999999996,193250.42,171.58]
["BQTerrace.Q27.jvet10.lp",7888.14,35.376800000000003,40.740499999999997,43.1083,71593.75,66.430000000000007]
["BQTerrace.Q32.jvet10.lp",1857.5319999999999,33.6691,39.615400000000001,42.241399999999999,38719.300000000003,40.01]
["BQTerrace.Q37.jvet10.lp",687.11360000000002,31.6371,38.744900000000001,41.538899999999998,24122.68,30.27]
["BasketballDrill.Q22.jvet10.lp",3261.4567999999999,40.538600000000002,43.315300000000001,44.023400000000002,29905.15,13.91]
["BasketballDrill.Q27.jvet10.lp",1476.4448,37.276400000000002,40.831699999999998,41.247599999999998,22610.16,11.04]
["BasketballDrill.Q32.jvet10.lp",730.64880000000005,34.5274,39.038600000000002,39.309899999999999,16373.2,9.25]
["BasketballDrill.Q37.jvet10.lp",383.964,32.150300000000001,37.470399999999998,37.612699999999997,10910.5,7.04]
["BQMall.Q22.jvet10.lp",3761.3208,40.419899999999998,43.510300000000001,44.998800000000003,26967.74,18.059999999999999]
["BQMall.Q27.jvet10.lp",1620.076,37.491900000000001,41.409199999999998,42.584600000000002,18134.02,11.96]
["BQMall.Q32.jvet10.lp",790.29600000000005,34.557899999999997,39.779000000000003,40.823,12779.38,8.91]
["BQMall.Q37.jvet10.lp",402.59679999999997,31.728400000000001,38.511000000000003,39.457799999999999,9436.43,7.16]
["PartyScene.Q22.jvet10.lp",7499.7664000000004,38.530299999999997,41.4285,42.382100000000001,31051.7,20.49]
["PartyScene.Q27.jvet10.lp",2990.0871999999999,34.591200000000001,38.610799999999998,39.453099999999999,20069.03,14.21]
["PartyScene.Q32.jvet10.lp",1313.7256,31.1983,36.718499999999999,37.5,13697.91,10.43]
["PartyScene.Q37.jvet10.lp",565.5376,28.034199999999998,35.353299999999997,36.125100000000003,10036.950000000001,7.58]
["RaceHorsesC.Q22.jvet10.lp",5342.9463999999998,40.162500000000001,41.671399999999998,43.025100000000002,26658.06,13.75]
["RaceHorsesC.Q27.jvet10.lp",1993.9264000000001,36.327500000000001,38.997799999999998,40.643500000000003,16525.990000000002,10.35]
["RaceHorsesC.Q32.jvet10.lp",892.19759999999997,33.299799999999998,37.282400000000003,39.128999999999998,12190.76,7.34]
["RaceHorsesC.Q37.jvet10.lp",408.92079999999999,30.517199999999999,36.053699999999999,37.887500000000003,8438.25,5.55]
["BasketballPass.Q22.jvet10.lp",1526.5591999999999,41.297699999999999,44.2149,43.685099999999998,7828.37,4.99]
["BasketballPass.Q27.jvet10.lp",737.7672,37.229700000000001,41.421300000000002,40.417499999999997,5742.27,3.52]
["BasketballPass.Q32.jvet10.lp",372.92,33.824399999999997,39.580399999999997,38.398400000000002,4413.58,2.68]
["BasketballPass.Q37.jvet10.lp",192.99680000000001,30.968399999999999,38.127499999999998,36.6982,3161.21,2.1]
["BQSquare.Q22.jvet10.lp",2179.9944,38.515700000000002,42.832999999999998,43.944800000000001,6516.71,5.92]
["BQSquare.Q27.jvet10.lp",704.50480000000005,34.553600000000003,40.8063,41.9146,3682.91,3.68]
["BQSquare.Q32.jvet10.lp",260.50720000000001,31.417300000000001,39.376800000000003,40.390700000000002,2127.81,2.44]
["BQSquare.Q37.jvet10.lp",102.2488,28.5139,38.537700000000001,39.4223,1429.19,1.71]
["BlowingBubbles.Q22.jvet10.lp",1791.9960000000001,38.315199999999997,41.069600000000001,41.826999999999998,6600.22,4.96]
["BlowingBubbles.Q27.jvet10.lp",722.58320000000003,34.443300000000001,38.288600000000002,38.881900000000002,4244.93,3.16]
["BlowingBubbles.Q32.jvet10.lp",312.85039999999998,31.027999999999999,36.2898,36.892899999999997,2991.13,2.2000000000000002]
["BlowingBubbles.Q37.jvet10.lp",135.59200000000001,28.038,34.850900000000003,35.465200000000003,2142.31,1.64]
["RaceHorses.Q22.jvet10.lp",1200.7840000000001,40.2517,41.568300000000001,42.641100000000002,5617.71,3.44]
["RaceHorses.Q27.jvet10.lp",554.02480000000003,36.034399999999998,38.6464,39.875700000000002,3887.25,2.5099999999999998]
["RaceHorses.Q32.jvet10.lp",268.1592,32.491900000000001,36.874600000000001,38.081800000000001,2879.54,1.89]
["RaceHorses.Q37.jvet10.lp",130.99600000000001,29.6557,35.496099999999998,36.570999999999998,1979.41,1.3]
["FourPeople.Q22.jvet10.lp",2127.5056,42.899299999999997,46.8996,48.238199999999999,29277.85,20.399999999999999]
["FourPeople.Q27.jvet10.lp",757.8184,40.591999999999999,44.890099999999997,46.277999999999999,16944.82,15.44]
["FourPeople.Q32.jvet10.lp",373.62079999999997,38.025799999999997,43.283200000000001,44.577500000000001,11358.55,11.7]
["FourPeople.Q37.jvet10.lp",197.39840000000001,35.188200000000002,42.017099999999999,43.156700000000001,8351.6200000000008,10.82]
["Johnny.Q22.jvet10.lp",1594.3008,43.228200000000001,48.454999999999998,49.117899999999999,25418.53,19.84]
["Johnny.Q27.jvet10.lp",366.81200000000001,41.454700000000003,46.851300000000002,47.4801,12237.12,12.35]
["Johnny.Q32.jvet10.lp",157.4768,39.443399999999997,45.3399,45.997500000000002,7898,10.18]
["Johnny.Q37.jvet10.lp",83.721599999999995,37.088999999999999,43.957599999999999,44.622599999999998,5303.43,9.82]
["KristenAndSara.Q22.jvet10.lp",1909.9775999999999,43.573900000000002,47.684199999999997,48.660899999999998,31374.959999999999,19.64]
["KristenAndSara.Q27.jvet10.lp",603.58960000000002,41.499400000000001,45.759,46.823900000000002,17059.810000000001,13.77]
["KristenAndSara.Q32.jvet10.lp",267.24880000000002,39.2378,44.084200000000003,45.2087,11166.15,13.24]
["KristenAndSara.Q37.jvet10.lp",138.27680000000001,36.661799999999999,42.755400000000002,43.972099999999998,7217.17,10.02]
["BasketballDrillText.Q22.jvet10.lp",3471.64,40.6387,43.173699999999997,43.821399999999997,28445.29,14.26]
["BasketballDrillText.Q27.jvet10.lp",1582.1063999999999,37.251300000000001,40.376899999999999,40.848300000000002,21430.33,10.79]
["BasketballDrillText.Q32.jvet10.lp",785.0376,34.384099999999997,38.384399999999999,38.708199999999998,15761.3,9.35]
["BasketballDrillText.Q37.jvet10.lp",413.61919999999998,31.810400000000001,36.739100000000001,36.947699999999998,10789.62,6.59]
["ArenaOfValor.Q22.jvet10.lp",13508.429599999999,42.392899999999997,44.242100000000001,44.932299999999998,96371.63,71.5]
["ArenaOfValor.Q27.jvet10.lp",5634.9031999999997,38.932099999999998,41.494900000000001,41.975499999999997,71353.75,56.38]
["ArenaOfValor.Q32.jvet10.lp",2611.4088000000002,35.954999999999998,39.551499999999997,39.881999999999998,53426.22,45.09]
["ArenaOfValor.Q37.jvet10.lp",1297.9536000000001,33.243699999999997,37.975999999999999,38.189,38300.1,35.82]
["SlideEditing.Q22.jvet10.lp",277.5976,47.367800000000003,45.720500000000001,46.002899999999997,3239.1,3.46]
["SlideEditing.Q27.jvet10.lp",206.27279999999999,43.036299999999997,41.712200000000003,42.165399999999998,2808.18,3.34]
["SlideEditing.Q32.jvet10.lp",153.59280000000001,38.404200000000003,39.437199999999997,40.079700000000003,2575.39,3.27]
["SlideEditing.Q37.jvet10.lp",111.97199999999999,33.556800000000003,38.360500000000002,38.938800000000001,2396.2199999999998,3.33]
["SlideShow.Q22.jvet10.lp",573.12260000000003,49.3932,52.967500000000001,53.994700000000002,13466.59,11.21]
["SlideShow.Q27.jvet10.lp",312.1549,45.405999999999999,49.6937,50.763399999999997,10808.56,10.4]
["SlideShow.Q32.jvet10.lp",176.71420000000001,41.670200000000001,47.020299999999999,48.841500000000003,8440.6200000000008,9.5]
["SlideShow.Q37.jvet10.lp",105.9683,37.926099999999998,45.391800000000003,46.7562,6853.3,10.15]