{"text_format":"1","workbook":"xlsx","n_sheets":8,"sheets":["Summary","Plot","AI-10","RA-10","LDB-10","LDP-10","Reference","Test"],"not_rendered":{"charts":4,"images":0,"macros":1,"external_links":0,"defined_names":1,"comments":0,"pivot_tables":0},"unopened":[],"bounds":{"document_bytes":16777216,"sheet_cells":100000,"rows_first":2000,"rows_last":500,"rows_between":2000,"halvings":0,"cell_chars":16384,"cell_head_chars":4096},"cells_cut":0,"cells_raw":0,"read":"whole","date_system":"1900"}

{"sheet":"Summary","index":0,"n_rows":48,"n_cols":10,"rows_kept":48,"cut":false,"hidden":false,"merged":[[38,2,38,6],[2,2,2,6],[14,2,14,6],[26,2,26,6],[1,2,1,6],[13,2,13,6],[25,2,25,6],[37,2,37,6]]}
[]
[null,null,"All Intra Main10 "]
[null,null,{"$f":"CONCATENATE(\"Over \", $J$3)","v":"Over xiang's"},null,null,null,null,null,"Reference:","xiang's"]
[null,null,"Y","U","V","EncT","DecT",null,"Tested:","Test"]
[null,"Class A1",{"$f":"'AI-10'!V107","v":{"$error":"#VALUE!"}},{"$f":"'AI-10'!W107","v":{"$error":"#VALUE!"}},{"$f":"'AI-10'!X107","v":{"$error":"#VALUE!"}},{"$f":"'AI-10'!S107","v":{"$error":"#NUM!"}},{"$f":"'AI-10'!T107","v":{"$error":"#NUM!"}}]
[null,"Class A2",{"$f":"'AI-10'!V108","v":{"$error":"#VALUE!"}},{"$f":"'AI-10'!W108","v":{"$error":"#VALUE!"}},{"$f":"'AI-10'!X108","v":{"$error":"#VALUE!"}},{"$f":"'AI-10'!S108","v":{"$error":"#NUM!"}},{"$f":"'AI-10'!T108","v":{"$error":"#NUM!"}}]
[null,"Class B",{"$f":"'AI-10'!V109","v":{"$error":"#VALUE!"}},{"$f":"'AI-10'!W109","v":{"$error":"#VALUE!"}},{"$f":"'AI-10'!X109","v":{"$error":"#VALUE!"}},{"$f":"'AI-10'!S109","v":{"$error":"#NUM!"}},{"$f":"'AI-10'!T109","v":{"$error":"#NUM!"}}]
[null,"Class C",{"$f":"'AI-10'!V110","v":{"$error":"#VALUE!"}},{"$f":"'AI-10'!W110","v":{"$error":"#VALUE!"}},{"$f":"'AI-10'!X110","v":{"$error":"#VALUE!"}},{"$f":"'AI-10'!S110","v":{"$error":"#NUM!"}},{"$f":"'AI-10'!T110","v":{"$error":"#NUM!"}}]
[null,"Class E",{"$f":"'AI-10'!V112","v":{"$error":"#VALUE!"}},{"$f":"'AI-10'!W112","v":{"$error":"#VALUE!"}},{"$f":"'AI-10'!X112","v":{"$error":"#VALUE!"}},{"$f":"'AI-10'!S112","v":{"$error":"#NUM!"}},{"$f":"'AI-10'!T112","v":{"$error":"#NUM!"}}]
[null,"Overall ",{"$f":"'AI-10'!V114","v":{"$error":"#VALUE!"}},{"$f":"'AI-10'!W114","v":{"$error":"#VALUE!"}},{"$f":"'AI-10'!X114","v":{"$error":"#VALUE!"}},{"$f":"'AI-10'!S114","v":{"$error":"#NUM!"}},{"$f":"'AI-10'!T114","v":{"$error":"#NUM!"}},null,"Note: BD-rate is computed using piece-wise cubic interpolation"]
[null,"Class D",{"$f":"'AI-10'!V111","v":{"$error":"#VALUE!"}},{"$f":"'AI-10'!W111","v":{"$error":"#VALUE!"}},{"$f":"'AI-10'!X111","v":{"$error":"#VALUE!"}},{"$f":"'AI-10'!S111","v":{"$error":"#NUM!"}},{"$f":"'AI-10'!T111","v":{"$error":"#NUM!"}}]
[null,"Class F",{"$f":"'AI-10'!V113","v":{"$error":"#VALUE!"}},{"$f":"'AI-10'!W113","v":{"$error":"#VALUE!"}},{"$f":"'AI-10'!X113","v":{"$error":"#VALUE!"}},{"$f":"'AI-10'!S113","v":{"$error":"#NUM!"}},{"$f":"'AI-10'!T113","v":{"$error":"#NUM!"}}]
[null,null,null,null,null,null,null,null,"Cluster information"]
[null,null,"Random Access Main 10"]
[null,null,{"$f":"CONCATENATE(\"Over \", $J$3)","v":"Over xiang's"},null,null,null,null,null,"CPU type:","(e.g. Xeon …)"]
[null,null,"Y","U","V","EncT","DecT"]
[null,{"$f":"B5","v":"Class A1"},{"$f":"'RA-10'!V107","v":-7.1469738394114302E-7},{"$f":"'RA-10'!W107","v":-5.52515715409226E-6},{"$f":"'RA-10'!X107","v":1.5390832776758974E-6},{"$f":"'RA-10'!S107","v":1.3949911879573771},{"$f":"'RA-10'!T107","v":1.2489974961563197},null,"Hyperthreading:","(on/off)"]
[null,{"$f":"B6","v":"Class A2"},{"$f":"'RA-10'!V108","v":-3.6356161725222456E-6},{"$f":"'RA-10'!W108","v":5.4111357100650181E-6},{"$f":"'RA-10'!X108","v":-9.7790603948988419E-6},{"$f":"'RA-10'!S108","v":1.3426202678270756},{"$f":"'RA-10'!T108","v":1.2931224767634584},null,"Turbo mode:","(on/off)"]
[null,{"$f":"B7","v":"Class B"},{"$f":"'RA-10'!V109","v":4.092340783534709E-6},{"$f":"'RA-10'!W109","v":-2.1528027336570333E-6},{"$f":"'RA-10'!X109","v":9.0155265355829066E-6},{"$f":"'RA-10'!S109","v":1.4461692330208846},{"$f":"'RA-10'!T109","v":1.2244171394213417}]
[null,{"$f":"B8","v":"Class C"},{"$f":"'RA-10'!V110","v":2.131067598665215E-6},{"$f":"'RA-10'!W110","v":-1.0937188291981759E-6},{"$f":"'RA-10'!X110","v":-3.4953615571930996E-6},{"$f":"'RA-10'!S110","v":1.4438275457922849},{"$f":"'RA-10'!T110","v":1.092694952425068},null,"Compiler:","(e.g. gcc 7.3.1)"]
[null,{"$f":"B9","v":"Class E"}]
[null,"Overall",{"$f":"'RA-10'!V114","v":1.0623355761962828E-6},{"$f":"'RA-10'!W114","v":-1.0320635544773064E-6},{"$f":"'RA-10'!X114","v":4.2508367316488696E-7},{"$f":"'RA-10'!S114","v":1.413997770579221},{"$f":"'RA-10'!T114","v":1.205636614879213},null,"OS:","(e.g. Scientific Linux)"]
[null,{"$f":"B11","v":"Class D"},{"$f":"'RA-10'!V111","v":5.316547241895897E-7},{"$f":"'RA-10'!W111","v":5.3928705427419565E-6},{"$f":"'RA-10'!X111","v":8.5703306018647396E-7},{"$f":"'RA-10'!S111","v":1.4263941408466061},{"$f":"'RA-10'!T111","v":1.0946805303309297}]
[null,{"$f":"B12","v":"Class F"},{"$f":"'RA-10'!V113","v":-5.2403662473277102E-7},{"$f":"'RA-10'!W113","v":5.5993734882076041E-7},{"$f":"'RA-10'!X113","v":4.1155283780902607E-7},{"$f":"'RA-10'!S113","v":1.3982784316909129},{"$f":"'RA-10'!T113","v":1.320666832547146},null,"Decoding options"]
[]
[null,null,"Low delay B Main10 ",null,null,null,null,null,"Bitstream concatenation:","(yes/no)"]
[null,null,{"$f":"CONCATENATE(\"Over \", $J$3)","v":"Over xiang's"}]
[null,null,"Y","U","V","EncT","DecT",null,"MD5 SEI:","(yes/no)"]
[null,{"$f":"B5","v":"Class A1"},null,null,null,null,null,null,"YUV output:","(yes/no)"]
[null,{"$f":"B6","v":"Class A2"}]
[null,{"$f":"B7","v":"Class B"},{"$f":"'LDB-10'!V109","v":{"$error":"#VALUE!"}},{"$f":"'LDB-10'!W109","v":{"$error":"#VALUE!"}},{"$f":"'LDB-10'!X109","v":{"$error":"#VALUE!"}},{"$f":"'LDB-10'!S109","v":{"$error":"#NUM!"}},{"$f":"'LDB-10'!T109","v":{"$error":"#NUM!"}},null,"SIMD options:","(e.g. SSE2)"]
[null,{"$f":"B8","v":"Class C"},{"$f":"'LDB-10'!V110","v":{"$error":"#VALUE!"}},{"$f":"'LDB-10'!W110","v":{"$error":"#VALUE!"}},{"$f":"'LDB-10'!X110","v":{"$error":"#VALUE!"}},{"$f":"'LDB-10'!S110","v":{"$error":"#NUM!"}},{"$f":"'LDB-10'!T110","v":{"$error":"#NUM!"}}]
[null,{"$f":"B9","v":"Class E"},{"$f":"'LDB-10'!V112","v":{"$error":"#VALUE!"}},{"$f":"'LDB-10'!W112","v":{"$error":"#VALUE!"}},{"$f":"'LDB-10'!X112","v":{"$error":"#VALUE!"}},{"$f":"'LDB-10'!S112","v":{"$error":"#NUM!"}},{"$f":"'LDB-10'!T112","v":{"$error":"#NUM!"}},null,"BMS macro (VTM decoding)","(on/off)"]
[null,"Overall",{"$f":"'LDB-10'!V114","v":{"$error":"#VALUE!"}},{"$f":"'LDB-10'!W114","v":{"$error":"#VALUE!"}},{"$f":"'LDB-10'!X114","v":{"$error":"#VALUE!"}},{"$f":"'LDB-10'!S114","v":{"$error":"#NUM!"}},{"$f":"'LDB-10'!T114","v":{"$error":"#NUM!"}}]
[null,{"$f":"B11","v":"Class D"},{"$f":"'LDB-10'!V111","v":{"$error":"#VALUE!"}},{"$f":"'LDB-10'!W111","v":{"$error":"#VALUE!"}},{"$f":"'LDB-10'!X111","v":{"$error":"#VALUE!"}},{"$f":"'LDB-10'!S111","v":{"$error":"#NUM!"}},{"$f":"'LDB-10'!T111","v":{"$error":"#NUM!"}}]
[null,{"$f":"B12","v":"Class F"},{"$f":"'LDB-10'!V113","v":{"$error":"#VALUE!"}},{"$f":"'LDB-10'!W113","v":{"$error":"#VALUE!"}},{"$f":"'LDB-10'!X113","v":{"$error":"#VALUE!"}},{"$f":"'LDB-10'!S113","v":{"$error":"#NUM!"}},{"$f":"'LDB-10'!T113","v":{"$error":"#NUM!"}}]
[]
[null,null,"Low delay P Main10 "]
[null,null,{"$f":"CONCATENATE(\"Over \", $J$3)","v":"Over xiang's"}]
[null,null,"Y","U","V","EncT","DecT"]
[null,{"$f":"B5","v":"Class A1"}]
[null,{"$f":"B6","v":"Class A2"}]
[null,{"$f":"B7","v":"Class B"},{"$f":"'LDP-10'!V109","v":{"$error":"#VALUE!"}},{"$f":"'LDP-10'!W109","v":{"$error":"#VALUE!"}},{"$f":"'LDP-10'!X109","v":{"$error":"#VALUE!"}},{"$f":"'LDP-10'!S109","v":{"$error":"#DIV/0!"}},{"$f":"'LDP-10'!T109","v":{"$error":"#DIV/0!"}}]
[null,{"$f":"B8","v":"Class C"},{"$f":"'LDP-10'!V110","v":{"$error":"#VALUE!"}},{"$f":"'LDP-10'!W110","v":{"$error":"#VALUE!"}},{"$f":"'LDP-10'!X110","v":{"$error":"#VALUE!"}},{"$f":"'LDP-10'!S110","v":{"$error":"#DIV/0!"}},{"$f":"'LDP-10'!T110","v":{"$error":"#DIV/0!"}}]
[null,{"$f":"B9","v":"Class E"},{"$f":"'LDP-10'!V112","v":{"$error":"#VALUE!"}},{"$f":"'LDP-10'!W112","v":{"$error":"#VALUE!"}},{"$f":"'LDP-10'!X112","v":{"$error":"#VALUE!"}},{"$f":"'LDP-10'!S112","v":{"$error":"#DIV/0!"}},{"$f":"'LDP-10'!T112","v":{"$error":"#DIV/0!"}}]
[null,"Overall",{"$f":"'LDP-10'!V114","v":{"$error":"#VALUE!"}},{"$f":"'LDP-10'!W114","v":{"$error":"#VALUE!"}},{"$f":"'LDP-10'!X114","v":{"$error":"#VALUE!"}},{"$f":"'LDP-10'!S114","v":{"$error":"#DIV/0!"}},{"$f":"'LDP-10'!T114","v":{"$error":"#DIV/0!"}}]
[null,{"$f":"B11","v":"Class D"},{"$f":"'LDP-10'!V111","v":{"$error":"#VALUE!"}},{"$f":"'LDP-10'!W111","v":{"$error":"#VALUE!"}},{"$f":"'LDP-10'!X111","v":{"$error":"#VALUE!"}},{"$f":"'LDP-10'!S111","v":{"$error":"#DIV/0!"}},{"$f":"'LDP-10'!T111","v":{"$error":"#DIV/0!"}}]
[null,{"$f":"B12","v":"Class F"},{"$f":"'LDP-10'!V113","v":{"$error":"#VALUE!"}},{"$f":"'LDP-10'!W113","v":{"$error":"#VALUE!"}},{"$f":"'LDP-10'!X113","v":{"$error":"#VALUE!"}},{"$f":"'LDP-10'!S113","v":{"$error":"#DIV/0!"}},{"$f":"'LDP-10'!T113","v":{"$error":"#DIV/0!"}}]

{"sheet":"Plot","index":1,"n_rows":28,"n_cols":43,"rows_kept":28,"cut":false,"hidden":false,"merged":[]}
["Select the coding condition and sequence from the dropbox below",null,null,null,null,null,null,null,null,null,null,null,null,null,null,null,null,null,null,null,null,null,null,null,null,null,null,null,null,"Line 1 - Reference",null,null,null,null,"Line 2 - Test",null,null,null,null,"Line 3 - Reference2"]
["RA-10","Tango2",null,null,null,null,null,null,null,null,null,null,null,null,null,null,null,null,null,null,null,null,null,null,null,null,null,null,null,"kbps","Y psnr","U psnr","V psnr",null,"kbps","Y psnr","U psnr","V psnr",null,"kbps","Y psnr","U psnr","V psnr"]
[null,null,null,null,null,null,null,null,null,null,null,null,null,null,null,null,null,null,null,null,null,null,null,null,null,"AI-10","Tango2",3,{"$f":"VLOOKUP(B2,AA3:AB43,2,FALSE)","v":3},{"$f":"INDIRECT(\"'\"&$A$2&\"'!\"&ADDRESS($AC3,4))","v":27814.502899999999},{"$f":"INDIRECT(\"'\"&$A$2&\"'!\"&ADDRESS($AC3,5))","v":40.3416},{"$f":"INDIRECT(\"'\"&$A$2&\"'!\"&ADDRESS($AC3,6))","v":49.154800000000002},{"$f":"INDIRECT(\"'\"&$A$2&\"'!\"&ADDRESS($AC3,7))","v":47.471899999999998},null,{"$f":"INDIRECT(\"'\"&$A$2&\"'!\"&ADDRESS($AC3,12))","v":27814.502857142899},{"$f":"INDIRECT(\"'\"&$A$2&\"'!\"&ADDRESS($AC3,13))","v":40.341635714285701},{"$f":"INDIRECT(\"'\"&$A$2&\"'!\"&ADDRESS($AC3,14))","v":49.154808163265301},{"$f":"INDIRECT(\"'\"&$A$2&\"'!\"&ADDRESS($AC3,15))","v":47.471886734693904},null,{"$f":"INDIRECT(\"'\"&$A$2&\"'!\"&ADDRESS($AC3,29))","v":0},{"$f":"INDIRECT(\"'\"&$A$2&\"'!\"&ADDRESS($AC3,30))","v":0},{"$f":"INDIRECT(\"'\"&$A$2&\"'!\"&ADDRESS($AC3,31))","v":0},{"$f":"INDIRECT(\"'\"&$A$2&\"'!\"&ADDRESS($AC3,32))","v":0}]
[null,null,null,null,null,null,null,null,null,null,null,null,null,null,null,null,null,null,null,null,null,null,null,null,null,"RA-10","FoodMarket4",{"$f":"AB3+4","v":7},{"$f":"AC3+1","v":4},{"$f":"INDIRECT(\"'\"&$A$2&\"'!\"&ADDRESS($AC4,4))","v":7405.7518},{"$f":"INDIRECT(\"'\"&$A$2&\"'!\"&ADDRESS($AC4,5))","v":39.603400000000001},{"$f":"INDIRECT(\"'\"&$A$2&\"'!\"&ADDRESS($AC4,6))","v":48.387700000000002},{"$f":"INDIRECT(\"'\"&$A$2&\"'!\"&ADDRESS($AC4,7))","v":46.276499999999999},null,{"$f":"INDIRECT(\"'\"&$A$2&\"'!\"&ADDRESS($AC4,12))","v":7405.7518367346902},{"$f":"INDIRECT(\"'\"&$A$2&\"'!\"&ADDRESS($AC4,13))","v":39.603391496598597},{"$f":"INDIRECT(\"'\"&$A$2&\"'!\"&ADDRESS($AC4,14))","v":48.387687074829898},{"$f":"INDIRECT(\"'\"&$A$2&\"'!\"&ADDRESS($AC4,15))","v":46.276438775510201},null,{"$f":"INDIRECT(\"'\"&$A$2&\"'!\"&ADDRESS($AC4,29))","v":0},{"$f":"INDIRECT(\"'\"&$A$2&\"'!\"&ADDRESS($AC4,30))","v":0},{"$f":"INDIRECT(\"'\"&$A$2&\"'!\"&ADDRESS($AC4,31))","v":0},{"$f":"INDIRECT(\"'\"&$A$2&\"'!\"&ADDRESS($AC4,32))","v":0}]
[null,null,null,null,null,null,null,null,null,null,null,null,null,null,null,null,null,null,null,null,null,null,null,null,null,"LDB-10","Campfire",{"$f":"AB4+4","v":11},{"$f":"AC4+1","v":5},{"$f":"INDIRECT(\"'\"&$A$2&\"'!\"&ADDRESS($AC5,4))","v":3683.9070000000002},{"$f":"INDIRECT(\"'\"&$A$2&\"'!\"&ADDRESS($AC5,5))","v":38.6873},{"$f":"INDIRECT(\"'\"&$A$2&\"'!\"&ADDRESS($AC5,6))","v":47.596899999999998},{"$f":"INDIRECT(\"'\"&$A$2&\"'!\"&ADDRESS($AC5,7))","v":45.098700000000001},null,{"$f":"INDIRECT(\"'\"&$A$2&\"'!\"&ADDRESS($AC5,12))","v":3683.9069387755098},{"$f":"INDIRECT(\"'\"&$A$2&\"'!\"&ADDRESS($AC5,13))","v":38.687281632653097},{"$f":"INDIRECT(\"'\"&$A$2&\"'!\"&ADDRESS($AC5,14))","v":47.596891496598602},{"$f":"INDIRECT(\"'\"&$A$2&\"'!\"&ADDRESS($AC5,15))","v":45.098730272108803},null,{"$f":"INDIRECT(\"'\"&$A$2&\"'!\"&ADDRESS($AC5,29))","v":0},{"$f":"INDIRECT(\"'\"&$A$2&\"'!\"&ADDRESS($AC5,30))","v":0},{"$f":"INDIRECT(\"'\"&$A$2&\"'!\"&ADDRESS($AC5,31))","v":0},{"$f":"INDIRECT(\"'\"&$A$2&\"'!\"&ADDRESS($AC5,32))","v":0}]
[null,null,null,null,null,null,null,null,null,null,null,null,null,null,null,null,null,null,null,null,null,null,null,null,null,"LDP-10","CatRobot1",15,{"$f":"AC5+1","v":6},{"$f":"INDIRECT(\"'\"&$A$2&\"'!\"&ADDRESS($AC6,4))","v":2033.2783999999999},{"$f":"INDIRECT(\"'\"&$A$2&\"'!\"&ADDRESS($AC6,5))","v":37.288400000000003},{"$f":"INDIRECT(\"'\"&$A$2&\"'!\"&ADDRESS($AC6,6))","v":46.685499999999998},{"$f":"INDIRECT(\"'\"&$A$2&\"'!\"&ADDRESS($AC6,7))","v":43.8142},null,{"$f":"INDIRECT(\"'\"&$A$2&\"'!\"&ADDRESS($AC6,12))","v":2033.2783673469401},{"$f":"INDIRECT(\"'\"&$A$2&\"'!\"&ADDRESS($AC6,13))","v":37.288392176870801},{"$f":"INDIRECT(\"'\"&$A$2&\"'!\"&ADDRESS($AC6,14))","v":46.685512585033997},{"$f":"INDIRECT(\"'\"&$A$2&\"'!\"&ADDRESS($AC6,15))","v":43.814258503401398},null,{"$f":"INDIRECT(\"'\"&$A$2&\"'!\"&ADDRESS($AC6,29))","v":0},{"$f":"INDIRECT(\"'\"&$A$2&\"'!\"&ADDRESS($AC6,30))","v":0},{"$f":"INDIRECT(\"'\"&$A$2&\"'!\"&ADDRESS($AC6,31))","v":0},{"$f":"INDIRECT(\"'\"&$A$2&\"'!\"&ADDRESS($AC6,32))","v":0}]
[null,null,null,null,null,null,null,null,null,null,null,null,null,null,null,null,null,null,null,null,null,null,null,null,null,null,"DaylightRoad2",19]
[null,null,null,null,null,null,null,null,null,null,null,null,null,null,null,null,null,null,null,null,null,null,null,null,null,null,"ParkRunning3",23,null,{"$f":"\"Sequence: \"&B2 & \"     Coding Conditions: \" & A2","v":"Sequence: Tango2     Coding Conditions: RA-10"}]
[null,null,null,null,null,null,null,null,null,null,null,null,null,null,null,null,null,null,null,null,null,null,null,null,null,null,"MarketPlace",27]
[null,null,null,null,null,null,null,null,null,null,null,null,null,null,null,null,null,null,null,null,null,null,null,null,null,null,"RitualDance",31]
[null,null,null,null,null,null,null,null,null,null,null,null,null,null,null,null,null,null,null,null,null,null,null,null,null,null,"Cactus",35,null,"rate","y","u","v"]
[null,null,null,null,null,null,null,null,null,null,null,null,null,null,null,null,null,null,null,null,null,null,null,null,null,null,"BasketballDrive",39,null,{"$f":"MAX(AD3:AD6,AI3:AI6, AN3:AN6)","v":27814.502899999999},{"$f":"MAX(AE3:AE6,AJ3:AJ6, AO3:AO6)","v":40.341635714285701},{"$f":"MAX(AF3:AF6,AK3:AK6, AP3:AP6)","v":49.154808163265301},{"$f":"MAX(AG3:AG6,AL3:AL6, AQ3:AQ6)","v":47.471899999999998}]
[null,null,null,null,null,null,null,null,null,null,null,null,null,null,null,null,null,null,null,null,null,null,null,null,null,null,"BQTerrace",43,null,{"$f":"MIN(AD3:AD6,AI3:AI6,AN3:AN6)","v":0},{"$f":"MIN(AE3:AE6,AJ3:AJ6,AO3:AO6)","v":0},{"$f":"MIN(AF3:AF6,AK3:AK6,AP3:AP6)","v":0},{"$f":"MIN(AG3:AG6,AL3:AL6,AQ3:AQ6)","v":0}]
[null,null,null,null,null,null,null,null,null,null,null,null,null,null,null,null,null,null,null,null,null,null,null,null,null,null,"BasketballDrill",47]
[null,null,null,null,null,null,null,null,null,null,null,null,null,null,null,null,null,null,null,null,null,null,null,null,null,null,"BQMall",51,null,{"$f":"POWER(10,CEILING(LOG(AD12+1),1))","v":100000},{"$f":"CEILING(AE12+0.25,0.5)","v":41},{"$f":"CEILING(AF12+0.25,0.5)","v":49.5},{"$f":"CEILING(AG12+0.25,0.5)","v":48}]
[null,null,null,null,null,null,null,null,null,null,null,null,null,null,null,null,null,null,null,null,null,null,null,null,null,null,"PartySceneC",55,null,{"$f":"POWER(10,FLOOR(LOG(AD13+10),1))","v":10},{"$f":"FLOOR(AE13-0.25,0.5)","v":-0.5},{"$f":"FLOOR(AF13-0.25,0.5)","v":-0.5},{"$f":"FLOOR(AG13-0.25,0.5)","v":-0.5}]
[null,null,null,null,null,null,null,null,null,null,null,null,null,null,null,null,null,null,null,null,null,null,null,null,null,null,"RaceHorsesC",59]
[null,null,null,null,null,null,null,null,null,null,null,null,null,null,null,null,null,null,null,null,null,null,null,null,null,null,"BasketballPass",63]
[null,null,null,null,null,null,null,null,null,null,null,null,null,null,null,null,null,null,null,null,null,null,null,null,null,null,"BQSquare",67]
[null,null,null,null,null,null,null,null,null,null,null,null,null,null,null,null,null,null,null,null,null,null,null,null,null,null,"BlowingBubbles",71]
[null,null,null,null,null,null,null,null,null,null,null,null,null,null,null,null,null,null,null,null,null,null,null,null,null,null,"RaceHorses",75]
[null,null,null,null,null,null,null,null,null,null,null,null,null,null,null,null,null,null,null,null,null,null,null,null,null,null,"FourPeople",79]
[null,null,null,null,null,null,null,null,null,null,null,null,null,null,null,null,null,null,null,null,null,null,null,null,null,null,"Johnny",83]
[null,null,null,null,null,null,null,null,null,null,null,null,null,null,null,null,null,null,null,null,null,null,null,null,null,null,"KristenAndSara",87]
[null,null,null,null,null,null,null,null,null,null,null,null,null,null,null,null,null,null,null,null,null,null,null,null,null,null,"BasketballDrillText",91]
[null,null,null,null,null,null,null,null,null,null,null,null,null,null,null,null,null,null,null,null,null,null,null,null,null,null,"ChinaSpeed",95]
[null,null,null,null,null,null,null,null,null,null,null,null,null,null,null,null,null,null,null,null,null,null,null,null,null,null,"SlideEditing",99]
[null,null,null,null,null,null,null,null,null,null,null,null,null,null,null,null,null,null,null,null,null,null,null,null,null,null,"SlideShow",103]

{"sheet":"AI-10","index":2,"n_rows":117,"n_cols":27,"rows_kept":117,"cut":false,"hidden":false,"merged":[[0,3,0,9],[0,11,0,17],[0,21,0,23],[0,24,0,26]]}
[null,null,null,"Reference",null,null,null,null,null,null,null,"Tested",null,null,null,null,null,null,null,null,null,"BD-rate (piecewise cubic)",null,null,"BD-rate (cubic)"]
[null,null,"QPISlice","kbps","Y psnr","U psnr","V psnr","Enc T [s]","Dec T [s]","Enc T [h]",null,"kbps","Y psnr","U psnr","V psnr","Enc T [s]","Dec T [s]","Enc T [h]","EncR","DecR",null,"Y","U","V","Y","U","V"]
["Class A1","Tango2",22,18820.906999999999,41.767899999999997,49.551400000000001,48.402799999999999,70922.744999999995,39.109000000000002,{"$f":"H3/3600","v":19.7007625},null,{"$f":"Test!B1","v":0},{"$f":"Test!C1","v":0},{"$f":"Test!D1","v":0},{"$f":"Test!E1","v":0},{"$f":"Test!F1","v":0},{"$f":"Test!G1","v":0},{"$f":"P3/3600","v":0},{"$f":"P3/H3","v":0},{"$f":"Q3/I3","v":0},null,{"$f":"bdrate($D3:$D6,E3:E6,$L3:$L6,M3:M6)","v":{"$error":"#VALUE!"}},{"$f":"bdrate($D3:$D6,F3:F6,$L3:$L6,N3:N6)","v":{"$error":"#VALUE!"}},{"$f":"bdrate($D3:$D6,G3:G6,$L3:$L6,O3:O6)","v":{"$error":"#VALUE!"}},{"$f":"bdrateOld($D3:$D6,E3:E6,$L3:$L6,M3:M6)","v":{"$error":"#VALUE!"}},{"$f":"bdrateOld($D3:$D6,F3:F6,$L3:$L6,N3:N6)","v":{"$error":"#VALUE!"}},{"$f":"bdrateOld($D3:$D6,G3:G6,$L3:$L6,O3:O6)","v":{"$error":"#VALUE!"}}]
["4K",null,27,5684.1810999999998,40.239699999999999,48.576500000000003,46.780299999999997,27591.100999999999,30.713000000000001,{"$f":"H4/3600","v":7.6641947222222218},null,{"$f":"Test!B2","v":0},{"$f":"Test!C2","v":0},{"$f":"Test!D2","v":0},{"$f":"Test!E2","v":0},{"$f":"Test!F2","v":0},{"$f":"Test!G2","v":0},{"$f":"P4/3600","v":0},{"$f":"P4/H4","v":0},0]
[null,null,32,3168.4557,39.421100000000003,47.604500000000002,45.381999999999998,9942.0869999999995,27.713999999999999,2.7616908333333332,null,{"$f":"Test!B3","v":0},{"$f":"Test!C3","v":0},{"$f":"Test!D3","v":0},{"$f":"Test!E3","v":0},{"$f":"Test!F3","v":0},{"$f":"Test!G3","v":0},0,0,0]
[null,null,37,1895.8362,38.246499999999997,46.6496,44.072000000000003,4351.0889999999999,24.420999999999999,1.2086358333333334,null,{"$f":"Test!B4","v":0},{"$f":"Test!C4","v":0},{"$f":"Test!D4","v":0},{"$f":"Test!E4","v":0},{"$f":"Test!F4","v":0},{"$f":"Test!G4","v":0},0,0,0]
[null,"FoodMarket4",22,15410.2058,45.177999999999997,49.741700000000002,50.540199999999999,47234.677000000003,37.216999999999999,13.120743611111113,null,{"$f":"Test!B5","v":0},{"$f":"Test!C5","v":0},{"$f":"Test!D5","v":0},{"$f":"Test!E5","v":0},{"$f":"Test!F5","v":0},{"$f":"Test!G5","v":0},0,0,0,null,{"$f":"bdrate($D7:$D10,E7:E10,$L7:$L10,M7:M10)","v":{"$error":"#VALUE!"}},{"$f":"bdrate($D7:$D10,F7:F10,$L7:$L10,N7:N10)","v":{"$error":"#VALUE!"}},{"$f":"bdrate($D7:$D10,G7:G10,$L7:$L10,O7:O10)","v":{"$error":"#VALUE!"}},{"$f":"bdrateOld($D7:$D10,E7:E10,$L7:$L10,M7:M10)","v":{"$error":"#VALUE!"}},{"$f":"bdrateOld($D7:$D10,F7:F10,$L7:$L10,N7:N10)","v":{"$error":"#VALUE!"}},{"$f":"bdrateOld($D7:$D10,G7:G10,$L7:$L10,O7:O10)","v":{"$error":"#VALUE!"}}]
[null,null,27,8790.0205000000005,43.707299999999996,47.6004,48.275199999999998,25285.787,33.313000000000002,7.0238297222222226,null,{"$f":"Test!B6","v":0},{"$f":"Test!C6","v":0},{"$f":"Test!D6","v":0},{"$f":"Test!E6","v":0},{"$f":"Test!F6","v":0},{"$f":"Test!G6","v":0},0,0,0]
[null,null,32,5270.7947000000004,41.933700000000002,45.8508,46.369599999999998,16230.874,30.251000000000001,4.5085761111111111,null,{"$f":"Test!B7","v":0},{"$f":"Test!C7","v":0},{"$f":"Test!D7","v":0},{"$f":"Test!E7","v":0},{"$f":"Test!F7","v":0},{"$f":"Test!G7","v":0},0,0,0]
[null,null,37,3145.8568,39.718000000000004,44.501800000000003,44.851799999999997,8171.0550000000003,27.475999999999999,2.2697375000000002,null,{"$f":"Test!B8","v":0},{"$f":"Test!C8","v":0},{"$f":"Test!D8","v":0},{"$f":"Test!E8","v":0},{"$f":"Test!F8","v":0},{"$f":"Test!G8","v":0},0,0,0]
[null,"Campfire",22,21210.6047,43.253799999999998,46.0349,43.836500000000001,72762.648000000001,47.792999999999999,20.211846666666666,null,{"$f":"Test!B9","v":0},{"$f":"Test!C9","v":0},{"$f":"Test!D9","v":0},{"$f":"Test!E9","v":0},{"$f":"Test!F9","v":0},{"$f":"Test!G9","v":0},0,0,0,null,{"$f":"bdrate($D11:$D14,E11:E14,$L11:$L14,M11:M14)","v":{"$error":"#VALUE!"}},{"$f":"bdrate($D11:$D14,F11:F14,$L11:$L14,N11:N14)","v":{"$error":"#VALUE!"}},{"$f":"bdrate($D11:$D14,G11:G14,$L11:$L14,O11:O14)","v":{"$error":"#VALUE!"}},{"$f":"bdrateOld($D11:$D14,E11:E14,$L11:$L14,M11:M14)","v":{"$error":"#VALUE!"}},{"$f":"bdrateOld($D11:$D14,F11:F14,$L11:$L14,N11:N14)","v":{"$error":"#VALUE!"}},{"$f":"bdrateOld($D11:$D14,G11:G14,$L11:$L14,O11:O14)","v":{"$error":"#VALUE!"}}]
[null,null,27,8885.9470999999994,39.645499999999998,42.137700000000002,41.780200000000001,46662.247000000003,36.899000000000001,12.961735277777779,null,{"$f":"Test!B10","v":0},{"$f":"Test!C10","v":0},{"$f":"Test!D10","v":0},{"$f":"Test!E10","v":0},{"$f":"Test!F10","v":0},{"$f":"Test!G10","v":0},0,0,0]
[null,null,32,3235.5378999999998,37.320500000000003,39.488300000000002,40.400599999999997,24117.797999999999,29.829000000000001,6.6993883333333333,null,{"$f":"Test!B11","v":0},{"$f":"Test!C11","v":0},{"$f":"Test!D11","v":0},{"$f":"Test!E11","v":0},{"$f":"Test!F11","v":0},{"$f":"Test!G11","v":0},0,0,0]
[null,null,37,1756.7763,35.955300000000001,37.549999999999997,39.235599999999998,10814.691000000001,25.597000000000001,3.0040808333333335,null,{"$f":"Test!B12","v":0},{"$f":"Test!C12","v":0},{"$f":"Test!D12","v":0},{"$f":"Test!E12","v":0},{"$f":"Test!F12","v":0},{"$f":"Test!G12","v":0},0,0,0]
["Class A2","CatRobot1",22,33977.602099999996,42.448399999999999,42.537100000000002,44.153399999999998,80769.131999999998,48.44,{"$f":"H15/3600","v":22.435869999999998},null,{"$f":"Test!B13","v":0},{"$f":"Test!C13","v":0},{"$f":"Test!D13","v":0},{"$f":"Test!E13","v":0},{"$f":"Test!F13","v":0},{"$f":"Test!G13","v":0},{"$f":"P15/3600","v":0},{"$f":"P15/H15","v":0},{"$f":"Q15/I15","v":0},null,{"$f":"bdrate($D15:$D18,E15:E18,$L15:$L18,M15:M18)","v":{"$error":"#VALUE!"}},{"$f":"bdrate($D15:$D18,F15:F18,$L15:$L18,N15:N18)","v":{"$error":"#VALUE!"}},{"$f":"bdrate($D15:$D18,G15:G18,$L15:$L18,O15:O18)","v":{"$error":"#VALUE!"}},{"$f":"bdrateOld($D15:$D18,E15:E18,$L15:$L18,M15:M18)","v":{"$error":"#VALUE!"}},{"$f":"bdrateOld($D15:$D18,F15:F18,$L15:$L18,N15:N18)","v":{"$error":"#VALUE!"}},{"$f":"bdrateOld($D15:$D18,G15:G18,$L15:$L18,O15:O18)","v":{"$error":"#VALUE!"}}]
["4K",null,27,11469.326800000001,39.904600000000002,41.435899999999997,42.532699999999998,42338.96,36.880000000000003,{"$f":"H16/3600","v":11.760822222222222},null,{"$f":"Test!B14","v":0},{"$f":"Test!C14","v":0},{"$f":"Test!D14","v":0},{"$f":"Test!E14","v":0},{"$f":"Test!F14","v":0},{"$f":"Test!G14","v":0},{"$f":"P16/3600","v":0},{"$f":"P16/H16","v":0},{"$f":"Q16/I16","v":0}]
[null,null,32,6631.2837,38.549799999999998,40.685699999999997,41.155099999999997,20768.62,32.167999999999999,5.7690611111111112,null,{"$f":"Test!B15","v":0},{"$f":"Test!C15","v":0},{"$f":"Test!D15","v":0},{"$f":"Test!E15","v":0},{"$f":"Test!F15","v":0},{"$f":"Test!G15","v":0},0,0,0]
[null,null,37,3967.2062999999998,36.694899999999997,39.973599999999998,39.930300000000003,10877.791999999999,28.452000000000002,3.0216088888888888,null,{"$f":"Test!B16","v":0},{"$f":"Test!C16","v":0},{"$f":"Test!D16","v":0},{"$f":"Test!E16","v":0},{"$f":"Test!F16","v":0},{"$f":"Test!G16","v":0},0,0,0]
[null,"DaylightRoad2",22,55938.639499999997,41.422199999999997,46.081899999999997,44.077399999999997,114648.306,56.957000000000001,31.846751666666666,null,{"$f":"Test!B17","v":0},{"$f":"Test!C17","v":0},{"$f":"Test!D17","v":0},{"$f":"Test!E17","v":0},{"$f":"Test!F17","v":0},{"$f":"Test!G17","v":0},0,0,0,null,{"$f":"bdrate($D19:$D22,E19:E22,$L19:$L22,M19:M22)","v":{"$error":"#VALUE!"}},{"$f":"bdrate($D19:$D22,F19:F22,$L19:$L22,N19:N22)","v":{"$error":"#VALUE!"}},{"$f":"bdrate($D19:$D22,G19:G22,$L19:$L22,O19:O22)","v":{"$error":"#VALUE!"}},{"$f":"bdrateOld($D19:$D22,E19:E22,$L19:$L22,M19:M22)","v":{"$error":"#VALUE!"}},{"$f":"bdrateOld($D19:$D22,F19:F22,$L19:$L22,N19:N22)","v":{"$error":"#VALUE!"}},{"$f":"bdrateOld($D19:$D22,G19:G22,$L19:$L22,O19:O22)","v":{"$error":"#VALUE!"}}]
[null,null,27,11793.236800000001,37.7776,44.8414,42.456200000000003,56816.819000000003,36.674999999999997,15.782449722222223,null,{"$f":"Test!B18","v":0},{"$f":"Test!C18","v":0},{"$f":"Test!D18","v":0},{"$f":"Test!E18","v":0},{"$f":"Test!F18","v":0},{"$f":"Test!G18","v":0},0,0,0]
[null,null,32,6331.4132,36.752800000000001,43.771599999999999,41.151000000000003,24576.944,31.472000000000001,6.8269288888888884,null,{"$f":"Test!B19","v":0},{"$f":"Test!C19","v":0},{"$f":"Test!D19","v":0},{"$f":"Test!E19","v":0},{"$f":"Test!F19","v":0},{"$f":"Test!G19","v":0},0,0,0]
[null,null,37,3530.8168000000001,35.314599999999999,42.881,40.169499999999999,12349.772000000001,27.552,3.4304922222222225,null,{"$f":"Test!B20","v":0},{"$f":"Test!C20","v":0},{"$f":"Test!D20","v":0},{"$f":"Test!E20","v":0},{"$f":"Test!F20","v":0},{"$f":"Test!G20","v":0},0,0,0]
[null,"ParkRunning3",22,49757.269699999997,46.433300000000003,40.732799999999997,41.163800000000002,73067.728000000003,55.561999999999998,20.296591111111113,null,{"$f":"Test!B21","v":0},{"$f":"Test!C21","v":0},{"$f":"Test!D21","v":0},{"$f":"Test!E21","v":0},{"$f":"Test!F21","v":0},{"$f":"Test!G21","v":0},0,0,0,null,{"$f":"bdrate($D23:$D26,E23:E26,$L23:$L26,M23:M26)","v":{"$error":"#VALUE!"}},{"$f":"bdrate($D23:$D26,F23:F26,$L23:$L26,N23:N26)","v":{"$error":"#VALUE!"}},{"$f":"bdrate($D23:$D26,G23:G26,$L23:$L26,O23:O26)","v":{"$error":"#VALUE!"}},{"$f":"bdrateOld($D23:$D26,E23:E26,$L23:$L26,M23:M26)","v":{"$error":"#VALUE!"}},{"$f":"bdrateOld($D23:$D26,F23:F26,$L23:$L26,N23:N26)","v":{"$error":"#VALUE!"}},{"$f":"bdrateOld($D23:$D26,G23:G26,$L23:$L26,O23:O26)","v":{"$error":"#VALUE!"}}]
[null,null,27,28126.0553,42.551400000000001,36.995100000000001,37.860500000000002,49617.347999999998,48.070999999999998,13.782596666666667,null,{"$f":"Test!B22","v":0},{"$f":"Test!C22","v":0},{"$f":"Test!D22","v":0},{"$f":"Test!E22","v":0},{"$f":"Test!F22","v":0},{"$f":"Test!G22","v":0},0,0,0]
[null,null,32,15617.619699999999,38.849899999999998,34.454700000000003,35.584899999999998,34406.330999999998,41.95,9.5573141666666661,null,{"$f":"Test!B23","v":0},{"$f":"Test!C23","v":0},{"$f":"Test!D23","v":0},{"$f":"Test!E23","v":0},{"$f":"Test!F23","v":0},{"$f":"Test!G23","v":0},0,0,0]
[null,null,37,8508.1026000000002,35.4208,32.726900000000001,34.044600000000003,21104.243999999999,36.03,5.8622899999999998,null,{"$f":"Test!B24","v":0},{"$f":"Test!C24","v":0},{"$f":"Test!D24","v":0},{"$f":"Test!E24","v":0},{"$f":"Test!F24","v":0},{"$f":"Test!G24","v":0},0,0,0]
["Class B","MarketPlace",22,10327.8472,42.893799999999999,45.161000000000001,45.825600000000001,45115.26,22.905000000000001,{"$f":"H27/3600","v":12.532016666666667},null,{"$f":"Test!B25","v":0},{"$f":"Test!C25","v":0},{"$f":"Test!D25","v":0},{"$f":"Test!E25","v":0},{"$f":"Test!F25","v":0},{"$f":"Test!G25","v":0},{"$f":"P27/3600","v":0},{"$f":"P27/H27","v":0},{"$f":"Q27/I27","v":0},null,{"$f":"bdrate($D27:$D30,E27:E30,$L27:$L30,M27:M30)","v":{"$error":"#VALUE!"}},{"$f":"bdrate($D27:$D30,F27:F30,$L27:$L30,N27:N30)","v":{"$error":"#VALUE!"}},{"$f":"bdrate($D27:$D30,G27:G30,$L27:$L30,O27:O30)","v":{"$error":"#VALUE!"}},{"$f":"bdrateOld($D27:$D30,E27:E30,$L27:$L30,M27:M30)","v":{"$error":"#VALUE!"}},{"$f":"bdrateOld($D27:$D30,F27:F30,$L27:$L30,N27:N30)","v":{"$error":"#VALUE!"}},{"$f":"bdrateOld($D27:$D30,G27:G30,$L27:$L30,O27:O30)","v":{"$error":"#VALUE!"}}]
["1080p",null,27,5558.3008,40.231200000000001,43.029800000000002,44.079900000000002,28096.656999999999,19.167000000000002,{"$f":"H28/3600","v":7.8046269444444443},null,{"$f":"Test!B26","v":0},{"$f":"Test!C26","v":0},{"$f":"Test!D26","v":0},{"$f":"Test!E26","v":0},{"$f":"Test!F26","v":0},{"$f":"Test!G26","v":0},{"$f":"P28/3600","v":0},{"$f":"P28/H28","v":0},{"$f":"Q28/I28","v":0}]
[null,null,32,3107.5176000000001,37.746000000000002,41.533799999999999,42.665900000000001,19942.901999999998,16.736999999999998,5.5396949999999991,null,{"$f":"Test!B27","v":0},{"$f":"Test!C27","v":0},{"$f":"Test!D27","v":0},{"$f":"Test!E27","v":0},{"$f":"Test!F27","v":0},{"$f":"Test!G27","v":0},0,0,0]
[null,null,37,1655.3312000000001,35.146900000000002,40.463200000000001,41.5169,11320.562,14.576000000000001,3.1446005555555554,null,{"$f":"Test!B28","v":0},{"$f":"Test!C28","v":0},{"$f":"Test!D28","v":0},{"$f":"Test!E28","v":0},{"$f":"Test!F28","v":0},{"$f":"Test!G28","v":0},0,0,0]
[null,"RitualDance",22,6012.2879999999996,46.0169,48.192300000000003,49.559600000000003,29896.974999999999,20.350000000000001,8.3047152777777775,null,{"$f":"Test!B29","v":0},{"$f":"Test!C29","v":0},{"$f":"Test!D29","v":0},{"$f":"Test!E29","v":0},{"$f":"Test!F29","v":0},{"$f":"Test!G29","v":0},0,0,0,null,{"$f":"bdrate($D31:$D34,E31:E34,$L31:$L34,M31:M34)","v":{"$error":"#VALUE!"}},{"$f":"bdrate($D31:$D34,F31:F34,$L31:$L34,N31:N34)","v":{"$error":"#VALUE!"}},{"$f":"bdrate($D31:$D34,G31:G34,$L31:$L34,O31:O34)","v":{"$error":"#VALUE!"}},{"$f":"bdrateOld($D31:$D34,E31:E34,$L31:$L34,M31:M34)","v":{"$error":"#VALUE!"}},{"$f":"bdrateOld($D31:$D34,F31:F34,$L31:$L34,N31:N34)","v":{"$error":"#VALUE!"}},{"$f":"bdrateOld($D31:$D34,G31:G34,$L31:$L34,O31:O34)","v":{"$error":"#VALUE!"}}]
[null,null,27,3485.4735999999998,43.117699999999999,45.7746,46.994100000000003,21541.096000000001,17.52,5.9836377777777781,null,{"$f":"Test!B30","v":0},{"$f":"Test!C30","v":0},{"$f":"Test!D30","v":0},{"$f":"Test!E30","v":0},{"$f":"Test!F30","v":0},{"$f":"Test!G30","v":0},0,0,0]
[null,null,32,1962.9007999999999,40.116599999999998,43.9711,45.008200000000002,15436.412,15.208,4.2878922222222222,null,{"$f":"Test!B31","v":0},{"$f":"Test!C31","v":0},{"$f":"Test!D31","v":0},{"$f":"Test!E31","v":0},{"$f":"Test!F31","v":0},{"$f":"Test!G31","v":0},0,0,0]
[null,null,37,1072.9792,37.134700000000002,42.716000000000001,43.451999999999998,8129.116,13.303000000000001,2.2580877777777779,null,{"$f":"Test!B32","v":0},{"$f":"Test!C32","v":0},{"$f":"Test!D32","v":0},{"$f":"Test!E32","v":0},{"$f":"Test!F32","v":0},{"$f":"Test!G32","v":0},0,0,0]
[null,"Cactus",22,12570.1659,41.139099999999999,41.716900000000003,44.341900000000003,52976.408000000003,24.34,14.71566888888889,null,{"$f":"Test!B33","v":0},{"$f":"Test!C33","v":0},{"$f":"Test!D33","v":0},{"$f":"Test!E33","v":0},{"$f":"Test!F33","v":0},{"$f":"Test!G33","v":0},0,0,0,null,{"$f":"bdrate($D35:$D38,E35:E38,$L35:$L38,M35:M38)","v":{"$error":"#VALUE!"}},{"$f":"bdrate($D35:$D38,F35:F38,$L35:$L38,N35:N38)","v":{"$error":"#VALUE!"}},{"$f":"bdrate($D35:$D38,G35:G38,$L35:$L38,O35:O38)","v":{"$error":"#VALUE!"}},{"$f":"bdrateOld($D35:$D38,E35:E38,$L35:$L38,M35:M38)","v":{"$error":"#VALUE!"}},{"$f":"bdrateOld($D35:$D38,F35:F38,$L35:$L38,N35:N38)","v":{"$error":"#VALUE!"}},{"$f":"bdrateOld($D35:$D38,G35:G38,$L35:$L38,O35:O38)","v":{"$error":"#VALUE!"}}]
[null,null,27,5445.6364999999996,38.243400000000001,39.586500000000001,42.367699999999999,34387.533000000003,18.103000000000002,9.5520925000000005,null,{"$f":"Test!B34","v":0},{"$f":"Test!C34","v":0},{"$f":"Test!D34","v":0},{"$f":"Test!E34","v":0},{"$f":"Test!F34","v":0},{"$f":"Test!G34","v":0},0,0,0]
[null,null,32,2937.6754000000001,36.103000000000002,38.656399999999998,40.792299999999997,22722.449000000001,15.26,6.3117913888888895,null,{"$f":"Test!B35","v":0},{"$f":"Test!C35","v":0},{"$f":"Test!D35","v":0},{"$f":"Test!E35","v":0},{"$f":"Test!F35","v":0},{"$f":"Test!G35","v":0},0,0,0]
[null,null,37,1584.2333000000001,33.737200000000001,37.884399999999999,39.592500000000001,14373.057000000001,13.01,3.9925158333333335,null,{"$f":"Test!B36","v":0},{"$f":"Test!C36","v":0},{"$f":"Test!D36","v":0},{"$f":"Test!E36","v":0},{"$f":"Test!F36","v":0},{"$f":"Test!G36","v":0},0,0,0]
[null,"BasketballDrive",22,7973.1341000000002,41.4574,44.662599999999998,46.557899999999997,44042.514999999999,20.309999999999999,12.234031944444444,null,{"$f":"Test!B37","v":0},{"$f":"Test!C37","v":0},{"$f":"Test!D37","v":0},{"$f":"Test!E37","v":0},{"$f":"Test!F37","v":0},{"$f":"Test!G37","v":0},0,0,0,null,{"$f":"bdrate($D39:$D42,E39:E42,$L39:$L42,M39:M42)","v":{"$error":"#VALUE!"}},{"$f":"bdrate($D39:$D42,F39:F42,$L39:$L42,N39:N42)","v":{"$error":"#VALUE!"}},{"$f":"bdrate($D39:$D42,G39:G42,$L39:$L42,O39:O42)","v":{"$error":"#VALUE!"}},{"$f":"bdrateOld($D39:$D42,E39:E42,$L39:$L42,M39:M42)","v":{"$error":"#VALUE!"}},{"$f":"bdrateOld($D39:$D42,F39:F42,$L39:$L42,N39:N42)","v":{"$error":"#VALUE!"}},{"$f":"bdrateOld($D39:$D42,G39:G42,$L39:$L42,O39:O42)","v":{"$error":"#VALUE!"}}]
[null,null,27,3222.9245999999998,39.015999999999998,43.348300000000002,44.523600000000002,28712.484,15.853999999999999,7.9756900000000002,null,{"$f":"Test!B38","v":0},{"$f":"Test!C38","v":0},{"$f":"Test!D38","v":0},{"$f":"Test!E38","v":0},{"$f":"Test!F38","v":0},{"$f":"Test!G38","v":0},0,0,0]
[null,null,32,1645.1126999999999,37.327199999999998,42.161799999999999,42.762099999999997,17484.901999999998,13.477,4.8569172222222221,null,{"$f":"Test!B39","v":0},{"$f":"Test!C39","v":0},{"$f":"Test!D39","v":0},{"$f":"Test!E39","v":0},{"$f":"Test!F39","v":0},{"$f":"Test!G39","v":0},0,0,0]
[null,null,37,916.43100000000004,35.469499999999996,41.171500000000002,41.353099999999998,8455.3889999999992,11.483000000000001,2.3487191666666662,null,{"$f":"Test!B40","v":0},{"$f":"Test!C40","v":0},{"$f":"Test!D40","v":0},{"$f":"Test!E40","v":0},{"$f":"Test!F40","v":0},{"$f":"Test!G40","v":0},0,0,0]
[null,"BQTerrace",22,21077.556,42.44,42.811399999999999,44.647100000000002,43744.01,31.533000000000001,12.15111388888889,null,{"$f":"Test!B41","v":0},{"$f":"Test!C41","v":0},{"$f":"Test!D41","v":0},{"$f":"Test!E41","v":0},{"$f":"Test!F41","v":0},{"$f":"Test!G41","v":0},0,0,0,null,{"$f":"bdrate($D43:$D46,E43:E46,$L43:$L46,M43:M46)","v":{"$error":"#VALUE!"}},{"$f":"bdrate($D43:$D46,F43:F46,$L43:$L46,N43:N46)","v":{"$error":"#VALUE!"}},{"$f":"bdrate($D43:$D46,G43:G46,$L43:$L46,O43:O46)","v":{"$error":"#VALUE!"}},{"$f":"bdrateOld($D43:$D46,E43:E46,$L43:$L46,M43:M46)","v":{"$error":"#VALUE!"}},{"$f":"bdrateOld($D43:$D46,F43:F46,$L43:$L46,N43:N46)","v":{"$error":"#VALUE!"}},{"$f":"bdrateOld($D43:$D46,G43:G46,$L43:$L46,O43:O46)","v":{"$error":"#VALUE!"}}]
[null,null,27,8952.1368000000002,37.338999999999999,41.047699999999999,43.290999999999997,44531.593000000001,22.763000000000002,12.369886944444445,null,{"$f":"Test!B42","v":0},{"$f":"Test!C42","v":0},{"$f":"Test!D42","v":0},{"$f":"Test!E42","v":0},{"$f":"Test!F42","v":0},{"$f":"Test!G42","v":0},0,0,0]
[null,null,32,4418.0623999999998,34.851100000000002,39.754300000000001,42.276600000000002,30531.126,18.28,8.4808683333333335,null,{"$f":"Test!B43","v":0},{"$f":"Test!C43","v":0},{"$f":"Test!D43","v":0},{"$f":"Test!E43","v":0},{"$f":"Test!F43","v":0},{"$f":"Test!G43","v":0},0,0,0]
[null,null,37,2327.5439999999999,32.519199999999998,38.826300000000003,41.512700000000002,20337.768,15.202999999999999,5.6493799999999998,null,{"$f":"Test!B44","v":0},{"$f":"Test!C44","v":0},{"$f":"Test!D44","v":0},{"$f":"Test!E44","v":0},{"$f":"Test!F44","v":0},{"$f":"Test!G44","v":0},0,0,0]
["Class C","BasketballDrill",22,2215.5174999999999,42.339799999999997,44.009700000000002,44.809800000000003,8698.0429999999997,4.8769999999999998,{"$f":"H47/3600","v":2.4161230555555555},null,{"$f":"Test!B45","v":0},{"$f":"Test!C45","v":0},{"$f":"Test!D45","v":0},{"$f":"Test!E45","v":0},{"$f":"Test!F45","v":0},{"$f":"Test!G45","v":0},{"$f":"P47/3600","v":0},{"$f":"P47/H47","v":0},{"$f":"Q47/I47","v":0},null,{"$f":"bdrate($D47:$D50,E47:E50,$L47:$L50,M47:M50)","v":{"$error":"#VALUE!"}},{"$f":"bdrate($D47:$D50,F47:F50,$L47:$L50,N47:N50)","v":{"$error":"#VALUE!"}},{"$f":"bdrate($D47:$D50,G47:G50,$L47:$L50,O47:O50)","v":{"$error":"#VALUE!"}},{"$f":"bdrateOld($D47:$D50,E47:E50,$L47:$L50,M47:M50)","v":{"$error":"#VALUE!"}},{"$f":"bdrateOld($D47:$D50,F47:F50,$L47:$L50,N47:N50)","v":{"$error":"#VALUE!"}},{"$f":"bdrateOld($D47:$D50,G47:G50,$L47:$L50,O47:O50)","v":{"$error":"#VALUE!"}}]
["WVGA",null,27,1180.3071,38.9801,41.522799999999997,42.056100000000001,7116.4279999999999,3.6269999999999998,{"$f":"H48/3600","v":1.9767855555555556},null,{"$f":"Test!B46","v":0},{"$f":"Test!C46","v":0},{"$f":"Test!D46","v":0},{"$f":"Test!E46","v":0},{"$f":"Test!F46","v":0},{"$f":"Test!G46","v":0},{"$f":"P48/3600","v":0},{"$f":"P48/H48","v":0},{"$f":"Q48/I48","v":0}]
[null,null,32,632.93809999999996,36.020800000000001,39.772300000000001,40.136299999999999,5930.3829999999998,2.8620000000000001,1.647328611111111,null,{"$f":"Test!B47","v":0},{"$f":"Test!C47","v":0},{"$f":"Test!D47","v":0},{"$f":"Test!E47","v":0},{"$f":"Test!F47","v":0},{"$f":"Test!G47","v":0},0,0,0]
[null,null,37,355.47140000000002,33.393799999999999,38.402099999999997,38.496200000000002,3214.701,2.44,0.89297250000000006,null,{"$f":"Test!B48","v":0},{"$f":"Test!C48","v":0},{"$f":"Test!D48","v":0},{"$f":"Test!E48","v":0},{"$f":"Test!F48","v":0},{"$f":"Test!G48","v":0},0,0,0]
[null,"BQMall",22,2612.7536,42.296900000000001,44.350999999999999,46.046199999999999,11235.92,5.1909999999999998,3.121088888888889,null,{"$f":"Test!B49","v":0},{"$f":"Test!C49","v":0},{"$f":"Test!D49","v":0},{"$f":"Test!E49","v":0},{"$f":"Test!F49","v":0},{"$f":"Test!G49","v":0},0,0,0,null,{"$f":"bdrate($D51:$D54,E51:E54,$L51:$L54,M51:M54)","v":{"$error":"#VALUE!"}},{"$f":"bdrate($D51:$D54,F51:F54,$L51:$L54,N51:N54)","v":{"$error":"#VALUE!"}},{"$f":"bdrate($D51:$D54,G51:G54,$L51:$L54,O51:O54)","v":{"$error":"#VALUE!"}},{"$f":"bdrateOld($D51:$D54,E51:E54,$L51:$L54,M51:M54)","v":{"$error":"#VALUE!"}},{"$f":"bdrateOld($D51:$D54,F51:F54,$L51:$L54,N51:N54)","v":{"$error":"#VALUE!"}},{"$f":"bdrateOld($D51:$D54,G51:G54,$L51:$L54,O51:O54)","v":{"$error":"#VALUE!"}}]
[null,null,27,1562.7552000000001,39.478900000000003,42.192399999999999,43.601700000000001,8343.8050000000003,4.1319999999999997,2.317723611111111,null,{"$f":"Test!B50","v":0},{"$f":"Test!C50","v":0},{"$f":"Test!D50","v":0},{"$f":"Test!E50","v":0},{"$f":"Test!F50","v":0},{"$f":"Test!G50","v":0},0,0,0]
[null,null,32,919.40480000000002,36.488999999999997,40.5105,41.702100000000002,6634.6930000000002,3.444,1.8429702777777779,null,{"$f":"Test!B51","v":0},{"$f":"Test!C51","v":0},{"$f":"Test!D51","v":0},{"$f":"Test!E51","v":0},{"$f":"Test!F51","v":0},{"$f":"Test!G51","v":0},0,0,0]
[null,null,37,523.23440000000005,33.4255,39.206099999999999,40.2209,4723.5339999999997,2.8450000000000002,1.3120927777777778,null,{"$f":"Test!B52","v":0},{"$f":"Test!C52","v":0},{"$f":"Test!D52","v":0},{"$f":"Test!E52","v":0},{"$f":"Test!F52","v":0},{"$f":"Test!G52","v":0},0,0,0]
[null,"PartyScene",22,5079.5451999999996,41.4589,42.706299999999999,43.810200000000002,11424.897999999999,6.742,3.1735827777777774,null,{"$f":"Test!B53","v":0},{"$f":"Test!C53","v":0},{"$f":"Test!D53","v":0},{"$f":"Test!E53","v":0},{"$f":"Test!F53","v":0},{"$f":"Test!G53","v":0},0,0,0,null,{"$f":"bdrate($D55:$D58,E55:E58,$L55:$L58,M55:M58)","v":{"$error":"#VALUE!"}},{"$f":"bdrate($D55:$D58,F55:F58,$L55:$L58,N55:N58)","v":{"$error":"#VALUE!"}},{"$f":"bdrate($D55:$D58,G55:G58,$L55:$L58,O55:O58)","v":{"$error":"#VALUE!"}},{"$f":"bdrateOld($D55:$D58,E55:E58,$L55:$L58,M55:M58)","v":{"$error":"#VALUE!"}},{"$f":"bdrateOld($D55:$D58,F55:F58,$L55:$L58,N55:N58)","v":{"$error":"#VALUE!"}},{"$f":"bdrateOld($D55:$D58,G55:G58,$L55:$L58,O55:O58)","v":{"$error":"#VALUE!"}}]
[null,null,27,3147.0070999999998,37.210299999999997,39.805399999999999,40.7483,10003.77,5.1820000000000004,2.7788250000000003,null,{"$f":"Test!B54","v":0},{"$f":"Test!C54","v":0},{"$f":"Test!D54","v":0},{"$f":"Test!E54","v":0},{"$f":"Test!F54","v":0},{"$f":"Test!G54","v":0},0,0,0]
[null,null,32,1877.7317,33.461199999999998,37.871600000000001,38.619599999999998,8661.7090000000007,4.1479999999999997,2.406030277777778,null,{"$f":"Test!B55","v":0},{"$f":"Test!C55","v":0},{"$f":"Test!D55","v":0},{"$f":"Test!E55","v":0},{"$f":"Test!F55","v":0},{"$f":"Test!G55","v":0},0,0,0]
[null,null,37,1007.4087,29.788799999999998,36.457599999999999,37.089799999999997,7231.8040000000001,3.302,2.0088344444444446,null,{"$f":"Test!B56","v":0},{"$f":"Test!C56","v":0},{"$f":"Test!D56","v":0},{"$f":"Test!E56","v":0},{"$f":"Test!F56","v":0},{"$f":"Test!G56","v":0},0,0,0]
[null,"RaceHorses",22,1734.3110999999999,42.753700000000002,43.5657,44.411000000000001,5228.223,2.7069999999999999,1.4522841666666666,null,{"$f":"Test!B57","v":0},{"$f":"Test!C57","v":0},{"$f":"Test!D57","v":0},{"$f":"Test!E57","v":0},{"$f":"Test!F57","v":0},{"$f":"Test!G57","v":0},0,0,0,null,{"$f":"bdrate($D59:$D62,E59:E62,$L59:$L62,M59:M62)","v":{"$error":"#VALUE!"}},{"$f":"bdrate($D59:$D62,F59:F62,$L59:$L62,N59:N62)","v":{"$error":"#VALUE!"}},{"$f":"bdrate($D59:$D62,G59:G62,$L59:$L62,O59:O62)","v":{"$error":"#VALUE!"}},{"$f":"bdrateOld($D59:$D62,E59:E62,$L59:$L62,M59:M62)","v":{"$error":"#VALUE!"}},{"$f":"bdrateOld($D59:$D62,F59:F62,$L59:$L62,N59:N62)","v":{"$error":"#VALUE!"}},{"$f":"bdrateOld($D59:$D62,G59:G62,$L59:$L62,O59:O62)","v":{"$error":"#VALUE!"}}]
[null,null,27,1037.0289,39.374699999999997,40.306899999999999,41.763599999999997,4018.5059999999999,2.2450000000000001,1.1162516666666666,null,{"$f":"Test!B58","v":0},{"$f":"Test!C58","v":0},{"$f":"Test!D58","v":0},{"$f":"Test!E58","v":0},{"$f":"Test!F58","v":0},{"$f":"Test!G58","v":0},0,0,0]
[null,null,32,594.90790000000004,36.017899999999997,38.100099999999998,40.049199999999999,3229.1579999999999,1.8859999999999999,0.89698833333333328,null,{"$f":"Test!B59","v":0},{"$f":"Test!C59","v":0},{"$f":"Test!D59","v":0},{"$f":"Test!E59","v":0},{"$f":"Test!F59","v":0},{"$f":"Test!G59","v":0},0,0,0]
[null,null,37,301.62079999999997,32.596600000000002,36.751899999999999,38.744799999999998,2305.7399999999998,1.58,0.64048333333333329,null,{"$f":"Test!B60","v":0},{"$f":"Test!C60","v":0},{"$f":"Test!D60","v":0},{"$f":"Test!E60","v":0},{"$f":"Test!F60","v":0},{"$f":"Test!G60","v":0},0,0,0]
["Class D","BasketballPass",{"$f":"C59","v":22},592.21900000000005,43.538200000000003,45.576500000000003,45.386600000000001,2635.6979999999999,1.149,{"$f":"H63/3600","v":0.73213833333333334},null,{"$f":"Test!B61","v":0},{"$f":"Test!C61","v":0},{"$f":"Test!D61","v":0},{"$f":"Test!E61","v":0},{"$f":"Test!F61","v":0},{"$f":"Test!G61","v":0},{"$f":"P63/3600","v":0},{"$f":"P63/H63","v":0},{"$f":"Q63/I63","v":0},null,{"$f":"bdrate($D63:$D66,E63:E66,$L63:$L66,M63:M66)","v":{"$error":"#VALUE!"}},{"$f":"bdrate($D63:$D66,F63:F66,$L63:$L66,N63:N66)","v":{"$error":"#VALUE!"}},{"$f":"bdrate($D63:$D66,G63:G66,$L63:$L66,O63:O66)","v":{"$error":"#VALUE!"}},{"$f":"bdrateOld($D63:$D66,E63:E66,$L63:$L66,M63:M66)","v":{"$error":"#VALUE!"}},{"$f":"bdrateOld($D63:$D66,F63:F66,$L63:$L66,N63:N66)","v":{"$error":"#VALUE!"}},{"$f":"bdrateOld($D63:$D66,G63:G66,$L63:$L66,O63:O66)","v":{"$error":"#VALUE!"}}]
["WQVGA",null,{"$f":"C60","v":27},354.50630000000001,39.936900000000001,42.747999999999998,42.2074,2121.1779999999999,0.95199999999999996,{"$f":"H64/3600","v":0.58921611111111105},null,{"$f":"Test!B62","v":0},{"$f":"Test!C62","v":0},{"$f":"Test!D62","v":0},{"$f":"Test!E62","v":0},{"$f":"Test!F62","v":0},{"$f":"Test!G62","v":0},{"$f":"P64/3600","v":0},{"$f":"P64/H64","v":0},{"$f":"Q64/I64","v":0}]
[null,null,{"$f":"C61","v":32},205.12219999999999,36.552,40.5535,39.8215,1753.325,0.78700000000000003,0.48703472222222222,null,{"$f":"Test!B63","v":0},{"$f":"Test!C63","v":0},{"$f":"Test!D63","v":0},{"$f":"Test!E63","v":0},{"$f":"Test!F63","v":0},{"$f":"Test!G63","v":0},0,0,0]
[null,null,{"$f":"C62","v":37},114.5048,33.356699999999996,38.842799999999997,38.004300000000001,1067.6990000000001,0.65500000000000003,0.29658305555555559,null,{"$f":"Test!B64","v":0},{"$f":"Test!C64","v":0},{"$f":"Test!D64","v":0},{"$f":"Test!E64","v":0},{"$f":"Test!F64","v":0},{"$f":"Test!G64","v":0},0,0,0]
[null,"BQSquare",22,1526.3632,41.613199999999999,43.500599999999999,44.627800000000001,3370.0309999999999,1.8080000000000001,0.93611972222222217,null,{"$f":"Test!B65","v":0},{"$f":"Test!C65","v":0},{"$f":"Test!D65","v":0},{"$f":"Test!E65","v":0},{"$f":"Test!F65","v":0},{"$f":"Test!G65","v":0},0,0,0,null,{"$f":"bdrate($D67:$D70,E67:E70,$L67:$L70,M67:M70)","v":{"$error":"#VALUE!"}},{"$f":"bdrate($D67:$D70,F67:F70,$L67:$L70,N67:N70)","v":{"$error":"#VALUE!"}},{"$f":"bdrate($D67:$D70,G67:G70,$L67:$L70,O67:O70)","v":{"$error":"#VALUE!"}},{"$f":"bdrateOld($D67:$D70,E67:E70,$L67:$L70,M67:M70)","v":{"$error":"#VALUE!"}},{"$f":"bdrateOld($D67:$D70,F67:F70,$L67:$L70,N67:N70)","v":{"$error":"#VALUE!"}},{"$f":"bdrateOld($D67:$D70,G67:G70,$L67:$L70,O67:O70)","v":{"$error":"#VALUE!"}}]
[null,null,27,977.57680000000005,37.239899999999999,40.826099999999997,42.096499999999999,2865.6950000000002,1.425,0.79602638888888888,null,{"$f":"Test!B66","v":0},{"$f":"Test!C66","v":0},{"$f":"Test!D66","v":0},{"$f":"Test!E66","v":0},{"$f":"Test!F66","v":0},{"$f":"Test!G66","v":0},0,0,0]
[null,null,32,601.1336,33.425699999999999,39.303800000000003,40.440100000000001,2372.9940000000001,1.1479999999999999,0.659165,null,{"$f":"Test!B67","v":0},{"$f":"Test!C67","v":0},{"$f":"Test!D67","v":0},{"$f":"Test!E67","v":0},{"$f":"Test!F67","v":0},{"$f":"Test!G67","v":0},0,0,0]
[null,null,37,354.35840000000002,29.870899999999999,38.3658,39.287199999999999,2027.902,0.93400000000000005,0.56330611111111117,null,{"$f":"Test!B68","v":0},{"$f":"Test!C68","v":0},{"$f":"Test!D68","v":0},{"$f":"Test!E68","v":0},{"$f":"Test!F68","v":0},{"$f":"Test!G68","v":0},0,0,0]
[null,"BlowingBubbles",22,1330.3341,41.429000000000002,42.293799999999997,43.145499999999998,3075.73,1.712,0.8543694444444444,null,{"$f":"Test!B69","v":0},{"$f":"Test!C69","v":0},{"$f":"Test!D69","v":0},{"$f":"Test!E69","v":0},{"$f":"Test!F69","v":0},{"$f":"Test!G69","v":0},0,0,0,null,{"$f":"bdrate($D71:$D74,E71:E74,$L71:$L74,M71:M74)","v":{"$error":"#VALUE!"}},{"$f":"bdrate($D71:$D74,F71:F74,$L71:$L74,N71:N74)","v":{"$error":"#VALUE!"}},{"$f":"bdrate($D71:$D74,G71:G74,$L71:$L74,O71:O74)","v":{"$error":"#VALUE!"}},{"$f":"bdrateOld($D71:$D74,E71:E74,$L71:$L74,M71:M74)","v":{"$error":"#VALUE!"}},{"$f":"bdrateOld($D71:$D74,F71:F74,$L71:$L74,N71:N74)","v":{"$error":"#VALUE!"}},{"$f":"bdrateOld($D71:$D74,G71:G74,$L71:$L74,O71:O74)","v":{"$error":"#VALUE!"}}]
[null,null,27,823.53809999999999,37.145699999999998,39.357700000000001,39.990499999999997,2932.5639999999999,1.379,0.81460111111111111,null,{"$f":"Test!B70","v":0},{"$f":"Test!C70","v":0},{"$f":"Test!D70","v":0},{"$f":"Test!E70","v":0},{"$f":"Test!F70","v":0},{"$f":"Test!G70","v":0},0,0,0]
[null,null,32,469.17219999999998,33.193399999999997,37.2669,37.748399999999997,2641.1410000000001,1.119,0.7336502777777778,null,{"$f":"Test!B71","v":0},{"$f":"Test!C71","v":0},{"$f":"Test!D71","v":0},{"$f":"Test!E71","v":0},{"$f":"Test!F71","v":0},{"$f":"Test!G71","v":0},0,0,0]
[null,null,37,238.596,29.596399999999999,35.773000000000003,36.186300000000003,1956.3219999999999,0.85,0.5434227777777777,null,{"$f":"Test!B72","v":0},{"$f":"Test!C72","v":0},{"$f":"Test!D72","v":0},{"$f":"Test!E72","v":0},{"$f":"Test!F72","v":0},{"$f":"Test!G72","v":0},0,0,0]
[null,"RaceHorses",22,512.07470000000001,43.085500000000003,43.170400000000001,44.090600000000002,1895.4290000000001,0.80400000000000005,0.52650805555555558,null,{"$f":"Test!B73","v":0},{"$f":"Test!C73","v":0},{"$f":"Test!D73","v":0},{"$f":"Test!E73","v":0},{"$f":"Test!F73","v":0},{"$f":"Test!G73","v":0},0,0,0,null,{"$f":"bdrate($D75:$D78,E75:E78,$L75:$L78,M75:M78)","v":{"$error":"#VALUE!"}},{"$f":"bdrate($D75:$D78,F75:F78,$L75:$L78,N75:N78)","v":{"$error":"#VALUE!"}},{"$f":"bdrate($D75:$D78,G75:G78,$L75:$L78,O75:O78)","v":{"$error":"#VALUE!"}},{"$f":"bdrateOld($D75:$D78,E75:E78,$L75:$L78,M75:M78)","v":{"$error":"#VALUE!"}},{"$f":"bdrateOld($D75:$D78,F75:F78,$L75:$L78,N75:N78)","v":{"$error":"#VALUE!"}},{"$f":"bdrateOld($D75:$D78,G75:G78,$L75:$L78,O75:O78)","v":{"$error":"#VALUE!"}}]
[null,null,27,310.18740000000003,39.059899999999999,39.939300000000003,41.292700000000004,1587.982,0.66400000000000003,0.44110611111111109,null,{"$f":"Test!B74","v":0},{"$f":"Test!C74","v":0},{"$f":"Test!D74","v":0},{"$f":"Test!E74","v":0},{"$f":"Test!F74","v":0},{"$f":"Test!G74","v":0},0,0,0]
[null,null,32,172.5497,35.182299999999998,37.901499999999999,39.183999999999997,1156.0340000000001,0.55000000000000004,0.32112055555555558,null,{"$f":"Test!B75","v":0},{"$f":"Test!C75","v":0},{"$f":"Test!D75","v":0},{"$f":"Test!E75","v":0},{"$f":"Test!F75","v":0},{"$f":"Test!G75","v":0},0,0,0]
[null,null,37,85.891599999999997,31.706099999999999,36.404200000000003,37.503500000000003,860.71299999999997,0.441,0.23908694444444442,null,{"$f":"Test!B76","v":0},{"$f":"Test!C76","v":0},{"$f":"Test!D76","v":0},{"$f":"Test!E76","v":0},{"$f":"Test!F76","v":0},{"$f":"Test!G76","v":0},0,0,0]
["ClassE","FourPeople",22,3322.6415999999999,44.329300000000003,47.325200000000002,48.538400000000003,15840.894,9.3190000000000008,{"$f":"H79/3600","v":4.4002483333333338},null,{"$f":"Test!B77","v":0},{"$f":"Test!C77","v":0},{"$f":"Test!D77","v":0},{"$f":"Test!E77","v":0},{"$f":"Test!F77","v":0},{"$f":"Test!G77","v":0},{"$f":"P79/3600","v":0},{"$f":"P79/H79","v":0},{"$f":"Q79/I79","v":0},null,{"$f":"bdrate($D79:$D82,E79:E82,$L79:$L82,M79:M82)","v":{"$error":"#VALUE!"}},{"$f":"bdrate($D79:$D82,F79:F82,$L79:$L82,N79:N82)","v":{"$error":"#VALUE!"}},{"$f":"bdrate($D79:$D82,G79:G82,$L79:$L82,O79:O82)","v":{"$error":"#VALUE!"}},{"$f":"bdrateOld($D79:$D82,E79:E82,$L79:$L82,M79:M82)","v":{"$error":"#VALUE!"}},{"$f":"bdrateOld($D79:$D82,F79:F82,$L79:$L82,N79:N82)","v":{"$error":"#VALUE!"}},{"$f":"bdrateOld($D79:$D82,G79:G82,$L79:$L82,O79:O82)","v":{"$error":"#VALUE!"}}]
["720p",null,27,2035.9256,41.858199999999997,45.166200000000003,46.470700000000001,11009.482,8.0129999999999999,{"$f":"H80/3600","v":3.0581894444444444},null,{"$f":"Test!B78","v":0},{"$f":"Test!C78","v":0},{"$f":"Test!D78","v":0},{"$f":"Test!E78","v":0},{"$f":"Test!F78","v":0},{"$f":"Test!G78","v":0},{"$f":"P80/3600","v":0},{"$f":"P80/H80","v":0},{"$f":"Q80/I80","v":0}]
[null,null,32,1256.9304,39.051099999999998,43.436900000000001,44.6693,8676.7870000000003,6.907,2.410218611111111,null,{"$f":"Test!B79","v":0},{"$f":"Test!C79","v":0},{"$f":"Test!D79","v":0},{"$f":"Test!E79","v":0},{"$f":"Test!F79","v":0},{"$f":"Test!G79","v":0},0,0,0]
[null,null,37,761.24800000000005,35.912399999999998,42.139099999999999,43.308500000000002,5855.3770000000004,6.0149999999999997,1.6264936111111112,null,{"$f":"Test!B80","v":0},{"$f":"Test!C80","v":0},{"$f":"Test!D80","v":0},{"$f":"Test!E80","v":0},{"$f":"Test!F80","v":0},{"$f":"Test!G80","v":0},0,0,0]
[null,"Johnny",22,2228.4223999999999,44.500100000000003,48.590699999999998,49.303100000000001,12297.422,7.306,3.4159505555555558,null,{"$f":"Test!B81","v":0},{"$f":"Test!C81","v":0},{"$f":"Test!D81","v":0},{"$f":"Test!E81","v":0},{"$f":"Test!F81","v":0},{"$f":"Test!G81","v":0},0,0,0,null,{"$f":"bdrate($D83:$D86,E83:E86,$L83:$L86,M83:M86)","v":{"$error":"#VALUE!"}},{"$f":"bdrate($D83:$D86,F83:F86,$L83:$L86,N83:N86)","v":{"$error":"#VALUE!"}},{"$f":"bdrate($D83:$D86,G83:G86,$L83:$L86,O83:O86)","v":{"$error":"#VALUE!"}},{"$f":"bdrateOld($D83:$D86,E83:E86,$L83:$L86,M83:M86)","v":{"$error":"#VALUE!"}},{"$f":"bdrateOld($D83:$D86,F83:F86,$L83:$L86,N83:N86)","v":{"$error":"#VALUE!"}},{"$f":"bdrateOld($D83:$D86,G83:G86,$L83:$L86,O83:O86)","v":{"$error":"#VALUE!"}}]
[null,null,27,1228.7031999999999,42.371000000000002,46.684899999999999,47.497,8753.5249999999996,6.2830000000000004,2.4315347222222221,null,{"$f":"Test!B82","v":0},{"$f":"Test!C82","v":0},{"$f":"Test!D82","v":0},{"$f":"Test!E82","v":0},{"$f":"Test!F82","v":0},{"$f":"Test!G82","v":0},0,0,0]
[null,null,32,698.44399999999996,40.096400000000003,45.011299999999999,45.769599999999997,6348.9560000000001,5.5469999999999997,1.7635988888888889,null,{"$f":"Test!B83","v":0},{"$f":"Test!C83","v":0},{"$f":"Test!D83","v":0},{"$f":"Test!E83","v":0},{"$f":"Test!F83","v":0},{"$f":"Test!G83","v":0},0,0,0]
[null,null,37,402.20639999999997,37.5306,43.586799999999997,44.331000000000003,3703.8310000000001,4.9530000000000003,1.0288419444444445,null,{"$f":"Test!B84","v":0},{"$f":"Test!C84","v":0},{"$f":"Test!D84","v":0},{"$f":"Test!E84","v":0},{"$f":"Test!F84","v":0},{"$f":"Test!G84","v":0},0,0,0]
[null,"KristenAndSara",22,2438.8103999999998,44.879899999999999,47.974899999999998,48.904400000000003,12495.071,8.0050000000000008,3.4708530555555557,null,{"$f":"Test!B85","v":0},{"$f":"Test!C85","v":0},{"$f":"Test!D85","v":0},{"$f":"Test!E85","v":0},{"$f":"Test!F85","v":0},{"$f":"Test!G85","v":0},0,0,0,null,{"$f":"bdrate($D87:$D90,E87:E90,$L87:$L90,M87:M90)","v":{"$error":"#VALUE!"}},{"$f":"bdrate($D87:$D90,F87:F90,$L87:$L90,N87:N90)","v":{"$error":"#VALUE!"}},{"$f":"bdrate($D87:$D90,G87:G90,$L87:$L90,O87:O90)","v":{"$error":"#VALUE!"}},{"$f":"bdrateOld($D87:$D90,E87:E90,$L87:$L90,M87:M90)","v":{"$error":"#VALUE!"}},{"$f":"bdrateOld($D87:$D90,F87:F90,$L87:$L90,N87:N90)","v":{"$error":"#VALUE!"}},{"$f":"bdrateOld($D87:$D90,G87:G90,$L87:$L90,O87:O90)","v":{"$error":"#VALUE!"}}]
[null,null,27,1461.3679999999999,42.667400000000001,45.8992,46.997599999999998,8417.9879999999994,6.88,2.33833,null,{"$f":"Test!B86","v":0},{"$f":"Test!C86","v":0},{"$f":"Test!D86","v":0},{"$f":"Test!E86","v":0},{"$f":"Test!F86","v":0},{"$f":"Test!G86","v":0},0,0,0]
[null,null,32,884.48800000000006,40.125,44.171900000000001,45.305300000000003,6514.3829999999998,6.06,1.8095508333333332,null,{"$f":"Test!B87","v":0},{"$f":"Test!C87","v":0},{"$f":"Test!D87","v":0},{"$f":"Test!E87","v":0},{"$f":"Test!F87","v":0},{"$f":"Test!G87","v":0},0,0,0]
[null,null,37,536.83920000000001,37.301400000000001,42.8005,43.925600000000003,4300.1509999999998,5.38,1.1944863888888888,null,{"$f":"Test!B88","v":0},{"$f":"Test!C88","v":0},{"$f":"Test!D88","v":0},{"$f":"Test!E88","v":0},{"$f":"Test!F88","v":0},{"$f":"Test!G88","v":0},0,0,0]
["ClassF","BasketballDrillText",22,2414.5079000000001,42.524999999999999,43.960599999999999,44.723599999999998,8725.3119999999999,5.093,{"$f":"H91/3600","v":2.423697777777778},null,{"$f":"Test!B89","v":0},{"$f":"Test!C89","v":0},{"$f":"Test!D89","v":0},{"$f":"Test!E89","v":0},{"$f":"Test!F89","v":0},{"$f":"Test!G89","v":0},{"$f":"P91/3600","v":0},{"$f":"P91/H91","v":0},{"$f":"Q91/I91","v":0},null,{"$f":"bdrate($D91:$D94,E91:E94,$L91:$L94,M91:M94)","v":{"$error":"#VALUE!"}},{"$f":"bdrate($D91:$D94,F91:F94,$L91:$L94,N91:N94)","v":{"$error":"#VALUE!"}},{"$f":"bdrate($D91:$D94,G91:G94,$L91:$L94,O91:O94)","v":{"$error":"#VALUE!"}},{"$f":"bdrateOld($D91:$D94,E91:E94,$L91:$L94,M91:M94)","v":{"$error":"#VALUE!"}},{"$f":"bdrateOld($D91:$D94,F91:F94,$L91:$L94,N91:N94)","v":{"$error":"#VALUE!"}},{"$f":"bdrateOld($D91:$D94,G91:G94,$L91:$L94,O91:O94)","v":{"$error":"#VALUE!"}}]
[null,null,27,1367.431,39.077300000000001,41.198099999999997,41.736699999999999,7189.6390000000001,3.8370000000000002,{"$f":"H92/3600","v":1.9971219444444446},null,{"$f":"Test!B90","v":0},{"$f":"Test!C90","v":0},{"$f":"Test!D90","v":0},{"$f":"Test!E90","v":0},{"$f":"Test!F90","v":0},{"$f":"Test!G90","v":0},{"$f":"P92/3600","v":0},{"$f":"P92/H92","v":0},{"$f":"Q92/I92","v":0}]
[null,null,32,787.69600000000003,36.007199999999997,39.162199999999999,39.5687,5793.1710000000003,3.08,1.6092141666666668,null,{"$f":"Test!B91","v":0},{"$f":"Test!C91","v":0},{"$f":"Test!D91","v":0},{"$f":"Test!E91","v":0},{"$f":"Test!F91","v":0},{"$f":"Test!G91","v":0},0,0,0]
[null,null,37,467.24520000000001,33.1479,37.616199999999999,37.7986,3848.7379999999998,2.569,1.0690938888888888,null,{"$f":"Test!B92","v":0},{"$f":"Test!C92","v":0},{"$f":"Test!D92","v":0},{"$f":"Test!E92","v":0},{"$f":"Test!F92","v":0},{"$f":"Test!G92","v":0},0,0,0]
[null,"ArenaOfValor",22,11635.8392,44.222499999999997,45.270099999999999,45.892400000000002,40586.974000000002,31.358000000000001,11.274159444444445,null,{"$f":"Test!B93","v":0},{"$f":"Test!C93","v":0},{"$f":"Test!D93","v":0},{"$f":"Test!E93","v":0},{"$f":"Test!F93","v":0},{"$f":"Test!G93","v":0},0,0,0,null,{"$f":"bdrate($D95:$D98,E95:E98,$L95:$L98,M95:M98)","v":{"$error":"#VALUE!"}},{"$f":"bdrate($D95:$D98,F95:F98,$L95:$L98,N95:N98)","v":{"$error":"#VALUE!"}},{"$f":"bdrate($D95:$D98,G95:G98,$L95:$L98,O95:O98)","v":{"$error":"#VALUE!"}},{"$f":"bdrateOld($D95:$D98,E95:E98,$L95:$L98,M95:M98)","v":{"$error":"#VALUE!"}},{"$f":"bdrateOld($D95:$D98,F95:F98,$L95:$L98,N95:N98)","v":{"$error":"#VALUE!"}},{"$f":"bdrateOld($D95:$D98,G95:G98,$L95:$L98,O95:O98)","v":{"$error":"#VALUE!"}}]
[null,null,27,6795.5568000000003,40.7059,42.451900000000002,42.851599999999998,31388.830999999998,25.187000000000001,8.7191197222222225,null,{"$f":"Test!B94","v":0},{"$f":"Test!C94","v":0},{"$f":"Test!D94","v":0},{"$f":"Test!E94","v":0},{"$f":"Test!F94","v":0},{"$f":"Test!G94","v":0},0,0,0]
[null,null,32,3899.4504000000002,37.454700000000003,40.284199999999998,40.5,24798.901000000002,20.782,6.8885836111111116,null,{"$f":"Test!B95","v":0},{"$f":"Test!C95","v":0},{"$f":"Test!D95","v":0},{"$f":"Test!E95","v":0},{"$f":"Test!F95","v":0},{"$f":"Test!G95","v":0},0,0,0]
[null,null,37,2215.3807999999999,34.382300000000001,38.578299999999999,38.6768,16927.648000000001,17.294,4.7021244444444443,null,{"$f":"Test!B96","v":0},{"$f":"Test!C96","v":0},{"$f":"Test!D96","v":0},{"$f":"Test!E96","v":0},{"$f":"Test!F96","v":0},{"$f":"Test!G96","v":0},0,0,0]
[null,"SlideEditing",22,3707.8721,47.005200000000002,45.259799999999998,45.7532,5761.049,6.8470000000000004,1.6002913888888888,null,{"$f":"Test!B97","v":0},{"$f":"Test!C97","v":0},{"$f":"Test!D97","v":0},{"$f":"Test!E97","v":0},{"$f":"Test!F97","v":0},{"$f":"Test!G97","v":0},0,0,0,null,{"$f":"bdrate($D99:$D102,E99:E102,$L99:$L102,M99:M102)","v":{"$error":"#VALUE!"}},{"$f":"bdrate($D99:$D102,F99:F102,$L99:$L102,N99:N102)","v":{"$error":"#VALUE!"}},{"$f":"bdrate($D99:$D102,G99:G102,$L99:$L102,O99:O102)","v":{"$error":"#VALUE!"}},{"$f":"bdrateOld($D99:$D102,E99:E102,$L99:$L102,M99:M102)","v":{"$error":"#VALUE!"}},{"$f":"bdrateOld($D99:$D102,F99:F102,$L99:$L102,N99:N102)","v":{"$error":"#VALUE!"}},{"$f":"bdrateOld($D99:$D102,G99:G102,$L99:$L102,O99:O102)","v":{"$error":"#VALUE!"}}]
[null,null,27,2789.4324000000001,42.481699999999996,41.252400000000002,42.219700000000003,5527.2969999999996,5.8209999999999997,1.5353602777777777,null,{"$f":"Test!B98","v":0},{"$f":"Test!C98","v":0},{"$f":"Test!D98","v":0},{"$f":"Test!E98","v":0},{"$f":"Test!F98","v":0},{"$f":"Test!G98","v":0},0,0,0]
[null,null,32,2166.6970999999999,37.927799999999998,39.261499999999998,40.499499999999998,4791.5640000000003,5.1120000000000001,1.3309900000000001,null,{"$f":"Test!B99","v":0},{"$f":"Test!C99","v":0},{"$f":"Test!D99","v":0},{"$f":"Test!E99","v":0},{"$f":"Test!F99","v":0},{"$f":"Test!G99","v":0},0,0,0]
[null,null,37,1628.9005,33.148800000000001,38.320399999999999,39.566699999999997,4185.4949999999999,4.6120000000000001,1.1626375,null,{"$f":"Test!B100","v":0},{"$f":"Test!C100","v":0},{"$f":"Test!D100","v":0},{"$f":"Test!E100","v":0},{"$f":"Test!F100","v":0},{"$f":"Test!G100","v":0},0,0,0]
[null,"SlideShow",22,584.74789999999996,51.0749,54.123800000000003,55.1389,4704.6899999999996,4.9509999999999996,1.3068583333333332,null,{"$f":"Test!B101","v":0},{"$f":"Test!C101","v":0},{"$f":"Test!D101","v":0},{"$f":"Test!E101","v":0},{"$f":"Test!F101","v":0},{"$f":"Test!G101","v":0},0,0,0,null,{"$f":"bdrate($D103:$D106,E103:E106,$L103:$L106,M103:M106)","v":{"$error":"#VALUE!"}},{"$f":"bdrate($D103:$D106,F103:F106,$L103:$L106,N103:N106)","v":{"$error":"#VALUE!"}},{"$f":"bdrate($D103:$D106,G103:G106,$L103:$L106,O103:O106)","v":{"$error":"#VALUE!"}},{"$f":"bdrateOld($D103:$D106,E103:E106,$L103:$L106,M103:M106)","v":{"$error":"#VALUE!"}},{"$f":"bdrateOld($D103:$D106,F103:F106,$L103:$L106,N103:N106)","v":{"$error":"#VALUE!"}},{"$f":"bdrateOld($D103:$D106,G103:G106,$L103:$L106,O103:O106)","v":{"$error":"#VALUE!"}}]
[null,null,27,394.78190000000001,47.422400000000003,50.876300000000001,52.0884,3640.0320000000002,4.46,1.01112,null,{"$f":"Test!B102","v":0},{"$f":"Test!C102","v":0},{"$f":"Test!D102","v":0},{"$f":"Test!E102","v":0},{"$f":"Test!F102","v":0},{"$f":"Test!G102","v":0},0,0,0]
[null,null,32,270.31560000000002,43.816600000000001,48.429099999999998,50.075200000000002,3255.1579999999999,4.0709999999999997,0.90421055555555552,null,{"$f":"Test!B103","v":0},{"$f":"Test!C103","v":0},{"$f":"Test!D103","v":0},{"$f":"Test!E103","v":0},{"$f":"Test!F103","v":0},{"$f":"Test!G103","v":0},0,0,0]
[null,null,37,180.8451,40.012500000000003,46.5441,48.445799999999998,2559.5680000000002,3.7090000000000001,0.71099111111111113,null,{"$f":"Test!B104","v":0},{"$f":"Test!C104","v":0},{"$f":"Test!D104","v":0},{"$f":"Test!E104","v":0},{"$f":"Test!F104","v":0},{"$f":"Test!G104","v":0},0,0,0]
[null,"Class A1",null,null,null,null,null,null,{"$f":"GEOMEAN(I3:I14)","v":31.941824372542523},{"$f":"GEOMEAN(J3:J14)","v":6.0708376910960089},null,null,null,null,null,null,{"$f":"GEOMEAN(Q3:Q14)","v":{"$error":"#NUM!"}},{"$f":"GEOMEAN(R3:R14)","v":{"$error":"#NUM!"}},{"$f":"GEOMEAN(S3:S14)","v":{"$error":"#NUM!"}},{"$f":"GEOMEAN(T3:T14)","v":{"$error":"#NUM!"}},null,{"$f":"AVERAGE(V3:V14)","v":{"$error":"#VALUE!"}},{"$error":"#VALUE!"},{"$error":"#VALUE!"},{"$error":"#VALUE!"},{"$error":"#VALUE!"},{"$error":"#VALUE!"}]
[null,"Class A2",null,null,null,null,null,null,{"$f":"GEOMEAN(I15:I26)","v":38.886482019491858},{"$f":"GEOMEAN(J15:J26)","v":9.8641247515084469},null,null,null,null,null,null,{"$f":"GEOMEAN(Q15:Q26)","v":{"$error":"#NUM!"}},{"$f":"GEOMEAN(R15:R26)","v":{"$error":"#NUM!"}},{"$f":"GEOMEAN(S15:S26)","v":{"$error":"#NUM!"}},{"$f":"GEOMEAN(T15:T26)","v":{"$error":"#NUM!"}},null,{"$f":"AVERAGE(V15:V26)","v":{"$error":"#VALUE!"}},{"$error":"#VALUE!"},{"$error":"#VALUE!"},{"$error":"#VALUE!"},{"$error":"#VALUE!"},{"$error":"#VALUE!"}]
[null,"Class B",null,null,null,null,null,null,{"$f":"GEOMEAN(I27:I46)","v":17.432555693197497},{"$f":"GEOMEAN(J27:J46)","v":6.5818272500291783},null,null,null,null,null,null,{"$f":"GEOMEAN(Q27:Q46)","v":{"$error":"#NUM!"}},{"$f":"GEOMEAN(R27:R46)","v":{"$error":"#NUM!"}},{"$f":"GEOMEAN(S27:S46)","v":{"$error":"#NUM!"}},{"$error":"#NUM!"},null,{"$f":"AVERAGE(V27:V46)","v":{"$error":"#VALUE!"}},{"$f":"AVERAGE(W27:W46)","v":{"$error":"#VALUE!"}},{"$error":"#VALUE!"},{"$error":"#VALUE!"},{"$error":"#VALUE!"},{"$error":"#VALUE!"}]
[null,"Class C",null,null,null,null,null,null,{"$f":"GEOMEAN(I47:I62)","v":3.326653877970704},{"$f":"GEOMEAN(J47:J62)","v":1.7002763455403043},null,null,null,null,null,null,{"$f":"GEOMEAN(Q47:Q62)","v":{"$error":"#NUM!"}},{"$f":"GEOMEAN(R47:R62)","v":{"$error":"#NUM!"}},{"$f":"GEOMEAN(S47:S62)","v":{"$error":"#NUM!"}},{"$error":"#NUM!"},null,{"$f":"AVERAGE(V47:V62)","v":{"$error":"#VALUE!"}},{"$f":"AVERAGE(W47:W62)","v":{"$error":"#VALUE!"}},{"$error":"#VALUE!"},{"$error":"#VALUE!"},{"$error":"#VALUE!"},{"$error":"#VALUE!"}]
[null,"Class D",null,null,null,null,null,null,{"$f":"GEOMEAN(I63:I78)","v":0.95170224630154565},{"$f":"GEOMEAN(J63:J78)","v":0.55678185483263443},null,null,null,null,null,null,{"$f":"GEOMEAN(Q63:Q78)","v":{"$error":"#NUM!"}},{"$f":"GEOMEAN(R63:R78)","v":{"$error":"#NUM!"}},{"$f":"GEOMEAN(S63:S78)","v":{"$error":"#NUM!"}},{"$error":"#NUM!"},null,{"$f":"AVERAGE(V63:V78)","v":{"$error":"#VALUE!"}},{"$f":"AVERAGE(W63:W78)","v":{"$error":"#VALUE!"}},{"$error":"#VALUE!"},{"$error":"#VALUE!"},{"$error":"#VALUE!"},{"$error":"#VALUE!"}]
[null,"Class E",null,null,null,null,null,null,{"$f":"GEOMEAN(I79:I90)","v":6.6153925498547919},{"$f":"GEOMEAN(J79:J90)","v":2.2150000655907003},null,null,null,null,null,null,{"$f":"GEOMEAN(Q79:Q90)","v":{"$error":"#NUM!"}},{"$f":"GEOMEAN(R79:R90)","v":{"$error":"#NUM!"}},{"$f":"GEOMEAN(S79:S90)","v":{"$error":"#NUM!"}},{"$error":"#NUM!"},null,{"$f":"AVERAGE(V79:V88)","v":{"$error":"#VALUE!"}},{"$f":"AVERAGE(W79:W88)","v":{"$error":"#VALUE!"}},{"$error":"#VALUE!"},{"$error":"#VALUE!"},{"$error":"#VALUE!"},{"$error":"#VALUE!"}]
[null,"Class F",null,null,null,null,null,null,{"$f":"GEOMEAN(I91:I106)","v":6.6244065826694047},{"$f":"GEOMEAN(J91:J106)","v":2.0337283412464062},null,null,null,null,null,null,{"$f":"GEOMEAN(Q91:Q106)","v":{"$error":"#NUM!"}},{"$f":"GEOMEAN(R91:R106)","v":{"$error":"#NUM!"}},{"$f":"GEOMEAN(S91:S106)","v":{"$error":"#NUM!"}},{"$error":"#NUM!"},null,{"$f":"AVERAGE(V91:V106)","v":{"$error":"#VALUE!"}},{"$f":"AVERAGE(W91:W106)","v":{"$error":"#VALUE!"}},{"$error":"#VALUE!"},{"$error":"#VALUE!"},{"$error":"#VALUE!"},{"$error":"#VALUE!"}]
[null,"All",null,null,null,null,null,null,{"$f":"GEOMEAN(I3:I62, I79:I90)","v":12.980055271909704},{"$f":"GEOMEAN(J3:J62,J79:J90)","v":4.2886951674237892},null,null,null,null,null,null,{"$f":"GEOMEAN(Q3:Q62,Q79:Q90)","v":{"$error":"#NUM!"}},{"$f":"GEOMEAN(R3:R62,R79:R90)","v":{"$error":"#NUM!"}},{"$f":"GEOMEAN(S3:S62,S79:S90)","v":{"$error":"#NUM!"}},{"$f":"GEOMEAN(T3:T62,T79:T90)","v":{"$error":"#NUM!"}},null,{"$f":"AVERAGE(V3:V62,V79:V90)","v":{"$error":"#VALUE!"}},{"$f":"AVERAGE(W3:W62,W79:W90)","v":{"$error":"#VALUE!"}},{"$error":"#VALUE!"},{"$f":"AVERAGE(Y3:Y62,Y79:Y90)","v":{"$error":"#VALUE!"}},{"$error":"#VALUE!"},{"$error":"#VALUE!"}]
[null,"Time geomean",null,null,null,null,null,null,{"$f":"GEOMEAN(I3:I106)","v":7.8298365156172647},{"$f":"GEOMEAN(J3:J106)","v":2.7929804449055671},null,null,null,null,null,null,{"$f":"GEOMEAN(Q3:Q106)","v":{"$error":"#NUM!"}},{"$f":"GEOMEAN(R3:R106)","v":{"$error":"#NUM!"}}]
[null,"Time ratio",null,null,null,null,null,null,null,null,null,null,null,null,null,null,{"$f":"Q115/I115","v":{"$error":"#NUM!"}},{"$f":"R115/J115","v":{"$error":"#NUM!"}}]
[null,"Time sum (hours)"]

{"sheet":"RA-10","index":3,"n_rows":117,"n_cols":27,"rows_kept":117,"cut":false,"hidden":false,"merged":[[0,3,0,9],[0,11,0,17],[0,21,0,23],[0,24,0,26]]}
[null,null,null,"Reference",null,null,null,null,null,null,null,"Tested",null,null,null,null,null,null,null,null,null,"BD-rate (piecewise cubic)",null,null,"BD-rate (cubic)"]
[null,null,"QPISlice","kbps","Y psnr","U psnr","V psnr","Enc T [s]","Dec T [s]","Enc T [h]",null,"kbps","Y psnr","U psnr","V psnr","Enc T [s]","Dec T [s]","Enc T [h]","Enc","Dec",null,"Y","U","V","Y","U","V"]
["Class A1","Tango2",22,27814.502899999999,40.3416,49.154800000000002,47.471899999999998,518438.89,154.99,144.01080277777777,null,27814.502857142899,40.341635714285701,49.154808163265301,47.471886734693904,593644.02300000004,195.447,{"$f":"P3/3600","v":164.90111750000003},{"$f":"P3/H3","v":1.1450607476611179},{"$f":"Q3/I3","v":1.2610297438544422},null,{"$f":"bdrate($D3:$D6,E3:E6,$L3:$L6,M3:M6)","v":5.9794491380493753E-7},{"$f":"bdrate($D3:$D6,F3:F6,$L3:$L6,N3:N6)","v":4.9896450597941566E-6},{"$f":"bdrate($D3:$D6,G3:G6,$L3:$L6,O3:O6)","v":1.1018336752544045E-5},{"$f":"bdrateOld($D3:$D6,E3:E6,$L3:$L6,M3:M6)","v":-5.1914037685341086E-6},{"$f":"bdrateOld($D3:$D6,F3:F6,$L3:$L6,N3:N6)","v":4.4692882070762607E-6},{"$f":"bdrateOld($D3:$D6,G3:G6,$L3:$L6,O3:O6)","v":9.8478102739107953E-6}]
["4K",null,27,7405.7518,39.603400000000001,48.387700000000002,46.276499999999999,235280.51,125.24,65.355697222222219,null,7405.7518367346902,39.603391496598597,48.387687074829898,46.276438775510201,307304.94699999999,152.91300000000001,{"$f":"P4/3600","v":85.362485277777779},{"$f":"P4/H4","v":1.306121561025178},1.2209597572660493]
[null,null,32,3683.9070000000002,38.6873,47.596899999999998,45.098700000000001,130390.01,110.48,36.219447222222222,null,3683.9069387755098,38.687281632653097,47.596891496598602,45.098730272108803,207365.06700000001,140.10400000000001,57.601407500000001,1.5903447434354827,1.2681390296886315]
[null,null,37,2033.2783999999999,37.288400000000003,46.685499999999998,43.8142,75471.05,94.85,20.964180555555558,null,2033.2783673469401,37.288392176870801,46.685512585033997,43.814258503401398,124500.80899999999,121.25,34.583558055555557,1.6496498856183925,1.2783342119135477]
[null,"FoodMarket4",22,17144.0864,44.1999,49.0548,49.705100000000002,330241.19,143.41,91.733663888888884,null,17144.0864,44.199860000000001,49.054780666666701,49.705097000000002,392810.56599999999,178.666,109.11404611111111,1.1894656932407492,1.2458405968900357,null,{"$f":"bdrate($D7:$D10,E7:E10,$L7:$L10,M7:M10)","v":8.0247672589184305E-6},{"$f":"bdrate($D7:$D10,F7:F10,$L7:$L10,N7:N10)","v":-1.3058242436581047E-5},{"$f":"bdrate($D7:$D10,G7:G10,$L7:$L10,O7:O10)","v":2.1535013687845606E-6},{"$f":"bdrateOld($D7:$D10,E7:E10,$L7:$L10,M7:M10)","v":8.3063241307357316E-6},{"$f":"bdrateOld($D7:$D10,F7:F10,$L7:$L10,N7:N10)","v":-1.3729630666703407E-5},{"$f":"bdrateOld($D7:$D10,G7:G10,$L7:$L10,O7:O10)","v":2.9506373160348431E-6}]
[null,null,27,7444.7551999999996,42.707900000000002,47.296300000000002,47.7729,190897.71,132.34,53.027141666666665,null,7444.7551999999996,42.707875666666702,47.296359333333299,47.772879666666697,244609.85399999999,158.114,67.947181666666665,1.2813660991533109,1.1947559316910987]
[null,null,32,3921.4992000000002,40.799599999999998,45.823799999999999,46.181100000000001,112228.97,116.64,31.174713888888888,null,3921.4992000000002,40.799589333333302,45.823811999999997,46.181121333333301,169043.16099999999,145.11699999999999,46.956433611111109,1.5062346290801742,1.2441443758573387]
[null,null,37,2090.4976000000001,38.446599999999997,44.461199999999998,44.698099999999997,67870.350000000006,100.94,18.852875000000001,null,2090.4976000000001,38.446577333333302,44.461230999999998,44.6980723333333,112629.398,127.786,31.285943888888887,1.6594786677835018,1.2659599762234992]
[null,"Campfire",22,59929.800799999997,39.53,42.199100000000001,42.592399999999998,776734.38,224.81,215.75954999999999,null,59929.800799999997,39.53002,42.199113333333301,42.592351999999998,896294.603,273.125,248.97072305555557,1.1539267812504965,1.2149148169565411,null,{"$f":"bdrate($D11:$D14,E11:E14,$L11:$L14,M11:M14)","v":-1.0766804324546797E-5},{"$f":"bdrate($D11:$D14,F11:F14,$L11:$L14,N11:N14)","v":-8.5068740854898905E-6},{"$f":"bdrate($D11:$D14,G11:G14,$L11:$L14,O11:O14)","v":-8.5545882883009128E-6},{"$f":"bdrateOld($D11:$D14,E11:E14,$L11:$L14,M11:M14)","v":-1.1615621080429683E-5},{"$f":"bdrateOld($D11:$D14,F11:F14,$L11:$L14,N11:N14)","v":-1.0972518008856014E-5},{"$f":"bdrateOld($D11:$D14,G11:G14,$L11:$L14,O11:O14)","v":-9.060780045033745E-6}]
[null,null,27,17556.675200000001,37.556699999999999,39.0473,41.0839,419999.58,146.78,116.66655,null,17556.675200000001,37.556728333333297,39.047342,41.083953999999999,542808.17700000003,185.40199999999999,150.78004916666669,1.2924017138302852,1.2631284916201115]
[null,null,32,8964.0072,36.439500000000002,37.417999999999999,39.9544,273224.52,123.2,75.895700000000005,null,8964.0072,36.439510333333303,37.417988000000001,39.9544,402043.18,155.03200000000001,111.67866111111111,1.4714754737239542,1.2583766233766234]
[null,null,37,4924.7704000000003,35.061399999999999,35.338099999999997,38.6402,174883.96,109.3,48.578877777777777,null,4924.7704000000003,35.061388333333298,35.338132000000002,38.640207666666697,289530.35700000002,139.40700000000001,80.425099166666669,1.6555569590258594,1.2754528819762123]
["Class A2","CatRobot1",22,33310.767999999996,40.393900000000002,41.851799999999997,43.533799999999999,397232.66,156.86000000000001,110.34240555555554,null,33310.767999999996,40.393914666666703,41.851834666666697,43.533821666666697,459086.00900000002,197.584,127.5238913888889,{"$f":"P15/H15","v":1.1557106331589151},{"$f":"Q15/I15","v":1.2596200433507585},null,{"$f":"bdrate($D15:$D18,E15:E18,$L15:$L18,M15:M18)","v":-4.734594373223544E-6},{"$f":"bdrate($D15:$D18,F15:F18,$L15:$L18,N15:N18)","v":-1.2140588067532931E-5},{"$f":"bdrate($D15:$D18,G15:G18,$L15:$L18,O15:O18)","v":-5.7312766641448576E-6},{"$f":"bdrateOld($D15:$D18,E15:E18,$L15:$L18,M15:M18)","v":-3.1389548164062475E-6},{"$f":"bdrateOld($D15:$D18,F15:F18,$L15:$L18,N15:N18)","v":-1.6745164693965364E-5},{"$f":"bdrateOld($D15:$D18,G15:G18,$L15:$L18,O15:O18)","v":-7.8281783982836473E-6}]
["4K",null,27,8627.8191999999999,39.381500000000003,41.328499999999998,42.381799999999998,201165.03,109.71,55.879174999999996,null,8627.8191999999999,39.381520666666702,41.328511333333303,42.3818183333333,276253.05499999999,142.94499999999999,76.736959722222224,{"$f":"P16/H16","v":1.3732657957498875},{"$f":"Q16/I16","v":1.3029350104821804}]
[null,null,32,4241.5375999999997,38.115499999999997,40.745699999999999,41.218299999999999,124680.98,92.09,34.633605555555555,null,4241.5375999999997,38.115492000000003,40.745679000000003,41.218265000000002,197760.736,123.404,54.933537777777779,1.5861339556362166,1.3400369204039526]
[null,null,37,2271.5136000000002,36.377899999999997,40.091200000000001,40.027500000000003,78406.16,81.97,21.779488888888888,null,2271.5136000000002,36.377872666666697,40.0912133333333,40.027555333333297,135306.53099999999,112.639,37.585147499999998,1.7257130179567521,1.3741490789313162]
[null,"DaylightRoad2",22,56859.683199999999,38.152000000000001,45.6233,43.379100000000001,570123.1,174.86,158.36752777777778,null,56859.683199999999,38.152001666666699,45.623272999999998,43.379143999999997,606886.853,225.745,168.5796813888889,1.0644838860239132,1.2910042319569941,null,{"$f":"bdrate($D19:$D22,E19:E22,$L19:$L22,M19:M22)","v":-1.1678871087217324E-5},{"$f":"bdrate($D19:$D22,F19:F22,$L19:$L22,N19:N22)","v":4.2132161900187981E-5},{"$f":"bdrate($D19:$D22,G19:G22,$L19:$L22,O19:O22)","v":-2.9439142342435609E-5},{"$f":"bdrateOld($D19:$D22,E19:E22,$L19:$L22,M19:M22)","v":-1.4913793432436151E-5},{"$f":"bdrateOld($D19:$D22,F19:F22,$L19:$L22,N19:N22)","v":3.7650622260798627E-5},{"$f":"bdrateOld($D19:$D22,G19:G22,$L19:$L22,O19:O22)","v":-3.0241389128438101E-5}]
[null,null,27,10304.460800000001,37.231400000000001,44.838900000000002,42.423000000000002,239285.31,118.62,66.468141666666668,null,10304.460800000001,37.231392333333297,44.838852666666703,42.423016333333301,276552.19099999999,154.50800000000001,76.820053055555547,1.1557424523887405,1.3025459450345642]
[null,null,32,4253.6783999999998,36.295999999999999,44.004399999999997,41.448399999999999,142222.92000000001,98.35,39.506366666666672,null,4253.6783999999998,36.2960383333333,44.004367000000002,41.448427000000002,173324.209,125.316,48.145613611111109,1.2186798653831603,1.2741840366039656]
[null,null,37,2155.1424000000002,34.9313,43.075499999999998,40.401600000000002,81866.36,79.88,22.740655555555556,null,2155.1424000000002,34.9313516666667,43.075539999999997,40.401626666666701,112142.59,109.979,31.150719444444444,1.3698250416898956,1.3768027040560842]
[null,"ParkRunning3",22,110984.3027,43.116700000000002,37.941899999999997,38.862900000000003,551528.59,231.28,153.20238611111111,null,110984.302666667,43.116695,37.941864333333299,38.862907999999997,662724.20299999998,287.57499999999999,184.09005638888888,1.2016135065636397,1.2434062608094085,null,{"$f":"bdrate($D23:$D26,E23:E26,$L23:$L26,M23:M26)","v":5.5066169428741318E-6},{"$f":"bdrate($D23:$D26,F23:F26,$L23:$L26,N23:N26)","v":-1.3758166702459995E-5},{"$f":"bdrate($D23:$D26,G23:G26,$L23:$L26,O23:O26)","v":5.8332378218839409E-6},{"$f":"bdrateOld($D23:$D26,E23:E26,$L23:$L26,M23:M26)","v":5.1139938426203457E-6},{"$f":"bdrateOld($D23:$D26,F23:F26,$L23:$L26,N23:N26)","v":-1.585810137927357E-5},{"$f":"bdrateOld($D23:$D26,G23:G26,$L23:$L26,O23:O26)","v":8.4411670366879576E-6}]
[null,null,27,43740.142699999997,39.183500000000002,35.035400000000003,36.2958,352246.59,184.63,97.846275000000006,null,43740.142666666703,39.183469000000002,35.035455666666699,36.295784333333302,468342.81800000003,233.30799999999999,130.09522722222223,1.3295879400848138,1.2636516275794833]
[null,null,32,20672.729299999999,35.968499999999999,33.312800000000003,34.7605,246505.32,155.46,68.473700000000008,null,20672.7293333333,35.968463999999997,33.312827666666699,34.760497999999998,361144.80800000002,194.87700000000001,100.31800222222223,1.4650588798651485,1.2535507526051717]
[null,null,37,9259.5573000000004,33.056399999999996,31.8324,33.444400000000002,169635.9,132.69,47.121083333333331,null,9259.5573333333305,33.056420000000003,31.832436000000001,33.444353999999997,278709.75,165.19399999999999,77.419375000000002,1.6429880113820248,1.2449619413670963]
["Class B","MarketPlace",22,14158.7312,40.819099999999999,44.295299999999997,45.219000000000001,208085.42,85.01,57.801505555555558,null,14158.7312,40.819126666666698,44.295338333333298,45.218996500000003,247439.527,100.76,68.733201944444446,1.1891247690491722,1.185272320903423,null,{"$f":"bdrate($D27:$D30,E27:E30,$L27:$L30,M27:M30)","v":-5.752800057434726E-7},{"$f":"bdrate($D27:$D30,F27:F30,$L27:$L30,N27:N30)","v":6.8324062787450401E-6},{"$f":"bdrate($D27:$D30,G27:G30,$L27:$L30,O27:O30)","v":2.5477428418962944E-5},{"$f":"bdrateOld($D27:$D30,E27:E30,$L27:$L30,M27:M30)","v":-7.0134454255299516E-7},{"$f":"bdrateOld($D27:$D30,F27:F30,$L27:$L30,N27:N30)","v":1.0838286463865643E-5},{"$f":"bdrateOld($D27:$D30,G27:G30,$L27:$L30,O27:O30)","v":2.5346369699752458E-5}]
["1080p",null,27,5418.8447999999999,38.7166,42.800199999999997,43.915100000000002,115125.29,65.239999999999995,31.97924722222222,null,5418.8447999999999,38.716617166666701,42.800141000000004,43.915061166666703,156375.269,78.805000000000007,43.437574722222223,1.3583051039437122,1.2079245861434704]
[null,null,32,2459.4751999999999,36.532699999999998,41.615000000000002,42.744799999999998,76725.149999999994,51.96,21.312541666666664,null,2459.4751999999999,36.532660833333303,41.615042333333299,42.744754666666701,118291.482,65.786000000000001,32.858744999999999,1.5417562820014039,1.2660892994611239]
[null,null,37,1102.5296000000001,34.227600000000002,40.540799999999997,41.6113,49576.26,44.11,13.771183333333333,null,1102.5296000000001,34.2276405,40.540757333333303,41.611259166666699,83090.498000000007,56.726999999999997,23.080693888888892,1.6760138421091064,1.2860349127182045]
[null,"RitualDance",22,9363.5560000000005,44.4968,47.5351,48.577399999999997,186096.42,81.89,51.693450000000006,null,9363.5560000000005,44.496745666666698,47.535119000000002,48.577423500000002,229668.33799999999,95.320999999999998,63.796760555555551,1.2341362504447961,1.1640126999633655,null,{"$f":"bdrate($D31:$D34,E31:E34,$L31:$L34,M31:M34)","v":-6.5963277739999882E-7},{"$f":"bdrate($D31:$D34,F31:F34,$L31:$L34,N31:N34)","v":-2.5307431048560147E-6},{"$f":"bdrate($D31:$D34,G31:G34,$L31:$L34,O31:O34)","v":4.834257141261844E-7},{"$f":"bdrateOld($D31:$D34,E31:E34,$L31:$L34,M31:M34)","v":-7.9241871753232829E-7},{"$f":"bdrateOld($D31:$D34,F31:F34,$L31:$L34,N31:N34)","v":1.2653869796430683E-7},{"$f":"bdrateOld($D31:$D34,G31:G34,$L31:$L34,O31:O34)","v":2.8908011093786712E-6}]
[null,null,27,4630.9736000000003,41.346200000000003,45.418700000000001,46.234000000000002,129078.36,69.180000000000007,35.8551,null,4630.9736000000003,41.346232499999999,45.418675333333297,46.233975166666703,173976.61,80.597999999999999,48.326836111111106,1.3478371587615461,1.1650477016478751]
[null,null,32,2465.2224000000001,38.2956,43.910600000000002,44.557099999999998,90614.79,57.03,25.170774999999999,null,2465.2224000000001,38.2955756666667,43.910643999999998,44.557134333333302,135272.60500000001,69.084999999999994,37.575723611111115,1.4928314130618194,1.2113799754515167]
[null,null,37,1292.4423999999999,35.334499999999998,42.619799999999998,43.038699999999999,59120.63,49.44,16.422397222222223,null,1292.4423999999999,35.3345555,42.619800333333302,43.03866,98196.915999999997,59.598999999999997,27.276921111111111,1.6609585520316681,1.2054813915857605]
[null,"Cactus",22,14682.161599999999,38.677599999999998,40.222900000000003,43.986499999999999,184745.55,74.819999999999993,51.318208333333331,null,14682.161599999999,38.677593199999997,40.222918200000002,43.9865104,220499.084,89.762,61.249745555555556,1.1935285261268811,1.1997059609730021,null,{"$f":"bdrate($D35:$D38,E35:E38,$L35:$L38,M35:M38)","v":8.5160673484185878E-6},{"$f":"bdrate($D35:$D38,F35:F38,$L35:$L38,N35:N38)","v":-4.1658926315246703E-6},{"$f":"bdrate($D35:$D38,G35:G38,$L35:$L38,O35:O38)","v":-8.5128970959136296E-6},{"$f":"bdrateOld($D35:$D38,E35:E38,$L35:$L38,M35:M38)","v":7.6913630644437347E-6},{"$f":"bdrateOld($D35:$D38,F35:F38,$L35:$L38,N35:N38)","v":-5.031154018064754E-6},{"$f":"bdrateOld($D35:$D38,G35:G38,$L35:$L38,O35:O38)","v":-7.8531463028053139E-6}]
[null,null,27,4352.5039999999999,37.155700000000003,39.399900000000002,42.490699999999997,101366.94,47.87,28.157483333333335,null,4352.5039999999999,37.155680400000001,39.399909999999998,42.490728400000002,139707.95600000001,60.284999999999997,38.807765555555555,1.3782398482187586,1.2593482348025904]
[null,null,32,2027.4639999999999,35.470799999999997,38.770200000000003,41.146900000000002,66626.23,39.22,18.50728611111111,null,2027.4639999999999,35.470768999999997,38.770197199999998,41.146912399999998,105741.856,50.820999999999998,29.372737777777779,1.5870904897365499,1.2957929627740947]
[null,null,37,989.02480000000003,33.371400000000001,38.010199999999998,39.857500000000002,43370.54,34.47,12.047372222222222,null,989.02480000000003,33.3714254,38.010162000000001,39.857456200000001,75454.721999999994,45.436,20.959644999999998,1.7397690229358451,1.3181317087322311]
[null,"BasketballDrive",22,14302.357599999999,39.420900000000003,44.226700000000001,45.743200000000002,229276.46,78.72,63.687905555555552,null,14302.357599999999,39.420927200000001,44.226675399999998,45.743185599999997,279446.25699999998,91.826999999999998,77.623960277777769,1.2188179152800946,1.1665015243902439,null,{"$f":"bdrate($D39:$D42,E39:E42,$L39:$L42,M39:M42)","v":-5.258890074077982E-6},{"$f":"bdrate($D39:$D42,F39:F42,$L39:$L42,N39:N42)","v":4.7312103523822202E-7},{"$f":"bdrate($D39:$D42,G39:G42,$L39:$L42,O39:O42)","v":1.3438361201600912E-7},{"$f":"bdrateOld($D39:$D42,E39:E42,$L39:$L42,M39:M42)","v":-5.8563985138038177E-6},{"$f":"bdrateOld($D39:$D42,F39:F42,$L39:$L42,N39:N42)","v":-6.0740632934486172E-7},{"$f":"bdrateOld($D39:$D42,G39:G42,$L39:$L42,O39:O42)","v":6.619978998312348E-7}]
[null,null,27,4626.7120000000004,37.776600000000002,43.129899999999999,43.941000000000003,134084.64000000001,59.01,37.245733333333334,null,4626.7120000000004,37.776597799999998,43.129932199999999,43.940969000000003,182870.09400000001,70.010000000000005,50.797248333333336,1.3638407352251531,1.1864090832062364]
[null,null,32,2185.6759999999999,36.068899999999999,42.129199999999997,42.472900000000003,86123.92,50.91,23.923311111111111,null,2185.6759999999999,36.0689092,42.129161799999999,42.472935,136387.23699999999,61.42,37.885343611111111,1.5836162241570053,1.2064427420938912]
[null,null,37,1102.6384,34.083599999999997,41.133499999999998,40.988500000000002,53433.26,43.69,14.842572222222223,null,1102.6384,34.083638999999998,41.133527399999998,40.988552800000001,91876.573999999993,53.137999999999998,25.521270555555553,1.7194641315165871,1.2162508583199818]
[null,"BQTerrace",22,32123.000800000002,37.4193,42.507800000000003,44.733199999999997,223252.77,126.51,62.01465833333333,null,32123.000800000002,37.419261833333302,42.5078368333333,44.733142999999998,251875.875,145.453,69.965520833333329,1.1282094058676182,1.1497351987985138,null,{"$f":"bdrate($D43:$D46,E43:E46,$L43:$L46,M43:M46)","v":1.8439439426476412E-5},{"$f":"bdrate($D43:$D46,F43:F46,$L43:$L46,N43:N46)","v":-1.1372905245887743E-5},{"$f":"bdrate($D43:$D46,G43:G46,$L43:$L46,O43:O46)","v":2.7495292028723028E-5},{"$f":"bdrateOld($D43:$D46,E43:E46,$L43:$L46,M43:M46)","v":1.9117768401244462E-5},{"$f":"bdrateOld($D43:$D46,F43:F46,$L43:$L46,N43:N46)","v":-1.1792838081059465E-5},{"$f":"bdrateOld($D43:$D46,G43:G46,$L43:$L46,O43:O46)","v":2.757918324314268E-5}]
[null,null,27,5543.2335999999996,35.462600000000002,41.470799999999997,43.8078,88893.17,61.53,24.69254722222222,null,5543.2335999999996,35.462562333333302,41.470773833333297,43.807768666666703,123315.378,75.531999999999996,34.254271666666668,1.3872311899778127,1.2275637900211278]
[null,null,32,1737.6343999999999,34.177399999999999,40.392899999999997,42.892600000000002,51495.97,45.11,14.304436111111112,null,1737.6343999999999,34.177412500000003,40.392946999999999,42.892617000000001,84132.172000000006,57.277999999999999,23.370047777777778,1.6337622536287792,1.2697406340057638]
[null,null,37,775.66719999999998,32.640999999999998,39.280200000000001,41.9878,32421.119999999999,37.75,9.005866666666666,null,775.66719999999998,32.640967666666697,39.280189333333297,41.987804500000003,57358.572,49.942,15.932936666666667,1.7691730575624778,1.3229668874172185]
["Class C","BasketballDrill",22,2854.98,41.308599999999998,43.764099999999999,44.562899999999999,37051.57,15.11,10.292102777777778,null,2854.98,41.308641999999999,43.764120800000001,44.562862199999998,45699.898999999998,15.611000000000001,12.694416388888888,{"$f":"P47/H47","v":1.2334132939575839},1.0331568497683654,null,{"$f":"bdrate($D47:$D50,E47:E50,$L47:$L50,M47:M50)","v":2.4754856784436896E-6},{"$f":"bdrate($D47:$D50,F47:F50,$L47:$L50,N47:N50)","v":1.4504146725879963E-6},{"$f":"bdrate($D47:$D50,G47:G50,$L47:$L50,O47:O50)","v":-6.5508493396482237E-7},{"$f":"bdrateOld($D47:$D50,E47:E50,$L47:$L50,M47:M50)","v":2.6628514508963974E-6},{"$f":"bdrateOld($D47:$D50,F47:F50,$L47:$L50,N47:N50)","v":2.2961232588603053E-6},{"$f":"bdrateOld($D47:$D50,G47:G50,$L47:$L50,O47:O50)","v":-1.8398546144382522E-6}]
["WVGA",null,27,1310.2064,38.1098,41.564799999999998,41.9758,26049.96,11.09,7.2360999999999995,null,1310.2064,38.109774799999997,41.564779999999999,41.975820400000003,35575.557000000001,12.067,9.8820991666666664,1.3656664731922814,1.0880973850315601]
[null,null,32,661.24400000000003,35.207700000000003,39.847499999999997,40.0824,18559.349999999999,8.81,5.1553749999999994,null,661.24400000000003,35.207693599999999,39.847509600000002,40.082389200000001,28380.927,9.8510000000000009,7.8835908333333329,1.5291983286052584,1.1181611804767311]
[null,null,37,339.8272,32.604799999999997,38.333199999999998,38.394799999999996,12172.4,7.44,3.3812222222222221,null,339.8272,32.604767600000002,38.333188999999997,38.394813200000002,20253.258000000002,8.4250000000000007,5.6259050000000004,1.6638672735039928,1.1323924731182795]
[null,"BQMall",22,2895.0088000000001,40.510599999999997,44.111800000000002,45.879300000000001,33377.17,16.23,9.271436111111111,null,2895.0088000000001,40.510567833333297,44.111838166666701,45.8792956666667,41473.400999999998,17.094999999999999,11.520389166666666,1.2425679289166818,1.0532963647566234,null,{"$f":"bdrate($D51:$D54,E51:E54,$L51:$L54,M51:M54)","v":3.9387829000592234E-6},{"$f":"bdrate($D51:$D54,F51:F54,$L51:$L54,N51:N54)","v":1.7396303297889659E-6},{"$f":"bdrate($D51:$D54,G51:G54,$L51:$L54,O51:O54)","v":-5.7053234785442442E-6},{"$f":"bdrateOld($D51:$D54,E51:E54,$L51:$L54,M51:M54)","v":3.9717745790035508E-6},{"$f":"bdrateOld($D51:$D54,F51:F54,$L51:$L54,N51:N54)","v":1.0971679624827146E-6},{"$f":"bdrateOld($D51:$D54,G51:G54,$L51:$L54,O51:O54)","v":-5.739812755534146E-6}]
[null,null,27,1292.5984000000001,37.990699999999997,42.349200000000003,43.726399999999998,23513.22,12.5,6.5314500000000004,null,1292.5984000000001,37.990690166666703,42.349205499999997,43.726408166666701,31262.035,13.113,8.6838986111111112,1.3295514183085089,1.04904]
[null,null,32,650.51440000000002,35.338000000000001,40.847000000000001,41.971800000000002,16145.77,9.4700000000000006,4.4849361111111108,null,650.51440000000002,35.337979666666698,40.846960666666703,41.971821499999997,24810.576000000001,10.8,6.8918266666666668,1.5366610573543411,1.1404435058078142]
[null,null,37,334.45920000000001,32.597900000000003,39.434399999999997,40.399799999999999,11207.49,8.0299999999999994,3.1131916666666668,null,334.45920000000001,32.597912666666701,39.4344155,40.399839333333297,18626.385999999999,9.2270000000000003,5.1739961111111104,1.6619587436616048,1.1490660024906603]
[null,"PartyScene",22,5576.8040000000001,38.756599999999999,42.240900000000003,43.501100000000001,35560.629999999997,19.309999999999999,9.8779527777777769,null,5576.8040000000001,38.756606599999998,42.240867199999997,43.501111399999999,44718.843999999997,20.259,12.42190111111111,1.257538013246672,1.0491455204557225,null,{"$f":"bdrate($D55:$D58,E55:E58,$L55:$L58,M55:M58)","v":2.1817139852498002E-6},{"$f":"bdrate($D55:$D58,F55:F58,$L55:$L58,N55:N58)","v":-2.4001101166515326E-6},{"$f":"bdrate($D55:$D58,G55:G58,$L55:$L58,O55:O58)","v":3.9001602418764492E-6},{"$f":"bdrateOld($D55:$D58,E55:E58,$L55:$L58,M55:M58)","v":2.1759667581111586E-6},{"$f":"bdrateOld($D55:$D58,F55:F58,$L55:$L58,N55:N58)","v":-4.3509372071870445E-7},{"$f":"bdrateOld($D55:$D58,G55:G58,$L55:$L58,O55:O58)","v":2.2801703167818488E-6}]
[null,null,27,2460.6376,35.306899999999999,39.825699999999998,40.956400000000002,23956.81,14.51,6.654669444444445,null,2460.6376,35.306877800000002,39.825701199999997,40.956415200000002,33418.349000000002,15.173,9.282874722222223,1.3949415218470238,1.0456926257753274]
[null,null,32,1189.9136000000001,32.2712,38.093299999999999,39.0548,17324.87,11.15,4.8124638888888889,null,1189.9136000000001,32.271191999999999,38.093339800000003,39.054750400000003,27225.3,12.269,7.5625833333333334,1.5714576790475197,1.1003587443946188]
[null,null,37,557.56399999999996,29.419899999999998,36.600099999999998,37.380600000000001,12058.02,8.7799999999999994,3.34945,null,557.56399999999996,29.419913000000001,36.6000722,37.380588000000003,20403.641,10.007999999999999,5.6676780555555553,1.6921220067639628,1.1398633257403188]
[null,"RaceHorses",22,4204.8216000000002,39.383699999999997,41.651499999999999,43.197699999999998,30951.96,13.36,8.5977666666666668,null,4204.8216000000002,39.383725666666699,41.6514843333333,43.197734666666697,37960.514999999999,13.952999999999999,10.5445875,1.2264333179546627,1.0443862275449103,null,{"$f":"bdrate($D59:$D62,E59:E62,$L59:$L62,M59:M62)","v":-7.1712169091853184E-8},{"$f":"bdrate($D59:$D62,F59:F62,$L59:$L62,N59:N62)","v":-5.1648102025181331E-6},{"$f":"bdrate($D59:$D62,G59:G62,$L59:$L62,O59:O62)","v":-1.1521198058139781E-5},{"$f":"bdrateOld($D59:$D62,E59:E62,$L59:$L62,M59:M62)","v":-3.9896333658973049E-7},{"$f":"bdrateOld($D59:$D62,F59:F62,$L59:$L62,N59:N62)","v":-4.2343150418178155E-6},{"$f":"bdrateOld($D59:$D62,G59:G62,$L59:$L62,O59:O62)","v":-1.0216996561229763E-5}]
[null,null,27,1614.6648,35.989600000000003,39.518799999999999,41.156300000000002,20653.240000000002,9.2899999999999991,5.7370111111111113,null,1614.6648,35.98959,39.518791666666701,41.156308666666703,27989.651999999998,10.010999999999999,{"$f":"P60/3600","v":7.7749033333333326},1.3552184548283948,1.0776103336921421]
[null,null,32,771.33439999999996,33.304900000000004,37.945,39.741100000000003,14950.97,6.96,4.1530472222222219,null,771.33439999999996,33.304880333333301,37.945039999999999,39.741137666666702,22829.876,7.7690000000000001,6.3416322222222226,1.5269829315422345,1.116235632183908]
[null,null,37,372.95440000000002,30.678599999999999,36.488,38.397500000000001,9988.25,5.4,2.7745138888888889,null,372.95440000000002,30.678660000000001,36.488039000000001,38.397522000000002,16640.88,6.26,4.6224666666666669,1.6660456035842115,1.1592592592592592]
["Class D","BasketballPass",{"$f":"C59","v":22},1274.56,41.310400000000001,44.683100000000003,43.836599999999997,9542.31,4.72,2.6506416666666666,null,1274.56,41.310383999999999,44.683070800000003,43.8365978,12101.633,4.82,3.361564722222222,{"$f":"P63/H63","v":1.2682079077288413},1.0211864406779663,null,{"$f":"bdrate($D63:$D66,E63:E66,$L63:$L66,M63:M66)","v":-1.0835974957323913E-6},{"$f":"bdrate($D63:$D66,F63:F66,$L63:$L66,N63:N66)","v":-3.719968237225757E-6},{"$f":"bdrate($D63:$D66,G63:G66,$L63:$L66,O63:O66)","v":-1.4894350657268518E-6},{"$f":"bdrateOld($D63:$D66,E63:E66,$L63:$L66,M63:M66)","v":-8.4066037098207147E-7},{"$f":"bdrateOld($D63:$D66,F63:F66,$L63:$L66,N63:N66)","v":-5.0800067631362467E-6},{"$f":"bdrateOld($D63:$D66,G63:G66,$L63:$L66,O63:O66)","v":-2.2115164793889974E-6}]
["WQVGA",null,{"$f":"C60","v":27},602.76959999999997,37.231099999999998,42.184100000000001,40.887799999999999,7219.7,3.5,2.0054722222222221,null,602.76959999999997,37.231096999999998,42.184131800000003,40.887807000000002,9830.5769999999993,3.7069999999999999,2.730715833333333,{"$f":"P64/H64","v":1.3616323392938765},1.0591428571428572]
[null,null,{"$f":"C61","v":32},304.67840000000001,33.930199999999999,40.383400000000002,38.897300000000001,5506.45,2.7,1.5295694444444443,null,304.67840000000001,33.930223400000003,40.383395999999998,38.897295999999997,8213.0720000000001,2.9420000000000002,2.281408888888889,{"$f":"P65/H65","v":1.491536652471193},1.0896296296296297]
[null,null,{"$f":"C62","v":37},153.54640000000001,31.008600000000001,38.746099999999998,37.096499999999999,3804.46,2.17,1.0567944444444444,null,153.54640000000001,31.008604399999999,38.746114800000001,37.096525999999997,6243.3360000000002,2.4380000000000002,1.7342600000000001,{"$f":"P66/H66","v":1.6410570751170994},1.1235023041474657]
[null,"BQSquare",22,1279.7775999999999,38.453699999999998,44.045299999999997,45.422499999999999,7995.6,5.07,2.2210000000000001,null,1279.7775999999999,38.453749999999999,44.045279999999998,45.422480166666702,9759.7250000000004,5.2830000000000004,2.7110347222222222,1.220636975336435,1.0420118343195266,null,{"$f":"bdrate($D67:$D70,E67:E70,$L67:$L70,M67:M70)","v":-1.3733486559086572E-6},{"$f":"bdrate($D67:$D70,F67:F70,$L67:$L70,N67:N70)","v":1.3934025346662438E-5},{"$f":"bdrate($D67:$D70,G67:G70,$L67:$L70,O67:O70)","v":3.8723224629055863E-6},{"$f":"bdrateOld($D67:$D70,E67:E70,$L67:$L70,M67:M70)","v":-1.5194932103668179E-6},{"$f":"bdrateOld($D67:$D70,F67:F70,$L67:$L70,N67:N70)","v":1.3953256324361618E-5},{"$f":"bdrateOld($D67:$D70,G67:G70,$L67:$L70,O67:O70)","v":2.78483972726562E-6}]
[null,null,27,467.18079999999998,35.244999999999997,41.889899999999997,43.176600000000001,4075.93,3.52,1.1322027777777777,null,467.18079999999998,35.245004166666703,41.889861833333299,43.176606833333302,5742.7640000000001,3.734,1.5952122222222223,1.408945688468644,1.0607954545454545]
[null,null,32,212.6592,32.511899999999997,40.201000000000001,41.439399999999999,2735.34,2.74,0.7598166666666667,null,212.6592,32.5118765,40.200974166666697,41.439373666666697,4377.1790000000001,3.04,1.2158830555555555,1.6002321466435616,1.1094890510948905]
[null,null,37,112.1392,29.9955,38.973300000000002,39.997799999999998,1866.91,2.2200000000000002,0.51858611111111108,null,112.1392,29.995522999999999,38.973288666666697,39.997793333333298,3302.1790000000001,2.609,0.91727194444444449,1.7687938893679931,1.1752252252252251]
[null,"BlowingBubbles",22,1347.6320000000001,38.554600000000001,41.944600000000001,43.101500000000001,7740.41,4.63,2.1501138888888889,null,1347.6320000000001,38.5546638,41.944572999999998,43.101485599999997,9396.8979999999992,4.8630000000000004,2.6102494444444444,{"$f":"P71/H71","v":1.2140052012748679},1.0503239740820736,null,{"$f":"bdrate($D71:$D74,E71:E74,$L71:$L74,M71:M74)","v":-1.9251601024450338E-7},{"$f":"bdrate($D71:$D74,F71:F74,$L71:$L74,N71:N74)","v":6.2946006311737079E-6},{"$f":"bdrate($D71:$D74,G71:G74,$L71:$L74,O71:O74)","v":-3.052773816625276E-6},{"$f":"bdrateOld($D71:$D74,E71:E74,$L71:$L74,M71:M74)","v":-4.9100548649150255E-7},{"$f":"bdrateOld($D71:$D74,F71:F74,$L71:$L74,N71:N74)","v":5.4471055714877537E-6},{"$f":"bdrateOld($D71:$D74,G71:G74,$L71:$L74,O71:O74)","v":-3.8771352668387493E-6}]
[null,null,27,599.60559999999998,35.222099999999998,39.5334,40.448799999999999,5395.49,3.32,1.4987472222222222,null,599.60559999999998,35.222118199999997,39.533400800000003,40.448842599999999,7231.4970000000003,3.6080000000000001,2.0087491666666666,1.340285497702711,1.0867469879518072]
[null,null,32,289.80399999999997,32.214300000000001,37.665999999999997,38.403700000000001,3905.91,2.5099999999999998,1.084975,null,289.80399999999997,32.214257600000003,37.6659656,38.403687400000003,5808.2250000000004,2.843,1.6133958333333334,1.4870350315291445,1.1326693227091635]
[null,null,37,135.572,29.341799999999999,35.985999999999997,36.625799999999998,2694.62,1.87,0.74850555555555554,null,135.572,29.341801199999999,35.985987600000001,36.625779600000001,4325.2569999999996,2.2890000000000001,1.2014602777777776,1.6051454379467234,1.2240641711229947]
[null,"RaceHorses",22,1021.3,39.945799999999998,42.0486,43.133800000000001,6704.3,3.42,1.8623055555555557,null,1021.3,39.945807666666703,42.048653000000002,43.133825333333299,8277.6749999999993,3.61,2.2993541666666664,1.2346814730844382,1.0555555555555556,null,{"$f":"bdrate($D75:$D78,E75:E78,$L75:$L78,M75:M78)","v":4.7760810586439106E-6},{"$f":"bdrate($D75:$D78,F75:F78,$L75:$L78,N75:N78)","v":5.0628244303574377E-6},{"$f":"bdrate($D75:$D78,G75:G78,$L75:$L78,O75:O78)","v":4.0980186601924373E-6},{"$f":"bdrateOld($D75:$D78,E75:E78,$L75:$L78,M75:M78)","v":4.8081605819039197E-6},{"$f":"bdrateOld($D75:$D78,F75:F78,$L75:$L78,N75:N78)","v":5.0274662612981302E-6},{"$f":"bdrateOld($D75:$D78,G75:G78,$L75:$L78,O75:O78)","v":3.2127186218033899E-6}]
[null,null,27,481.00799999999998,36.023899999999998,39.405200000000001,40.614100000000001,4992.33,2.5499999999999998,1.3867583333333333,null,481.00799999999998,36.023862333333298,39.405183999999998,40.614089333333297,6665.9229999999998,2.657,1.8516452777777777,1.3352328471875858,1.0419607843137255]
[null,null,32,241.0592,32.7532,37.591299999999997,38.917700000000004,3725,1.85,1.0347222222222223,null,241.0592,32.753177333333298,37.591271333333303,38.917665333333296,5469.4939999999997,2.09,1.5193038888888888,1.4683205369127517,1.1297297297297295]
[null,null,37,116.7432,29.837599999999998,36.0792,37.290799999999997,2686.22,1.48,0.74617222222222213,null,116.7432,29.837596000000001,36.079171666666703,37.2908166666667,4077.924,1.677,1.1327566666666666,1.518090104310146,1.1331081081081082]
["ClassE","FourPeople",22]
["720p",null,27]
[null,null,32]
[null,null,37]
[null,"Johnny",22]
[null,null,27]
[null,null,32]
[null,null,37]
[null,"KristenAndSara",22]
[null,null,27]
[null,null,32]
[null,null,37]
["ClassF","BasketballDrillText",22,2952.4607999999998,41.436199999999999,43.7453,44.523800000000001,36075.24,15.69,10.020899999999999,null,2952.4607999999998,41.436228,43.745336999999999,44.523762599999998,43677.281999999999,15.706,12.132578333333333,{"$f":"P91/H91","v":1.2107274130400796},1.0010197578075206,null,{"$f":"bdrate($D91:$D94,E91:E94,$L91:$L94,M91:M94)","v":-6.3703307259244113E-6},{"$f":"bdrate($D91:$D94,F91:F94,$L91:$L94,N91:N94)","v":-6.0331825113557613E-6},{"$f":"bdrate($D91:$D94,G91:G94,$L91:$L94,O91:O94)","v":-5.1016221052080368E-6},{"$f":"bdrateOld($D91:$D94,E91:E94,$L91:$L94,M91:M94)","v":-6.5768234321916808E-6},{"$f":"bdrateOld($D91:$D94,F91:F94,$L91:$L94,N91:N94)","v":-6.7089708398748726E-6},{"$f":"bdrateOld($D91:$D94,G91:G94,$L91:$L94,O91:O94)","v":-5.4329496808058764E-6}]
[null,null,27,1388.2175999999999,38.156399999999998,41.303100000000001,41.724299999999999,25059.49,11.29,6.9609694444444452,null,1388.2175999999999,38.156462400000002,41.303127199999999,41.7243286,34637.853000000003,12.134,9.6216258333333347,1.382224977443675,1.0747564216120462]
[null,null,32,715.75519999999995,35.174599999999998,39.3536,39.632100000000001,17767.97,8.77,4.9355472222222225,null,715.75519999999995,35.174599399999998,39.353593600000004,39.632122600000002,28306.44,9.8789999999999996,7.8628999999999998,1.5931161522672537,1.1264538198403649]
[null,null,37,375.05279999999999,32.449100000000001,37.638300000000001,37.798499999999997,11911.85,6.93,3.3088472222222225,null,375.05279999999999,32.449094199999998,37.638331600000001,37.798516599999999,20440.929,8.3290000000000006,5.6780358333333334,1.7160163198831415,1.201875901875902]
[null,"ArenaOfValor",22,11634.1016,43.063699999999997,45.159599999999998,45.758099999999999,126715.97,75.75,35.198880555555554,null,11634.1016,43.063712166666697,45.159550166666698,45.758074666666701,154515.90100000001,93.156999999999996,42.921083611111115,1.219387745680359,1.2297953795379537,null,{"$f":"bdrate($D95:$D98,E95:E98,$L95:$L98,M95:M98)","v":2.3163232067968664E-6},{"$f":"bdrate($D95:$D98,F95:F98,$L95:$L98,N95:N98)","v":6.8356275433334446E-6},{"$f":"bdrate($D95:$D98,G95:G98,$L95:$L98,O95:O98)","v":7.2559335206889841E-7},{"$f":"bdrateOld($D95:$D98,E95:E98,$L95:$L98,M95:M98)","v":2.9962078389456082E-6},{"$f":"bdrateOld($D95:$D98,F95:F98,$L95:$L98,N95:N98)","v":8.1716550612842553E-6},{"$f":"bdrateOld($D95:$D98,G95:G98,$L95:$L98,O95:O98)","v":1.0722992307421464E-6}]
[null,null,27,4998.4776000000002,39.730899999999998,42.569099999999999,42.961300000000001,88756.13,54.94,24.654480555555558,null,4998.4776000000002,39.730859000000002,42.569059500000002,42.9612846666667,117989.317,69.734999999999999,32.774810277777775,1.3293652731366272,1.2692937750273026]
[null,null,32,2448.2471999999998,36.858400000000003,40.634,40.886200000000002,67653.08,45.94,18.792522222222221,null,2448.2471999999998,36.858433666666699,40.634024333333301,40.886215833333303,96910.114000000001,58.478000000000002,26.919476111111113,1.432456792802338,1.2729212015672617]
[null,null,37,1235.2303999999999,34.145600000000002,38.828000000000003,38.953800000000001,45494.22,38.590000000000003,12.637283333333334,null,1235.2303999999999,34.145549833333298,38.827972166666697,38.953823166666702,73342.843999999997,51.456000000000003,20.373012222222222,1.6121354317097862,1.3334024358642136]
[null,"SlideEditing",22,1275.2224000000001,50.0961,48.121699999999997,48.318399999999997,5147.12,6.67,1.4297555555555554,null,1275.2224000000001,50.096062666666697,48.121746000000002,48.318373333333298,6934.7359999999999,10.481,1.9263155555555556,1.3473041234709897,1.5713643178410794,null,{"$f":"bdrate($D99:$D102,E99:E102,$L99:$L102,M99:M102)","v":-4.3035149155379315E-7},{"$f":"bdrate($D99:$D102,F99:F102,$L99:$L102,N99:N102)","v":-4.6146033239047313E-7},{"$f":"bdrate($D99:$D102,G99:G102,$L99:$L102,O99:O102)","v":-1.07349366662568E-6},{"$f":"bdrateOld($D99:$D102,E99:E102,$L99:$L102,M99:M102)","v":-4.0160295988744821E-7},{"$f":"bdrateOld($D99:$D102,F99:F102,$L99:$L102,N99:N102)","v":-1.0479394412232779E-6},{"$f":"bdrateOld($D99:$D102,G99:G102,$L99:$L102,O99:O102)","v":-2.6676513983359129E-6}]
[null,null,27,956.35199999999998,45.791499999999999,43.568800000000003,44.190199999999997,4401.76,6.37,1.2227111111111111,null,956.35199999999998,45.791511999999997,43.568833333333302,44.190233999999997,6282.1580000000004,9.9239999999999995,1.7450438888888891,1.4271923048962234,1.5579277864992149]
[null,null,32,731.94079999999997,41.309600000000003,40.664299999999997,41.616199999999999,4045.86,6.15,1.12385,null,731.94079999999997,41.309609666666702,40.664266333333302,41.616176666666703,5947.78,9.3979999999999997,1.652161111111111,1.4700904134102513,1.528130081300813]
[null,null,37,555.97199999999998,36.472299999999997,38.910699999999999,40.052700000000002,3744.83,5.85,1.0402305555555555,null,555.97199999999998,36.4723336666667,38.910668999999999,40.052739000000003,5711.5119999999997,9.0609999999999999,1.5865311111111111,1.5251725712515654,1.548888888888889]
[null,"SlideShow",22,669.48419999999999,52.1188,55.393700000000003,56.495800000000003,13658.25,14.68,3.7939583333333333,null,669.48415999999997,52.118806599999999,55.393720199999997,56.495752400000001,16054.361000000001,20.170000000000002,4.4595447222222226,1.1754332363223694,1.3739782016348776,null,{"$f":"bdrate($D103:$D106,E103:E106,$L103:$L106,M103:M106)","v":2.388212511750254E-6},{"$f":"bdrate($D103:$D106,F103:F106,$L103:$L106,N103:N106)","v":1.8987646956958315E-6},{"$f":"bdrate($D103:$D106,G103:G106,$L103:$L106,O103:O106)","v":7.0957337710009227E-6},{"$f":"bdrateOld($D103:$D106,E103:E106,$L103:$L106,M103:M106)","v":2.4636489182050525E-6},{"$f":"bdrateOld($D103:$D106,F103:F106,$L103:$L106,N103:N106)","v":1.3790090134246924E-6},{"$f":"bdrateOld($D103:$D106,G103:G106,$L103:$L106,O103:O106)","v":6.8383582458864112E-6}]
[null,null,27,395.47199999999998,48.206800000000001,52.4925,53.690800000000003,10606.85,13.4,2.9463472222222222,null,395.47199999999998,48.206757600000003,52.492505999999999,53.690785400000003,13327.883,18.908000000000001,3.7021897222222222,1.256535446433201,1.4110447761194029]
[null,null,32,252.0934,44.668999999999997,50.006300000000003,51.372100000000003,8077.46,12.7,2.2437388888888887,null,252.09343999999999,44.668998600000002,50.006244600000002,51.372049599999997,11057.008,17.852,3.0713911111111112,1.3688718978490764,1.4056692913385829]
[null,null,37,164.0454,41.109099999999998,47.7941,49.546999999999997,6044.91,12.22,1.6791416666666665,null,164.04544000000001,41.1090844,47.794128200000003,49.546953199999997,8647.26,17.173999999999999,2.4020166666666669,1.4305026873849238,1.4054009819967266]
[null,"Class A1",null,null,null,null,null,null,{"$f":"GEOMEAN(I3:I14)","v":128.46117040017089},{"$f":"GEOMEAN(J3:J14)","v":59.313996955967916},null,null,null,null,null,null,{"$f":"GEOMEAN(Q3:Q14)","v":160.44768018312379},{"$f":"GEOMEAN(R3:R14)","v":82.742503076105919},{"$f":"GEOMEAN(S3:S14)","v":1.3949911879573771},{"$f":"GEOMEAN(T3:T14)","v":1.2489974961563197},null,{"$f":"AVERAGE(V3:V14)","v":-7.1469738394114302E-7},-5.52515715409226E-6,1.5390832776758974E-6,-2.8335669060760202E-6,-6.7442868228277204E-6,1.2458891816372979E-6]
[null,"Class A2",null,null,null,null,null,null,{"$f":"GEOMEAN(I15:I26)","v":127.60920052663792},{"$f":"GEOMEAN(J15:J26)","v":59.885227628406291},null,null,null,null,null,null,{"$f":"GEOMEAN(Q15:Q26)","v":165.01432544281087},{"$f":"GEOMEAN(R15:R26)","v":80.403120357336249},{"$f":"GEOMEAN(S15:S26)","v":1.3426202678270756},{"$f":"GEOMEAN(T15:T26)","v":1.2931224767634584},null,{"$f":"AVERAGE(V15:V26)","v":-3.6356161725222456E-6},5.4111357100650181E-6,-9.7790603948988419E-6,-4.3129181354073509E-6,1.6824520625198975E-6,-9.8761334966779302E-6]
[null,"Class B",null,null,null,null,null,null,{"$f":"GEOMEAN(I27:I46)","v":57.076921575514149},{"$f":"GEOMEAN(J27:J46)","v":26.143740060466691},null,null,null,null,null,null,{"$f":"GEOMEAN(Q27:Q46)","v":69.885961042467287},{"$f":"GEOMEAN(R27:R46)","v":37.808272511542491},{"$f":"GEOMEAN(S27:S46)","v":1.4461692330208846},1.2244171394213417,null,{"$f":"AVERAGE(V27:V46)","v":4.092340783534709E-6},{"$f":"AVERAGE(W27:W46)","v":-2.1528027336570333E-6},9.0155265355829066E-6,3.8917939383598107E-6,-1.2933146533278262E-6,9.7250411298599456E-6]
[null,"Class C",null,null,null,null,null,null,{"$f":"GEOMEAN(I47:I62)","v":10.49554988209524},{"$f":"GEOMEAN(J47:J62)","v":5.4797886383546199},null,null,null,null,null,null,{"$f":"GEOMEAN(Q47:Q62)","v":11.468434379090985},{"$f":"GEOMEAN(R47:R62)","v":7.9118697811759962},{"$f":"GEOMEAN(S47:S62)","v":1.4438275457922849},1.092694952425068,null,{"$f":"AVERAGE(V47:V62)","v":2.131067598665215E-6},{"$f":"AVERAGE(W47:W62)","v":-1.0937188291981759E-6},-3.4953615571930996E-6,2.1029073628553441E-6,-3.1902938529837499E-7,-3.8791234036050781E-6]
[null,"Class D",null,null,null,null,null,null,{"$f":"GEOMEAN(I63:I78)","v":2.8418922954812138},{"$f":"GEOMEAN(J63:J78)","v":1.2675878448316387},null,null,null,null,null,null,{"$f":"GEOMEAN(Q63:Q78)","v":3.1109641651607585},{"$f":"GEOMEAN(R63:R78)","v":1.8080798748762263},{"$f":"GEOMEAN(S63:S78)","v":1.4263941408466061},1.0946805303309297,null,{"$f":"AVERAGE(V63:V78)","v":5.316547241895897E-7},{"$f":"AVERAGE(W63:W78)","v":5.3928705427419565E-6},8.5703306018647396E-7,4.8925037851588193E-7,4.8369553485028138E-6,-2.2773349289684219E-8]
[null,"Class E"]
[null,"Class F",null,null,null,null,null,null,{"$f":"GEOMEAN(I91:I106)","v":14.473107912715845},{"$f":"GEOMEAN(J91:J106)","v":4.4065071910527118},null,null,null,null,null,null,{"$f":"GEOMEAN(Q91:Q106)","v":19.114153584199471},{"$f":"GEOMEAN(R91:R106)","v":6.1615239643399153},{"$f":"GEOMEAN(S91:S106)","v":1.3982784316909129},1.320666832547146,null,{"$f":"AVERAGE(V91:V106)","v":-5.2403662473277102E-7},{"$f":"AVERAGE(W91:W106)","v":5.5993734882076041E-7},4.1155283780902607E-7,-3.7964240873211708E-7,4.4843844840269931E-7,-4.7485900628307931E-8]
[null,"All",null,null,null,null,null,null,{"$f":"GEOMEAN(I3:I62,I79:I90)","v":50.19791423158636},{"$f":"GEOMEAN(J3:J62,J79:J90)","v":23.963760289382616},null,null,null,null,null,null,{"$f":"GEOMEAN(Q3:Q62,Q79:Q90)","v":60.520443388166846},{"$f":"GEOMEAN(R3:R62,R79:R90)","v":33.88470362388189},{"$f":"GEOMEAN(S3:S62,S79:S90)","v":1.413997770579221},1.205636614879213,null,{"$f":"AVERAGE(V3:V62,V79:V90)","v":1.0623355761962828E-6},{"$f":"AVERAGE(W3:W62,W79:W90)","v":-1.0320635544773064E-6},4.2508367316488696E-7,4.2874293458468791E-7,-1.5285463392504066E-6,4.8119860598383466E-7]
[null,"Time geomean",null,null,null,null,null,null,{"$f":"GEOMEAN(I3:I106)","v":24.539626328622678},{"$f":"GEOMEAN(J3:J106)","v":10.70620171393147},null,null,null,null,null,null,{"$f":"GEOMEAN(Q3:Q106)","v":29.55801717975908},{"$f":"GEOMEAN(R3:R106)","v":15.132095041049361}]
[null,"Time ratio",null,null,null,null,null,null,null,null,null,null,null,null,null,null,{"$f":"Q115/I115","v":1.2045015186430537},{"$f":"R115/J115","v":1.4133952867111299}]
[null,"Time sum (hours)"]

{"sheet":"LDB-10","index":4,"n_rows":117,"n_cols":27,"rows_kept":117,"cut":false,"hidden":false,"merged":[[0,3,0,9],[0,11,0,17],[0,21,0,23],[0,24,0,26]]}
[null,null,null,"Reference",null,null,null,null,null,null,null,"Tested",null,null,null,null,null,null,null,null,null,"BD-rate (piecewise cubic)",null,null,"BD-rate (cubic)"]
[null,null,"QPISlice","kbps","Y psnr","U psnr","V psnr","Enc T [s]","Dec T [s]","Enc T [h]",null,"kbps","Y psnr","U psnr","V psnr","Enc T [s]","Dec T [s]","Enc T [h]","Enc","Dec",null,"Y","U","V","Y","U","V"]
["Class A1","Tango2",22]
["4K",null,27]
[null,null,32]
[null,null,37]
[null,"FoodMarket4",22]
[null,null,27]
[null,null,32]
[null,null,37]
[null,"Campfire",22]
[null,null,27]
[null,null,32]
[null,null,37]
["Class A2","CatRobot1",22]
["4K",null,27]
[null,null,32]
[null,null,37]
[null,"DaylightRoad2",22]
[null,null,27]
[null,null,32]
[null,null,37]
[null,"ParkRunning3",22]
[null,null,27]
[null,null,32]
[null,null,37]
["Class B","MarketPlace",22,17649.36,41.038400000000003,44.095700000000001,44.831200000000003,286806.17300000001,105.40300000000001,{"$f":"H27/3600","v":79.668381388888889},null,{"$f":"Test!B233","v":0},{"$f":"Test!C233","v":0},{"$f":"Test!D233","v":0},{"$f":"Test!E233","v":0},{"$f":"Test!F233","v":0},{"$f":"Test!G233","v":0},{"$f":"P27/3600","v":0},{"$f":"P27/H27","v":0},0,null,{"$f":"bdrate($D27:$D30,E27:E30,$L27:$L30,M27:M30)","v":{"$error":"#VALUE!"}},{"$f":"bdrate($D27:$D30,F27:F30,$L27:$L30,N27:N30)","v":{"$error":"#VALUE!"}},{"$f":"bdrate($D27:$D30,G27:G30,$L27:$L30,O27:O30)","v":{"$error":"#VALUE!"}},{"$f":"bdrateOld($D27:$D30,E27:E30,$L27:$L30,M27:M30)","v":{"$error":"#VALUE!"}},{"$f":"bdrateOld($D27:$D30,F27:F30,$L27:$L30,N27:N30)","v":{"$error":"#VALUE!"}},{"$f":"bdrateOld($D27:$D30,G27:G30,$L27:$L30,O27:O30)","v":{"$error":"#VALUE!"}}]
["1080p",null,27,6531.4279999999999,38.607599999999998,42.207000000000001,43.1708,163919.47200000001,81.540999999999997,{"$f":"H28/3600","v":45.533186666666666},null,{"$f":"Test!B234","v":0},{"$f":"Test!C234","v":0},{"$f":"Test!D234","v":0},{"$f":"Test!E234","v":0},{"$f":"Test!F234","v":0},{"$f":"Test!G234","v":0},0,0,0]
[null,null,32,2914.7264,36.200499999999998,40.795699999999997,41.811300000000003,117712.8,66.837999999999994,32.698,null,{"$f":"Test!B235","v":0},{"$f":"Test!C235","v":0},{"$f":"Test!D235","v":0},{"$f":"Test!E235","v":0},{"$f":"Test!F235","v":0},{"$f":"Test!G235","v":0},0,0,0]
[null,null,37,1322.316,33.762700000000002,39.794400000000003,40.763399999999997,82566.320000000007,55.4,22.935088888888892,null,{"$f":"Test!B236","v":0},{"$f":"Test!C236","v":0},{"$f":"Test!D236","v":0},{"$f":"Test!E236","v":0},{"$f":"Test!F236","v":0},{"$f":"Test!G236","v":0},0,0,0]
[null,"RitualDance",22,10818.54,44.334400000000002,47.120199999999997,47.866199999999999,236115.728,97.004999999999995,65.587702222222219,null,{"$f":"Test!B237","v":0},{"$f":"Test!C237","v":0},{"$f":"Test!D237","v":0},{"$f":"Test!E237","v":0},{"$f":"Test!F237","v":0},{"$f":"Test!G237","v":0},0,0,0,null,{"$f":"bdrate($D31:$D34,E31:E34,$L31:$L34,M31:M34)","v":{"$error":"#VALUE!"}},{"$f":"bdrate($D31:$D34,F31:F34,$L31:$L34,N31:N34)","v":{"$error":"#VALUE!"}},{"$f":"bdrate($D31:$D34,G31:G34,$L31:$L34,O31:O34)","v":{"$error":"#VALUE!"}},{"$f":"bdrateOld($D31:$D34,E31:E34,$L31:$L34,M31:M34)","v":{"$error":"#VALUE!"}},{"$f":"bdrateOld($D31:$D34,F31:F34,$L31:$L34,N31:N34)","v":{"$error":"#VALUE!"}},{"$f":"bdrateOld($D31:$D34,G31:G34,$L31:$L34,O31:O34)","v":{"$error":"#VALUE!"}}]
[null,null,27,5412.8807999999999,41.053899999999999,44.754100000000001,45.307600000000001,167203.584,81.676000000000002,46.445439999999998,null,{"$f":"Test!B238","v":0},{"$f":"Test!C238","v":0},{"$f":"Test!D238","v":0},{"$f":"Test!E238","v":0},{"$f":"Test!F238","v":0},{"$f":"Test!G238","v":0},0,0,0]
[null,null,32,2875.8247999999999,37.924300000000002,43.1965,43.5901,129944.905,69.483999999999995,36.095806944444448,null,{"$f":"Test!B239","v":0},{"$f":"Test!C239","v":0},{"$f":"Test!D239","v":0},{"$f":"Test!E239","v":0},{"$f":"Test!F239","v":0},{"$f":"Test!G239","v":0},0,0,0]
[null,null,37,1566.7360000000001,35.084400000000002,42.101700000000001,42.282200000000003,95149.342999999993,59.564,26.430373055555552,null,{"$f":"Test!B240","v":0},{"$f":"Test!C240","v":0},{"$f":"Test!D240","v":0},{"$f":"Test!E240","v":0},{"$f":"Test!F240","v":0},{"$f":"Test!G240","v":0},0,0,0]
[null,"Cactus",22,18435.624,38.94,40.424199999999999,43.645299999999999,243667.69699999999,90.882000000000005,67.685471388888885,null,{"$f":"Test!B241","v":0},{"$f":"Test!C241","v":0},{"$f":"Test!D241","v":0},{"$f":"Test!E241","v":0},{"$f":"Test!F241","v":0},{"$f":"Test!G241","v":0},0,0,0,null,{"$f":"bdrate($D35:$D38,E35:E38,$L35:$L38,M35:M38)","v":{"$error":"#VALUE!"}},{"$f":"bdrate($D35:$D38,F35:F38,$L35:$L38,N35:N38)","v":{"$error":"#VALUE!"}},{"$f":"bdrate($D35:$D38,G35:G38,$L35:$L38,O35:O38)","v":{"$error":"#VALUE!"}},{"$f":"bdrateOld($D35:$D38,E35:E38,$L35:$L38,M35:M38)","v":{"$error":"#VALUE!"}},{"$f":"bdrateOld($D35:$D38,F35:F38,$L35:$L38,N35:N38)","v":{"$error":"#VALUE!"}},{"$f":"bdrateOld($D35:$D38,G35:G38,$L35:$L38,O35:O38)","v":{"$error":"#VALUE!"}}]
[null,null,27,4607.7695999999996,36.942999999999998,39.132599999999996,41.820399999999999,143890.23300000001,60.075000000000003,39.969509166666668,null,{"$f":"Test!B242","v":0},{"$f":"Test!C242","v":0},{"$f":"Test!D242","v":0},{"$f":"Test!E242","v":0},{"$f":"Test!F242","v":0},{"$f":"Test!G242","v":0},0,0,0]
[null,null,32,2075.7456000000002,34.901600000000002,38.285899999999998,40.324599999999997,106047.552,48.808999999999997,29.457653333333333,null,{"$f":"Test!B243","v":0},{"$f":"Test!C243","v":0},{"$f":"Test!D243","v":0},{"$f":"Test!E243","v":0},{"$f":"Test!F243","v":0},{"$f":"Test!G243","v":0},0,0,0]
[null,null,37,1020.9432,32.688099999999999,37.541600000000003,39.134099999999997,77368.584000000003,42.445,21.491273333333336,null,{"$f":"Test!B244","v":0},{"$f":"Test!C244","v":0},{"$f":"Test!D244","v":0},{"$f":"Test!E244","v":0},{"$f":"Test!F244","v":0},{"$f":"Test!G244","v":0},0,0,0]
[null,"BasketballDrive",22,17189.7752,39.676900000000003,44.1128,45.587800000000001,288679.24,94.784999999999997,80.18867777777777,null,{"$f":"Test!B245","v":0},{"$f":"Test!C245","v":0},{"$f":"Test!D245","v":0},{"$f":"Test!E245","v":0},{"$f":"Test!F245","v":0},{"$f":"Test!G245","v":0},0,0,0,null,{"$f":"bdrate($D39:$D42,E39:E42,$L39:$L42,M39:M42)","v":{"$error":"#VALUE!"}},{"$f":"bdrate($D39:$D42,F39:F42,$L39:$L42,N39:N42)","v":{"$error":"#VALUE!"}},{"$f":"bdrate($D39:$D42,G39:G42,$L39:$L42,O39:O42)","v":{"$error":"#VALUE!"}},{"$f":"bdrateOld($D39:$D42,E39:E42,$L39:$L42,M39:M42)","v":{"$error":"#VALUE!"}},{"$f":"bdrateOld($D39:$D42,F39:F42,$L39:$L42,N39:N42)","v":{"$error":"#VALUE!"}},{"$f":"bdrateOld($D39:$D42,G39:G42,$L39:$L42,O39:O42)","v":{"$error":"#VALUE!"}}]
[null,null,27,5487.4448000000002,37.764899999999997,42.797499999999999,43.515000000000001,180810.25399999999,70.566999999999993,50.225070555555554,null,{"$f":"Test!B246","v":0},{"$f":"Test!C246","v":0},{"$f":"Test!D246","v":0},{"$f":"Test!E246","v":0},{"$f":"Test!F246","v":0},{"$f":"Test!G246","v":0},0,0,0]
[null,null,32,2605.9904000000001,35.915199999999999,41.670699999999997,41.933799999999998,125476.924,59.405000000000001,34.854701111111112,null,{"$f":"Test!B247","v":0},{"$f":"Test!C247","v":0},{"$f":"Test!D247","v":0},{"$f":"Test!E247","v":0},{"$f":"Test!F247","v":0},{"$f":"Test!G247","v":0},0,0,0]
[null,null,37,1359.5944,33.939500000000002,40.708300000000001,40.5379,87796.244000000006,52.203000000000003,24.387845555555558,null,{"$f":"Test!B248","v":0},{"$f":"Test!C248","v":0},{"$f":"Test!D248","v":0},{"$f":"Test!E248","v":0},{"$f":"Test!F248","v":0},{"$f":"Test!G248","v":0},0,0,0]
[null,"BQTerrace",22,49842.4568,38.447899999999997,42.241,44.308799999999998,266540.44,165.12299999999999,74.039011111111108,null,{"$f":"Test!B249","v":0},{"$f":"Test!C249","v":0},{"$f":"Test!D249","v":0},{"$f":"Test!E249","v":0},{"$f":"Test!F249","v":0},{"$f":"Test!G249","v":0},0,0,0,null,{"$f":"bdrate($D43:$D46,E43:E46,$L43:$L46,M43:M46)","v":{"$error":"#VALUE!"}},{"$f":"bdrate($D43:$D46,F43:F46,$L43:$L46,N43:N46)","v":{"$error":"#VALUE!"}},{"$f":"bdrate($D43:$D46,G43:G46,$L43:$L46,O43:O46)","v":{"$error":"#VALUE!"}},{"$f":"bdrateOld($D43:$D46,E43:E46,$L43:$L46,M43:M46)","v":{"$error":"#VALUE!"}},{"$f":"bdrateOld($D43:$D46,F43:F46,$L43:$L46,N43:N46)","v":{"$error":"#VALUE!"}},{"$f":"bdrateOld($D43:$D46,G43:G46,$L43:$L46,O43:O46)","v":{"$error":"#VALUE!"}}]
[null,null,27,6631.4727999999996,35.582099999999997,40.8506,43.167000000000002,134964.856,76.870999999999995,37.490237777777779,null,{"$f":"Test!B250","v":0},{"$f":"Test!C250","v":0},{"$f":"Test!D250","v":0},{"$f":"Test!E250","v":0},{"$f":"Test!F250","v":0},{"$f":"Test!G250","v":0},0,0,0]
[null,null,32,1694.4064000000001,33.7896,39.643099999999997,42.261499999999998,86118.898000000001,53.747999999999998,23.921916111111113,null,{"$f":"Test!B251","v":0},{"$f":"Test!C251","v":0},{"$f":"Test!D251","v":0},{"$f":"Test!E251","v":0},{"$f":"Test!F251","v":0},{"$f":"Test!G251","v":0},0,0,0]
[null,null,37,657.49360000000001,31.735499999999998,38.746499999999997,41.509,53653.925000000003,43.384999999999998,14.903868055555556,null,{"$f":"Test!B252","v":0},{"$f":"Test!C252","v":0},{"$f":"Test!D252","v":0},{"$f":"Test!E252","v":0},{"$f":"Test!F252","v":0},{"$f":"Test!G252","v":0},0,0,0]
["Class C","BasketballDrill",22,3109.7464,40.604700000000001,43.401400000000002,44.1509,50702.826999999997,14.717000000000001,14.08411861111111,null,{"$f":"Test!B253","v":0},{"$f":"Test!C253","v":0},{"$f":"Test!D253","v":0},{"$f":"Test!E253","v":0},{"$f":"Test!F253","v":0},{"$f":"Test!G253","v":0},0,{"$f":"P47/H47","v":0},0,null,{"$f":"bdrate($D47:$D50,E47:E50,$L47:$L50,M47:M50)","v":{"$error":"#VALUE!"}},{"$f":"bdrate($D47:$D50,F47:F50,$L47:$L50,N47:N50)","v":{"$error":"#VALUE!"}},{"$f":"bdrate($D47:$D50,G47:G50,$L47:$L50,O47:O50)","v":{"$error":"#VALUE!"}},{"$f":"bdrateOld($D47:$D50,E47:E50,$L47:$L50,M47:M50)","v":{"$error":"#VALUE!"}},{"$f":"bdrateOld($D47:$D50,F47:F50,$L47:$L50,N47:N50)","v":{"$error":"#VALUE!"}},{"$f":"bdrateOld($D47:$D50,G47:G50,$L47:$L50,O47:O50)","v":{"$error":"#VALUE!"}}]
["WVGA",null,27,1420.9936,37.351599999999998,40.9358,41.429000000000002,40688.516000000003,11.5,11.302365555555557,null,{"$f":"Test!B254","v":0},{"$f":"Test!C254","v":0},{"$f":"Test!D254","v":0},{"$f":"Test!E254","v":0},{"$f":"Test!F254","v":0},{"$f":"Test!G254","v":0},0,0,0]
[null,null,32,707.39679999999998,34.618499999999997,39.1447,39.516100000000002,31032.615000000002,9.3330000000000002,8.6201708333333329,null,{"$f":"Test!B255","v":0},{"$f":"Test!C255","v":0},{"$f":"Test!D255","v":0},{"$f":"Test!E255","v":0},{"$f":"Test!F255","v":0},{"$f":"Test!G255","v":0},0,0,0]
[null,null,37,373.69760000000002,32.237200000000001,37.597200000000001,37.817700000000002,23445.386999999999,7.9269999999999996,6.5126074999999997,null,{"$f":"Test!B256","v":0},{"$f":"Test!C256","v":0},{"$f":"Test!D256","v":0},{"$f":"Test!E256","v":0},{"$f":"Test!F256","v":0},{"$f":"Test!G256","v":0},0,0,0]
[null,"BQMall",22,3586.56,40.471699999999998,43.550899999999999,45.042499999999997,46866.415000000001,18.166,13.018448611111111,null,{"$f":"Test!B257","v":0},{"$f":"Test!C257","v":0},{"$f":"Test!D257","v":0},{"$f":"Test!E257","v":0},{"$f":"Test!F257","v":0},{"$f":"Test!G257","v":0},0,0,0,null,{"$f":"bdrate($D51:$D54,E51:E54,$L51:$L54,M51:M54)","v":{"$error":"#VALUE!"}},{"$f":"bdrate($D51:$D54,F51:F54,$L51:$L54,N51:N54)","v":{"$error":"#VALUE!"}},{"$f":"bdrate($D51:$D54,G51:G54,$L51:$L54,O51:O54)","v":{"$error":"#VALUE!"}},{"$f":"bdrateOld($D51:$D54,E51:E54,$L51:$L54,M51:M54)","v":{"$error":"#VALUE!"}},{"$f":"bdrateOld($D51:$D54,F51:F54,$L51:$L54,N51:N54)","v":{"$error":"#VALUE!"}},{"$f":"bdrateOld($D51:$D54,G51:G54,$L51:$L54,O51:O54)","v":{"$error":"#VALUE!"}}]
[null,null,27,1565.7944,37.548099999999998,41.464799999999997,42.643300000000004,35243.237000000001,13.284000000000001,9.7897880555555563,null,{"$f":"Test!B258","v":0},{"$f":"Test!C258","v":0},{"$f":"Test!D258","v":0},{"$f":"Test!E258","v":0},{"$f":"Test!F258","v":0},{"$f":"Test!G258","v":0},0,0,0]
[null,null,32,771.25440000000003,34.627899999999997,39.8309,40.847200000000001,28578.876,10.379,7.9385766666666671,null,{"$f":"Test!B259","v":0},{"$f":"Test!C259","v":0},{"$f":"Test!D259","v":0},{"$f":"Test!E259","v":0},{"$f":"Test!F259","v":0},{"$f":"Test!G259","v":0},0,0,0]
[null,null,37,394.16559999999998,31.777999999999999,38.557699999999997,39.529499999999999,21189.148000000001,8.8019999999999996,5.8858744444444451,null,{"$f":"Test!B260","v":0},{"$f":"Test!C260","v":0},{"$f":"Test!D260","v":0},{"$f":"Test!E260","v":0},{"$f":"Test!F260","v":0},{"$f":"Test!G260","v":0},0,0,0]
[null,"PartyScene",22,6933.8320000000003,38.6631,41.496600000000001,42.4467,52999.436000000002,22.036999999999999,14.722065555555556,null,{"$f":"Test!B261","v":0},{"$f":"Test!C261","v":0},{"$f":"Test!D261","v":0},{"$f":"Test!E261","v":0},{"$f":"Test!F261","v":0},{"$f":"Test!G261","v":0},0,0,0,null,{"$f":"bdrate($D55:$D58,E55:E58,$L55:$L58,M55:M58)","v":{"$error":"#VALUE!"}},{"$f":"bdrate($D55:$D58,F55:F58,$L55:$L58,N55:N58)","v":{"$error":"#VALUE!"}},{"$f":"bdrate($D55:$D58,G55:G58,$L55:$L58,O55:O58)","v":{"$error":"#VALUE!"}},{"$f":"bdrateOld($D55:$D58,E55:E58,$L55:$L58,M55:M58)","v":{"$error":"#VALUE!"}},{"$f":"bdrateOld($D55:$D58,F55:F58,$L55:$L58,N55:N58)","v":{"$error":"#VALUE!"}},{"$f":"bdrateOld($D55:$D58,G55:G58,$L55:$L58,O55:O58)","v":{"$error":"#VALUE!"}}]
[null,null,27,2848.3616000000002,34.703899999999997,38.651400000000002,39.4893,39747.868000000002,15.814,11.041074444444446,null,{"$f":"Test!B262","v":0},{"$f":"Test!C262","v":0},{"$f":"Test!D262","v":0},{"$f":"Test!E262","v":0},{"$f":"Test!F262","v":0},{"$f":"Test!G262","v":0},0,0,0]
[null,null,32,1271.6248000000001,31.2455,36.753,37.551900000000003,30258.682000000001,12.157,8.4051894444444439,null,{"$f":"Test!B263","v":0},{"$f":"Test!C263","v":0},{"$f":"Test!D263","v":0},{"$f":"Test!E263","v":0},{"$f":"Test!F263","v":0},{"$f":"Test!G263","v":0},0,0,0]
[null,null,37,554.09119999999996,28.058900000000001,35.357199999999999,36.151899999999998,22425.219000000001,9.4589999999999996,6.2292275000000004,null,{"$f":"Test!B264","v":0},{"$f":"Test!C264","v":0},{"$f":"Test!D264","v":0},{"$f":"Test!E264","v":0},{"$f":"Test!F264","v":0},{"$f":"Test!G264","v":0},0,0,0]
[null,"RaceHorses",22,5100.9128000000001,40.167700000000004,41.757899999999999,43.086199999999998,34722.824000000001,13.722,9.6452288888888891,null,{"$f":"Test!B265","v":0},{"$f":"Test!C265","v":0},{"$f":"Test!D265","v":0},{"$f":"Test!E265","v":0},{"$f":"Test!F265","v":0},{"$f":"Test!G265","v":0},0,0,0,null,{"$f":"bdrate($D59:$D62,E59:E62,$L59:$L62,M59:M62)","v":{"$error":"#VALUE!"}},{"$f":"bdrate($D59:$D62,F59:F62,$L59:$L62,N59:N62)","v":{"$error":"#VALUE!"}},{"$f":"bdrate($D59:$D62,G59:G62,$L59:$L62,O59:O62)","v":{"$error":"#VALUE!"}},{"$f":"bdrateOld($D59:$D62,E59:E62,$L59:$L62,M59:M62)","v":{"$error":"#VALUE!"}},{"$f":"bdrateOld($D59:$D62,F59:F62,$L59:$L62,N59:N62)","v":{"$error":"#VALUE!"}},{"$f":"bdrateOld($D59:$D62,G59:G62,$L59:$L62,O59:O62)","v":{"$error":"#VALUE!"}}]
[null,null,27,1934.8792000000001,36.402299999999997,39.068300000000001,40.692,23168.011999999999,9.6579999999999995,6.4355588888888882,null,{"$f":"Test!B266","v":0},{"$f":"Test!C266","v":0},{"$f":"Test!D266","v":0},{"$f":"Test!E266","v":0},{"$f":"Test!F266","v":0},{"$f":"Test!G266","v":0},0,0,0]
[null,null,32,876.91520000000003,33.351300000000002,37.318199999999997,39.179600000000001,18336.226999999999,7.4779999999999998,5.0933963888888885,null,{"$f":"Test!B267","v":0},{"$f":"Test!C267","v":0},{"$f":"Test!D267","v":0},{"$f":"Test!E267","v":0},{"$f":"Test!F267","v":0},{"$f":"Test!G267","v":0},0,0,0]
[null,null,37,405.34399999999999,30.5289,36.106900000000003,37.950099999999999,13888.626,5.9589999999999996,3.8579516666666667,null,{"$f":"Test!B268","v":0},{"$f":"Test!C268","v":0},{"$f":"Test!D268","v":0},{"$f":"Test!E268","v":0},{"$f":"Test!F268","v":0},{"$f":"Test!G268","v":0},0,0,0]
["Class D","BasketballPass",{"$f":"C59","v":22},1493.9007999999999,41.329799999999999,44.266199999999998,43.712800000000001,12246.094999999999,4.7809999999999997,3.4016930555555556,null,{"$f":"Test!B269","v":0},{"$f":"Test!C269","v":0},{"$f":"Test!D269","v":0},{"$f":"Test!E269","v":0},{"$f":"Test!F269","v":0},{"$f":"Test!G269","v":0},0,{"$f":"P63/H63","v":0},0,null,{"$f":"bdrate($D63:$D66,E63:E66,$L63:$L66,M63:M66)","v":{"$error":"#VALUE!"}},{"$f":"bdrate($D63:$D66,F63:F66,$L63:$L66,N63:N66)","v":{"$error":"#VALUE!"}},{"$f":"bdrate($D63:$D66,G63:G66,$L63:$L66,O63:O66)","v":{"$error":"#VALUE!"}},{"$f":"bdrateOld($D63:$D66,E63:E66,$L63:$L66,M63:M66)","v":{"$error":"#VALUE!"}},{"$f":"bdrateOld($D63:$D66,F63:F66,$L63:$L66,N63:N66)","v":{"$error":"#VALUE!"}},{"$f":"bdrateOld($D63:$D66,G63:G66,$L63:$L66,O63:O66)","v":{"$error":"#VALUE!"}}]
["WQVGA",null,{"$f":"C60","v":27},723.08159999999998,37.259700000000002,41.499099999999999,40.450099999999999,9491.2530000000006,3.6469999999999998,2.636459166666667,null,{"$f":"Test!B270","v":0},{"$f":"Test!C270","v":0},{"$f":"Test!D270","v":0},{"$f":"Test!E270","v":0},{"$f":"Test!F270","v":0},{"$f":"Test!G270","v":0},0,{"$f":"P64/H64","v":0},0]
[null,null,{"$f":"C61","v":32},365.49279999999999,33.844099999999997,39.600099999999998,38.4116,8071.94,2.798,2.2422055555555556,null,{"$f":"Test!B271","v":0},{"$f":"Test!C271","v":0},{"$f":"Test!D271","v":0},{"$f":"Test!E271","v":0},{"$f":"Test!F271","v":0},{"$f":"Test!G271","v":0},0,{"$f":"P65/H65","v":0},0]
[null,null,{"$f":"C62","v":37},189.78479999999999,30.9938,38.164700000000003,36.7286,6496.4620000000004,2.2229999999999999,1.8045727777777778,null,{"$f":"Test!B272","v":0},{"$f":"Test!C272","v":0},{"$f":"Test!D272","v":0},{"$f":"Test!E272","v":0},{"$f":"Test!F272","v":0},{"$f":"Test!G272","v":0},0,{"$f":"P66/H66","v":0},0]
[null,"BQSquare",22,1909.4983999999999,38.641800000000003,42.870899999999999,44.030799999999999,12503.183000000001,6.1680000000000001,3.4731063888888891,null,{"$f":"Test!B273","v":0},{"$f":"Test!C273","v":0},{"$f":"Test!D273","v":0},{"$f":"Test!E273","v":0},{"$f":"Test!F273","v":0},{"$f":"Test!G273","v":0},0,0,0,null,{"$f":"bdrate($D67:$D70,E67:E70,$L67:$L70,M67:M70)","v":{"$error":"#VALUE!"}},{"$f":"bdrate($D67:$D70,F67:F70,$L67:$L70,N67:N70)","v":{"$error":"#VALUE!"}},{"$f":"bdrate($D67:$D70,G67:G70,$L67:$L70,O67:O70)","v":{"$error":"#VALUE!"}},{"$f":"bdrateOld($D67:$D70,E67:E70,$L67:$L70,M67:M70)","v":{"$error":"#VALUE!"}},{"$f":"bdrateOld($D67:$D70,F67:F70,$L67:$L70,N67:N70)","v":{"$error":"#VALUE!"}},{"$f":"bdrateOld($D67:$D70,G67:G70,$L67:$L70,O67:O70)","v":{"$error":"#VALUE!"}}]
[null,null,27,636.12559999999996,34.816000000000003,40.853200000000001,42.021799999999999,9426.2260000000006,4.1289999999999996,2.6183961111111111,null,{"$f":"Test!B274","v":0},{"$f":"Test!C274","v":0},{"$f":"Test!D274","v":0},{"$f":"Test!E274","v":0},{"$f":"Test!F274","v":0},{"$f":"Test!G274","v":0},0,0,0]
[null,null,32,242.44479999999999,31.586500000000001,39.412199999999999,40.424399999999999,6128.1090000000004,3.3159999999999998,1.7022525000000002,null,{"$f":"Test!B275","v":0},{"$f":"Test!C275","v":0},{"$f":"Test!D275","v":0},{"$f":"Test!E275","v":0},{"$f":"Test!F275","v":0},{"$f":"Test!G275","v":0},0,0,0]
[null,null,37,98.740799999999993,28.5977,38.627099999999999,39.4116,3910.259,2.512,1.0861830555555556,null,{"$f":"Test!B276","v":0},{"$f":"Test!C276","v":0},{"$f":"Test!D276","v":0},{"$f":"Test!E276","v":0},{"$f":"Test!F276","v":0},{"$f":"Test!G276","v":0},0,0,0]
[null,"BlowingBubbles",22,1698.7655999999999,38.395499999999998,41.119100000000003,41.898200000000003,12216.102000000001,5.2439999999999998,3.3933616666666668,null,{"$f":"Test!B277","v":0},{"$f":"Test!C277","v":0},{"$f":"Test!D277","v":0},{"$f":"Test!E277","v":0},{"$f":"Test!F277","v":0},{"$f":"Test!G277","v":0},0,{"$f":"P71/H71","v":0},0,null,{"$f":"bdrate($D71:$D74,E71:E74,$L71:$L74,M71:M74)","v":{"$error":"#VALUE!"}},{"$f":"bdrate($D71:$D74,F71:F74,$L71:$L74,N71:N74)","v":{"$error":"#VALUE!"}},{"$f":"bdrate($D71:$D74,G71:G74,$L71:$L74,O71:O74)","v":{"$error":"#VALUE!"}},{"$f":"bdrateOld($D71:$D74,E71:E74,$L71:$L74,M71:M74)","v":{"$error":"#VALUE!"}},{"$f":"bdrateOld($D71:$D74,F71:F74,$L71:$L74,N71:N74)","v":{"$error":"#VALUE!"}},{"$f":"bdrateOld($D71:$D74,G71:G74,$L71:$L74,O71:O74)","v":{"$error":"#VALUE!"}}]
[null,null,27,697.58,34.505200000000002,38.327100000000002,38.929699999999997,8800.73,3.5419999999999998,2.4446472222222222,null,{"$f":"Test!B278","v":0},{"$f":"Test!C278","v":0},{"$f":"Test!D278","v":0},{"$f":"Test!E278","v":0},{"$f":"Test!F278","v":0},{"$f":"Test!G278","v":0},0,0,0]
[null,null,32,305.93040000000002,31.069099999999999,36.356900000000003,36.930599999999998,6957.9849999999997,2.5670000000000002,1.9327736111111111,null,{"$f":"Test!B279","v":0},{"$f":"Test!C279","v":0},{"$f":"Test!D279","v":0},{"$f":"Test!E279","v":0},{"$f":"Test!F279","v":0},{"$f":"Test!G279","v":0},0,0,0]
[null,null,37,133.3048,28.061,34.8842,35.467799999999997,5018.32,1.9770000000000001,1.3939777777777778,null,{"$f":"Test!B280","v":0},{"$f":"Test!C280","v":0},{"$f":"Test!D280","v":0},{"$f":"Test!E280","v":0},{"$f":"Test!F280","v":0},{"$f":"Test!G280","v":0},0,0,0]
[null,"RaceHorses",22,1174.0391999999999,40.32,41.626300000000001,42.692700000000002,9372.8410000000003,3.53,2.6035669444444447,null,{"$f":"Test!B281","v":0},{"$f":"Test!C281","v":0},{"$f":"Test!D281","v":0},{"$f":"Test!E281","v":0},{"$f":"Test!F281","v":0},{"$f":"Test!G281","v":0},0,0,0,null,{"$f":"bdrate($D75:$D78,E75:E78,$L75:$L78,M75:M78)","v":{"$error":"#VALUE!"}},{"$f":"bdrate($D75:$D78,F75:F78,$L75:$L78,N75:N78)","v":{"$error":"#VALUE!"}},{"$f":"bdrate($D75:$D78,G75:G78,$L75:$L78,O75:O78)","v":{"$error":"#VALUE!"}},{"$f":"bdrateOld($D75:$D78,E75:E78,$L75:$L78,M75:M78)","v":{"$error":"#VALUE!"}},{"$f":"bdrateOld($D75:$D78,F75:F78,$L75:$L78,N75:N78)","v":{"$error":"#VALUE!"}},{"$f":"bdrateOld($D75:$D78,G75:G78,$L75:$L78,O75:O78)","v":{"$error":"#VALUE!"}}]
[null,null,27,545.99279999999999,36.059800000000003,38.680900000000001,39.931199999999997,7191.152,2.5790000000000002,1.9975422222222223,null,{"$f":"Test!B282","v":0},{"$f":"Test!C282","v":0},{"$f":"Test!D282","v":0},{"$f":"Test!E282","v":0},{"$f":"Test!F282","v":0},{"$f":"Test!G282","v":0},0,0,0]
[null,null,32,265.96319999999997,32.494999999999997,36.911999999999999,38.107799999999997,6070.9859999999999,1.917,1.686385,null,{"$f":"Test!B283","v":0},{"$f":"Test!C283","v":0},{"$f":"Test!D283","v":0},{"$f":"Test!E283","v":0},{"$f":"Test!F283","v":0},{"$f":"Test!G283","v":0},0,0,0]
[null,null,37,130.27279999999999,29.651299999999999,35.545699999999997,36.666699999999999,4298.3649999999998,1.4670000000000001,1.1939902777777778,null,{"$f":"Test!B284","v":0},{"$f":"Test!C284","v":0},{"$f":"Test!D284","v":0},{"$f":"Test!E284","v":0},{"$f":"Test!F284","v":0},{"$f":"Test!G284","v":0},0,0,0]
["ClassE","FourPeople",22,1964.7991999999999,42.9861,46.9086,48.237900000000003,52906.728000000003,26.768999999999998,14.696313333333334,null,{"$f":"Test!B285","v":0},{"$f":"Test!C285","v":0},{"$f":"Test!D285","v":0},{"$f":"Test!E285","v":0},{"$f":"Test!F285","v":0},{"$f":"Test!G285","v":0},0,0,0,null,{"$f":"bdrate($D79:$D82,E79:E82,$L79:$L82,M79:M82)","v":{"$error":"#VALUE!"}},{"$f":"bdrate($D79:$D82,F79:F82,$L79:$L82,N79:N82)","v":{"$error":"#VALUE!"}},{"$f":"bdrate($D79:$D82,G79:G82,$L79:$L82,O79:O82)","v":{"$error":"#VALUE!"}},{"$f":"bdrateOld($D79:$D82,E79:E82,$L79:$L82,M79:M82)","v":{"$error":"#VALUE!"}},{"$f":"bdrateOld($D79:$D82,F79:F82,$L79:$L82,N79:N82)","v":{"$error":"#VALUE!"}},{"$f":"bdrateOld($D79:$D82,G79:G82,$L79:$L82,O79:O82)","v":{"$error":"#VALUE!"}}]
["720p",null,27,732.34960000000001,40.656799999999997,44.922800000000002,46.282200000000003,35282.39,19.178999999999998,9.800663888888888,null,{"$f":"Test!B286","v":0},{"$f":"Test!C286","v":0},{"$f":"Test!D286","v":0},{"$f":"Test!E286","v":0},{"$f":"Test!F286","v":0},{"$f":"Test!G286","v":0},{"$f":"P80/3600","v":0},0,0]
[null,null,32,364.8152,38.0976,43.303699999999999,44.624299999999998,28032.556,16.056999999999999,7.7868211111111112,null,{"$f":"Test!B287","v":0},{"$f":"Test!C287","v":0},{"$f":"Test!D287","v":0},{"$f":"Test!E287","v":0},{"$f":"Test!F287","v":0},{"$f":"Test!G287","v":0},0,0,0]
[null,null,37,194.08879999999999,35.265700000000002,42.043300000000002,43.1267,20268.775000000001,14.028,5.6302152777777783,null,{"$f":"Test!B288","v":0},{"$f":"Test!C288","v":0},{"$f":"Test!D288","v":0},{"$f":"Test!E288","v":0},{"$f":"Test!F288","v":0},{"$f":"Test!G288","v":0},0,0,0]
[null,"Johnny",22,1361.1776,43.330300000000001,48.535899999999998,49.162399999999998,47688.786,23.565999999999999,13.246885000000001,null,{"$f":"Test!B289","v":0},{"$f":"Test!C289","v":0},{"$f":"Test!D289","v":0},{"$f":"Test!E289","v":0},{"$f":"Test!F289","v":0},{"$f":"Test!G289","v":0},0,0,0,null,{"$f":"bdrate($D83:$D86,E83:E86,$L83:$L86,M83:M86)","v":{"$error":"#VALUE!"}},{"$f":"bdrate($D83:$D86,F83:F86,$L83:$L86,N83:N86)","v":{"$error":"#VALUE!"}},{"$f":"bdrate($D83:$D86,G83:G86,$L83:$L86,O83:O86)","v":{"$error":"#VALUE!"}},{"$f":"bdrateOld($D83:$D86,E83:E86,$L83:$L86,M83:M86)","v":{"$error":"#VALUE!"}},{"$f":"bdrateOld($D83:$D86,F83:F86,$L83:$L86,N83:N86)","v":{"$error":"#VALUE!"}},{"$f":"bdrateOld($D83:$D86,G83:G86,$L83:$L86,O83:O86)","v":{"$error":"#VALUE!"}}]
[null,null,27,342.09120000000001,41.540700000000001,46.9206,47.562600000000003,29254.436000000002,17.763999999999999,8.1262322222222227,null,{"$f":"Test!B290","v":0},{"$f":"Test!C290","v":0},{"$f":"Test!D290","v":0},{"$f":"Test!E290","v":0},{"$f":"Test!F290","v":0},{"$f":"Test!G290","v":0},0,0,0]
[null,null,32,152.964,39.554400000000001,45.369100000000003,46.070099999999996,20568.026999999998,15.286,5.7133408333333326,null,{"$f":"Test!B291","v":0},{"$f":"Test!C291","v":0},{"$f":"Test!D291","v":0},{"$f":"Test!E291","v":0},{"$f":"Test!F291","v":0},{"$f":"Test!G291","v":0},0,0,0]
[null,null,37,82.157600000000002,37.200299999999999,44.047899999999998,44.701599999999999,13182.209000000001,13.628,3.6617247222222225,null,{"$f":"Test!B292","v":0},{"$f":"Test!C292","v":0},{"$f":"Test!D292","v":0},{"$f":"Test!E292","v":0},{"$f":"Test!F292","v":0},{"$f":"Test!G292","v":0},0,0,0]
[null,"KristenAndSara",22,1775.2872,43.640099999999997,47.721299999999999,48.706299999999999,57151.184999999998,26.295999999999999,15.875329166666665,null,{"$f":"Test!B293","v":0},{"$f":"Test!C293","v":0},{"$f":"Test!D293","v":0},{"$f":"Test!E293","v":0},{"$f":"Test!F293","v":0},{"$f":"Test!G293","v":0},0,{"$f":"P87/H87","v":0},0,null,{"$f":"bdrate($D87:$D90,E87:E90,$L87:$L90,M87:M90)","v":{"$error":"#VALUE!"}},{"$f":"bdrate($D87:$D90,F87:F90,$L87:$L90,N87:N90)","v":{"$error":"#VALUE!"}},{"$f":"bdrate($D87:$D90,G87:G90,$L87:$L90,O87:O90)","v":{"$error":"#VALUE!"}},{"$f":"bdrateOld($D87:$D90,E87:E90,$L87:$L90,M87:M90)","v":{"$error":"#VALUE!"}},{"$f":"bdrateOld($D87:$D90,F87:F90,$L87:$L90,N87:N90)","v":{"$error":"#VALUE!"}},{"$f":"bdrateOld($D87:$D90,G87:G90,$L87:$L90,O87:O90)","v":{"$error":"#VALUE!"}}]
[null,null,27,585.68240000000003,41.5625,45.835099999999997,46.873600000000003,36108.5,19.876999999999999,10.030138888888889,null,{"$f":"Test!B294","v":0},{"$f":"Test!C294","v":0},{"$f":"Test!D294","v":0},{"$f":"Test!E294","v":0},{"$f":"Test!F294","v":0},{"$f":"Test!G294","v":0},0,0,0]
[null,null,32,261.96800000000002,39.2941,44.164999999999999,45.265000000000001,25903.097000000002,17.172999999999998,7.1953047222222226,null,{"$f":"Test!B295","v":0},{"$f":"Test!C295","v":0},{"$f":"Test!D295","v":0},{"$f":"Test!E295","v":0},{"$f":"Test!F295","v":0},{"$f":"Test!G295","v":0},0,0,0]
[null,null,37,136.37119999999999,36.704999999999998,42.841500000000003,44.000900000000001,18112.442999999999,15.196,5.0312341666666667,null,{"$f":"Test!B296","v":0},{"$f":"Test!C296","v":0},{"$f":"Test!D296","v":0},{"$f":"Test!E296","v":0},{"$f":"Test!F296","v":0},{"$f":"Test!G296","v":0},0,0,0]
["ClassF","BasketballDrillText",22,3208.9223999999999,40.728400000000001,43.245600000000003,43.937399999999997,47496.228000000003,14.836,13.193396666666667,null,{"$f":"Test!B297","v":0},{"$f":"Test!C297","v":0},{"$f":"Test!D297","v":0},{"$f":"Test!E297","v":0},{"$f":"Test!F297","v":0},{"$f":"Test!G297","v":0},0,0,0,null,{"$f":"bdrate($D91:$D94,E91:E94,$L91:$L94,M91:M94)","v":{"$error":"#VALUE!"}},{"$f":"bdrate($D91:$D94,F91:F94,$L91:$L94,N91:N94)","v":{"$error":"#VALUE!"}},{"$f":"bdrate($D91:$D94,G91:G94,$L91:$L94,O91:O94)","v":{"$error":"#VALUE!"}},{"$f":"bdrateOld($D91:$D94,E91:E94,$L91:$L94,M91:M94)","v":{"$error":"#VALUE!"}},{"$f":"bdrateOld($D91:$D94,F91:F94,$L91:$L94,N91:N94)","v":{"$error":"#VALUE!"}},{"$f":"bdrateOld($D91:$D94,G91:G94,$L91:$L94,O91:O94)","v":{"$error":"#VALUE!"}}]
[null,null,27,1477.0688,37.401000000000003,40.467100000000002,40.946399999999997,38654.284,11.401,{"$f":"H92/3600","v":10.737301111111112},null,{"$f":"Test!B298","v":0},{"$f":"Test!C298","v":0},{"$f":"Test!D298","v":0},{"$f":"Test!E298","v":0},{"$f":"Test!F298","v":0},{"$f":"Test!G298","v":0},0,0,0]
[null,null,32,743.19600000000003,34.522799999999997,38.474899999999998,38.861600000000003,30786.056,9.1549999999999994,8.5516822222222224,null,{"$f":"Test!B299","v":0},{"$f":"Test!C299","v":0},{"$f":"Test!D299","v":0},{"$f":"Test!E299","v":0},{"$f":"Test!F299","v":0},{"$f":"Test!G299","v":0},0,0,0]
[null,null,37,399.20400000000001,31.9072,36.816000000000003,37.086500000000001,23605.383000000002,7.7080000000000002,6.5570508333333342,null,{"$f":"Test!B300","v":0},{"$f":"Test!C300","v":0},{"$f":"Test!D300","v":0},{"$f":"Test!E300","v":0},{"$f":"Test!F300","v":0},{"$f":"Test!G300","v":0},0,0,0]
[null,"ArenaOfValor",22,13106.741599999999,42.425699999999999,44.308,45.008800000000001,165313.861,94.105000000000004,45.920516944444444,null,{"$f":"Test!B301","v":0},{"$f":"Test!C301","v":0},{"$f":"Test!D301","v":0},{"$f":"Test!E301","v":0},{"$f":"Test!F301","v":0},{"$f":"Test!G301","v":0},0,0,0,null,{"$f":"bdrate($D95:$D98,E95:E98,$L95:$L98,M95:M98)","v":{"$error":"#VALUE!"}},{"$f":"bdrate($D95:$D98,F95:F98,$L95:$L98,N95:N98)","v":{"$error":"#VALUE!"}},{"$f":"bdrate($D95:$D98,G95:G98,$L95:$L98,O95:O98)","v":{"$error":"#VALUE!"}},{"$f":"bdrateOld($D95:$D98,E95:E98,$L95:$L98,M95:M98)","v":{"$error":"#VALUE!"}},{"$f":"bdrateOld($D95:$D98,F95:F98,$L95:$L98,N95:N98)","v":{"$error":"#VALUE!"}},{"$f":"bdrateOld($D95:$D98,G95:G98,$L95:$L98,O95:O98)","v":{"$error":"#VALUE!"}}]
[null,null,27,5509.3311999999996,38.972200000000001,41.582700000000003,42.078600000000002,126133.155,69.766999999999996,35.036987500000002,null,{"$f":"Test!B302","v":0},{"$f":"Test!C302","v":0},{"$f":"Test!D302","v":0},{"$f":"Test!E302","v":0},{"$f":"Test!F302","v":0},{"$f":"Test!G302","v":0},0,0,0]
[null,null,32,2571.5151999999998,36,39.646299999999997,39.995800000000003,100403.144,55.649000000000001,27.889762222222224,null,{"$f":"Test!B303","v":0},{"$f":"Test!C303","v":0},{"$f":"Test!D303","v":0},{"$f":"Test!E303","v":0},{"$f":"Test!F303","v":0},{"$f":"Test!G303","v":0},0,0,0]
[null,null,37,1282.8696,33.304200000000002,38.063499999999998,38.284399999999998,79458.959000000003,46.05,22.071933055555558,null,{"$f":"Test!B304","v":0},{"$f":"Test!C304","v":0},{"$f":"Test!D304","v":0},{"$f":"Test!E304","v":0},{"$f":"Test!F304","v":0},{"$f":"Test!G304","v":0},0,0,0]
[null,"SlideEditing",22,277.7568,47.375,45.715400000000002,45.988599999999998,7388.951,5.9569999999999999,2.0524863888888887,null,{"$f":"Test!B305","v":0},{"$f":"Test!C305","v":0},{"$f":"Test!D305","v":0},{"$f":"Test!E305","v":0},{"$f":"Test!F305","v":0},{"$f":"Test!G305","v":0},0,0,0,null,{"$f":"bdrate($D99:$D102,E99:E102,$L99:$L102,M99:M102)","v":{"$error":"#VALUE!"}},{"$f":"bdrate($D99:$D102,F99:F102,$L99:$L102,N99:N102)","v":{"$error":"#VALUE!"}},{"$f":"bdrate($D99:$D102,G99:G102,$L99:$L102,O99:O102)","v":{"$error":"#VALUE!"}},{"$f":"bdrateOld($D99:$D102,E99:E102,$L99:$L102,M99:M102)","v":{"$error":"#VALUE!"}},{"$f":"bdrateOld($D99:$D102,F99:F102,$L99:$L102,N99:N102)","v":{"$error":"#VALUE!"}},{"$f":"bdrateOld($D99:$D102,G99:G102,$L99:$L102,O99:O102)","v":{"$error":"#VALUE!"}}]
[null,null,27,204.8904,43.080300000000001,41.690899999999999,42.121899999999997,6483.0429999999997,5.944,1.8008452777777777,null,{"$f":"Test!B306","v":0},{"$f":"Test!C306","v":0},{"$f":"Test!D306","v":0},{"$f":"Test!E306","v":0},{"$f":"Test!F306","v":0},{"$f":"Test!G306","v":0},0,0,0]
[null,null,32,154.292,38.474299999999999,39.486499999999999,40.100099999999998,6051.9189999999999,5.7050000000000001,1.681088611111111,null,{"$f":"Test!B307","v":0},{"$f":"Test!C307","v":0},{"$f":"Test!D307","v":0},{"$f":"Test!E307","v":0},{"$f":"Test!F307","v":0},{"$f":"Test!G307","v":0},0,0,0]
[null,null,37,111.67919999999999,33.633200000000002,38.365099999999998,38.935000000000002,6005.1750000000002,5.617,1.6681041666666667,null,{"$f":"Test!B308","v":0},{"$f":"Test!C308","v":0},{"$f":"Test!D308","v":0},{"$f":"Test!E308","v":0},{"$f":"Test!F308","v":0},{"$f":"Test!G308","v":0},0,0,0]
[null,"SlideShow",22,528.44000000000005,49.408700000000003,53.024900000000002,54.088099999999997,19340.687999999998,15.599,5.3724133333333333,null,{"$f":"Test!B309","v":0},{"$f":"Test!C309","v":0},{"$f":"Test!D309","v":0},{"$f":"Test!E309","v":0},{"$f":"Test!F309","v":0},{"$f":"Test!G309","v":0},0,0,0,null,{"$f":"bdrate($D103:$D106,E103:E106,$L103:$L106,M103:M106)","v":{"$error":"#VALUE!"}},{"$f":"bdrate($D103:$D106,F103:F106,$L103:$L106,N103:N106)","v":{"$error":"#VALUE!"}},{"$f":"bdrate($D103:$D106,G103:G106,$L103:$L106,O103:O106)","v":{"$error":"#VALUE!"}},{"$f":"bdrateOld($D103:$D106,E103:E106,$L103:$L106,M103:M106)","v":{"$error":"#VALUE!"}},{"$f":"bdrateOld($D103:$D106,F103:F106,$L103:$L106,N103:N106)","v":{"$error":"#VALUE!"}},{"$f":"bdrateOld($D103:$D106,G103:G106,$L103:$L106,O103:O106)","v":{"$error":"#VALUE!"}}]
[null,null,27,293.0838,45.423200000000001,49.741300000000003,50.926699999999997,16573.026000000002,14.986000000000001,4.6036183333333334,null,{"$f":"Test!B310","v":0},{"$f":"Test!C310","v":0},{"$f":"Test!D310","v":0},{"$f":"Test!E310","v":0},{"$f":"Test!F310","v":0},{"$f":"Test!G310","v":0},0,0,0]
[null,null,32,169.31549999999999,41.741300000000003,47.348999999999997,48.86,13721.934999999999,14.09,3.811648611111111,null,{"$f":"Test!B311","v":0},{"$f":"Test!C311","v":0},{"$f":"Test!D311","v":0},{"$f":"Test!E311","v":0},{"$f":"Test!F311","v":0},{"$f":"Test!G311","v":0},0,0,0]
[null,null,37,104.6198,38.032299999999999,45.485900000000001,47.166200000000003,11139.493,13.32,3.0943036111111111,null,{"$f":"Test!B312","v":0},{"$f":"Test!C312","v":0},{"$f":"Test!D312","v":0},{"$f":"Test!E312","v":0},{"$f":"Test!F312","v":0},{"$f":"Test!G312","v":0},0,0,0]
[null,"Class A1"]
[null,"Class A2"]
[null,"Class B",null,null,null,null,null,null,{"$f":"GEOMEAN(I27:I46)","v":69.663848908229397},{"$f":"GEOMEAN(J27:J46)","v":38.289473718096254},null,null,null,null,null,null,{"$f":"GEOMEAN(Q27:Q46)","v":{"$error":"#NUM!"}},{"$f":"GEOMEAN(R27:R46)","v":{"$error":"#NUM!"}},{"$f":"GEOMEAN(S27:S46)","v":{"$error":"#NUM!"}},{"$error":"#NUM!"},null,{"$f":"AVERAGE(V27:V46)","v":{"$error":"#VALUE!"}},{"$f":"AVERAGE(W27:W46)","v":{"$error":"#VALUE!"}},{"$error":"#VALUE!"},{"$error":"#VALUE!"},{"$error":"#VALUE!"},{"$error":"#VALUE!"}]
[null,"Class C",null,null,null,null,null,null,{"$f":"GEOMEAN(I47:I62)","v":11.244595858966264},{"$f":"GEOMEAN(J47:J62)","v":8.344350740951473},null,null,null,null,null,null,{"$f":"GEOMEAN(Q47:Q62)","v":{"$error":"#NUM!"}},{"$f":"GEOMEAN(R47:R62)","v":{"$error":"#NUM!"}},{"$f":"GEOMEAN(S47:S62)","v":{"$error":"#NUM!"}},{"$error":"#NUM!"},null,{"$f":"AVERAGE(V47:V62)","v":{"$error":"#VALUE!"}},{"$f":"AVERAGE(W47:W62)","v":{"$error":"#VALUE!"}},{"$error":"#VALUE!"},{"$error":"#VALUE!"},{"$error":"#VALUE!"},{"$error":"#VALUE!"}]
[null,"Class D",null,null,null,null,null,null,{"$f":"GEOMEAN(I63:I78)","v":3.0481086686535641},{"$f":"GEOMEAN(J63:J78)","v":2.0997712795406511},null,null,null,null,null,null,{"$f":"GEOMEAN(Q63:Q78)","v":{"$error":"#NUM!"}},{"$f":"GEOMEAN(R63:R78)","v":{"$error":"#NUM!"}},{"$f":"GEOMEAN(S63:S78)","v":{"$error":"#NUM!"}},{"$error":"#NUM!"},null,{"$f":"AVERAGE(V63:V78)","v":{"$error":"#VALUE!"}},{"$f":"AVERAGE(W63:W78)","v":{"$error":"#VALUE!"}},{"$error":"#VALUE!"},{"$error":"#VALUE!"},{"$error":"#VALUE!"},{"$error":"#VALUE!"}]
[null,"Class E",null,null,null,null,null,null,{"$f":"GEOMEAN(I79:I90)","v":18.261673457042296},{"$f":"GEOMEAN(J79:J90)","v":8.1184560463309445},null,null,null,null,null,null,{"$f":"GEOMEAN(Q79:Q90)","v":{"$error":"#NUM!"}},{"$f":"GEOMEAN(R79:R90)","v":{"$error":"#NUM!"}},{"$f":"GEOMEAN(S79:S90)","v":{"$error":"#NUM!"}},{"$error":"#NUM!"},null,{"$f":"AVERAGE(V79:V88)","v":{"$error":"#VALUE!"}},{"$f":"AVERAGE(W79:W88)","v":{"$error":"#VALUE!"}},{"$error":"#VALUE!"},{"$error":"#VALUE!"},{"$error":"#VALUE!"},{"$error":"#VALUE!"}]
[null,"Class F",null,null,null,null,null,null,{"$f":"GEOMEAN(I91:I106)","v":15.398985475189257},{"$f":"GEOMEAN(J91:J106)","v":6.8552231434560875},null,null,null,null,null,null,{"$f":"GEOMEAN(Q91:Q106)","v":{"$error":"#NUM!"}},{"$f":"GEOMEAN(R91:R106)","v":{"$error":"#NUM!"}},{"$f":"GEOMEAN(S91:S106)","v":{"$error":"#NUM!"}},{"$error":"#NUM!"},null,{"$f":"AVERAGE(V91:V106)","v":{"$error":"#VALUE!"}},{"$f":"AVERAGE(W91:W106)","v":{"$error":"#VALUE!"}},{"$error":"#VALUE!"},{"$error":"#VALUE!"},{"$error":"#VALUE!"},{"$error":"#VALUE!"}]
[null,"All",null,null,null,null,null,null,{"$f":"GEOMEAN(I3:I62,I79:I90)","v":27.14060581612986},{"$f":"GEOMEAN(J3:J62,J79:J90)","v":15.635638706249342},null,null,null,null,null,null,{"$f":"GEOMEAN(Q3:Q62,Q79:Q90)","v":{"$error":"#NUM!"}},{"$f":"GEOMEAN(R3:R62,R79:R90)","v":{"$error":"#NUM!"}},{"$error":"#NUM!"},{"$error":"#NUM!"},null,{"$f":"AVERAGE(V3:V62,V79:V90)","v":{"$error":"#VALUE!"}},{"$f":"AVERAGE(W3:W62,W79:W90)","v":{"$error":"#VALUE!"}},{"$error":"#VALUE!"},{"$error":"#VALUE!"},{"$error":"#VALUE!"},{"$error":"#VALUE!"}]
[null,"Time geomean",null,null,null,null,null,null,{"$f":"GEOMEAN(I3:I106)","v":15.648626809885988},{"$f":"GEOMEAN(J3:J106)","v":8.8737684755910742},null,null,null,null,null,null,{"$f":"GEOMEAN(Q3:Q106)","v":{"$error":"#NUM!"}},{"$f":"GEOMEAN(R3:R106)","v":{"$error":"#NUM!"}}]
[null,"Time ratio",null,null,null,null,null,null,null,null,null,null,null,null,null,null,{"$f":"Q115/I115","v":{"$error":"#NUM!"}},{"$f":"R115/J115","v":{"$error":"#NUM!"}}]
[null,"Time sum (hours)"]

{"sheet":"LDP-10","index":5,"n_rows":117,"n_cols":27,"rows_kept":117,"cut":false,"hidden":false,"merged":[[0,3,0,9],[0,11,0,17],[0,21,0,23],[0,24,0,26]]}
[null,null,null,"Reference",null,null,null,null,null,null,null,"Tested",null,null,null,null,null,null,null,null,null,"BD-rate (piecewise cubic)",null,null,"BD-rate (cubic)"]
[null,null,"QPISlice","kbps","Y psnr","U psnr","V psnr","Enc T [s]","Dec T [s]","Enc T [h]",null,"kbps","Y psnr","U psnr","V psnr","Enc T [s]","Dec T [s]","Enc T [h]","Enc","Dec",null,"Y","U","V","Y","U","V"]
["Class A1","Tango2",22]
["4K",null,27]
[null,null,32]
[null,null,37]
[null,"FoodMarket4",22]
[null,null,27]
[null,null,32]
[null,null,37]
[null,"Campfire",22]
[null,null,27]
[null,null,32]
[null,null,37]
["Class A2","CatRobot1",22]
["4K",null,27]
[null,null,32]
[null,null,37]
[null,"DaylightRoad2",22]
[null,null,27]
[null,null,32]
[null,null,37]
[null,"ParkRunning3",22]
[null,null,27]
[null,null,32]
[null,null,37]
["Class B","MarketPlace",22,{"$f":"Reference!B337","v":0},{"$f":"Reference!C337","v":0},{"$f":"Reference!D337","v":0},{"$f":"Reference!E337","v":0},{"$f":"Reference!F337","v":0},{"$f":"Reference!G337","v":0},{"$f":"H27/3600","v":0},null,{"$f":"Test!B337","v":0},{"$f":"Test!C337","v":0},{"$f":"Test!D337","v":0},{"$f":"Test!E337","v":0},{"$f":"Test!F337","v":0},{"$f":"Test!G337","v":0},{"$f":"P27/3600","v":0},{"$f":"P27/H27","v":{"$error":"#DIV/0!"}},{"$error":"#DIV/0!"},null,{"$f":"bdrate($D27:$D30,E27:E30,$L27:$L30,M27:M30)","v":{"$error":"#VALUE!"}},{"$f":"bdrate($D27:$D30,F27:F30,$L27:$L30,N27:N30)","v":{"$error":"#VALUE!"}},{"$f":"bdrate($D27:$D30,G27:G30,$L27:$L30,O27:O30)","v":{"$error":"#VALUE!"}},{"$f":"bdrateOld($D27:$D30,E27:E30,$L27:$L30,M27:M30)","v":{"$error":"#VALUE!"}},{"$f":"bdrateOld($D27:$D30,F27:F30,$L27:$L30,N27:N30)","v":{"$error":"#VALUE!"}},{"$f":"bdrateOld($D27:$D30,G27:G30,$L27:$L30,O27:O30)","v":{"$error":"#VALUE!"}}]
["1080p",null,27,{"$f":"Reference!B338","v":0},{"$f":"Reference!C338","v":0},{"$f":"Reference!D338","v":0},{"$f":"Reference!E338","v":0},{"$f":"Reference!F338","v":0},{"$f":"Reference!G338","v":0},{"$f":"H28/3600","v":0},null,{"$f":"Test!B338","v":0},{"$f":"Test!C338","v":0},{"$f":"Test!D338","v":0},{"$f":"Test!E338","v":0},{"$f":"Test!F338","v":0},{"$f":"Test!G338","v":0},0,{"$error":"#DIV/0!"},{"$error":"#DIV/0!"}]
[null,null,32,{"$f":"Reference!B339","v":0},{"$f":"Reference!C339","v":0},{"$f":"Reference!D339","v":0},{"$f":"Reference!E339","v":0},{"$f":"Reference!F339","v":0},{"$f":"Reference!G339","v":0},0,null,{"$f":"Test!B339","v":0},{"$f":"Test!C339","v":0},{"$f":"Test!D339","v":0},{"$f":"Test!E339","v":0},{"$f":"Test!F339","v":0},{"$f":"Test!G339","v":0},0,{"$error":"#DIV/0!"},{"$error":"#DIV/0!"}]
[null,null,37,{"$f":"Reference!B340","v":0},{"$f":"Reference!C340","v":0},{"$f":"Reference!D340","v":0},{"$f":"Reference!E340","v":0},{"$f":"Reference!F340","v":0},{"$f":"Reference!G340","v":0},0,null,{"$f":"Test!B340","v":0},{"$f":"Test!C340","v":0},{"$f":"Test!D340","v":0},{"$f":"Test!E340","v":0},{"$f":"Test!F340","v":0},{"$f":"Test!G340","v":0},0,{"$error":"#DIV/0!"},{"$error":"#DIV/0!"}]
[null,"RitualDance",22,{"$f":"Reference!B341","v":0},{"$f":"Reference!C341","v":0},{"$f":"Reference!D341","v":0},{"$f":"Reference!E341","v":0},{"$f":"Reference!F341","v":0},{"$f":"Reference!G341","v":0},0,null,{"$f":"Test!B341","v":0},{"$f":"Test!C341","v":0},{"$f":"Test!D341","v":0},{"$f":"Test!E341","v":0},{"$f":"Test!F341","v":0},{"$f":"Test!G341","v":0},0,{"$error":"#DIV/0!"},{"$error":"#DIV/0!"},null,{"$f":"bdrate($D31:$D34,E31:E34,$L31:$L34,M31:M34)","v":{"$error":"#VALUE!"}},{"$f":"bdrate($D31:$D34,F31:F34,$L31:$L34,N31:N34)","v":{"$error":"#VALUE!"}},{"$f":"bdrate($D31:$D34,G31:G34,$L31:$L34,O31:O34)","v":{"$error":"#VALUE!"}},{"$f":"bdrateOld($D31:$D34,E31:E34,$L31:$L34,M31:M34)","v":{"$error":"#VALUE!"}},{"$f":"bdrateOld($D31:$D34,F31:F34,$L31:$L34,N31:N34)","v":{"$error":"#VALUE!"}},{"$f":"bdrateOld($D31:$D34,G31:G34,$L31:$L34,O31:O34)","v":{"$error":"#VALUE!"}}]
[null,null,27,{"$f":"Reference!B342","v":0},{"$f":"Reference!C342","v":0},{"$f":"Reference!D342","v":0},{"$f":"Reference!E342","v":0},{"$f":"Reference!F342","v":0},{"$f":"Reference!G342","v":0},0,null,{"$f":"Test!B342","v":0},{"$f":"Test!C342","v":0},{"$f":"Test!D342","v":0},{"$f":"Test!E342","v":0},{"$f":"Test!F342","v":0},{"$f":"Test!G342","v":0},0,{"$error":"#DIV/0!"},{"$error":"#DIV/0!"}]
[null,null,32,{"$f":"Reference!B343","v":0},{"$f":"Reference!C343","v":0},{"$f":"Reference!D343","v":0},{"$f":"Reference!E343","v":0},{"$f":"Reference!F343","v":0},{"$f":"Reference!G343","v":0},0,null,{"$f":"Test!B343","v":0},{"$f":"Test!C343","v":0},{"$f":"Test!D343","v":0},{"$f":"Test!E343","v":0},{"$f":"Test!F343","v":0},{"$f":"Test!G343","v":0},0,{"$error":"#DIV/0!"},{"$error":"#DIV/0!"}]
[null,null,37,{"$f":"Reference!B344","v":0},{"$f":"Reference!C344","v":0},{"$f":"Reference!D344","v":0},{"$f":"Reference!E344","v":0},{"$f":"Reference!F344","v":0},{"$f":"Reference!G344","v":0},0,null,{"$f":"Test!B344","v":0},{"$f":"Test!C344","v":0},{"$f":"Test!D344","v":0},{"$f":"Test!E344","v":0},{"$f":"Test!F344","v":0},{"$f":"Test!G344","v":0},0,{"$error":"#DIV/0!"},{"$error":"#DIV/0!"}]
[null,"Cactus",22,{"$f":"Reference!B345","v":0},{"$f":"Reference!C345","v":0},{"$f":"Reference!D345","v":0},{"$f":"Reference!E345","v":0},{"$f":"Reference!F345","v":0},{"$f":"Reference!G345","v":0},0,null,{"$f":"Test!B345","v":0},{"$f":"Test!C345","v":0},{"$f":"Test!D345","v":0},{"$f":"Test!E345","v":0},{"$f":"Test!F345","v":0},{"$f":"Test!G345","v":0},0,{"$error":"#DIV/0!"},{"$error":"#DIV/0!"},null,{"$f":"bdrate($D35:$D38,E35:E38,$L35:$L38,M35:M38)","v":{"$error":"#VALUE!"}},{"$f":"bdrate($D35:$D38,F35:F38,$L35:$L38,N35:N38)","v":{"$error":"#VALUE!"}},{"$f":"bdrate($D35:$D38,G35:G38,$L35:$L38,O35:O38)","v":{"$error":"#VALUE!"}},{"$f":"bdrateOld($D35:$D38,E35:E38,$L35:$L38,M35:M38)","v":{"$error":"#VALUE!"}},{"$f":"bdrateOld($D35:$D38,F35:F38,$L35:$L38,N35:N38)","v":{"$error":"#VALUE!"}},{"$f":"bdrateOld($D35:$D38,G35:G38,$L35:$L38,O35:O38)","v":{"$error":"#VALUE!"}}]
[null,null,27,{"$f":"Reference!B346","v":0},{"$f":"Reference!C346","v":0},{"$f":"Reference!D346","v":0},{"$f":"Reference!E346","v":0},{"$f":"Reference!F346","v":0},{"$f":"Reference!G346","v":0},0,null,{"$f":"Test!B346","v":0},{"$f":"Test!C346","v":0},{"$f":"Test!D346","v":0},{"$f":"Test!E346","v":0},{"$f":"Test!F346","v":0},{"$f":"Test!G346","v":0},0,{"$error":"#DIV/0!"},{"$error":"#DIV/0!"}]
[null,null,32,{"$f":"Reference!B347","v":0},{"$f":"Reference!C347","v":0},{"$f":"Reference!D347","v":0},{"$f":"Reference!E347","v":0},{"$f":"Reference!F347","v":0},{"$f":"Reference!G347","v":0},0,null,{"$f":"Test!B347","v":0},{"$f":"Test!C347","v":0},{"$f":"Test!D347","v":0},{"$f":"Test!E347","v":0},{"$f":"Test!F347","v":0},{"$f":"Test!G347","v":0},0,{"$error":"#DIV/0!"},{"$error":"#DIV/0!"}]
[null,null,37,{"$f":"Reference!B348","v":0},{"$f":"Reference!C348","v":0},{"$f":"Reference!D348","v":0},{"$f":"Reference!E348","v":0},{"$f":"Reference!F348","v":0},{"$f":"Reference!G348","v":0},0,null,{"$f":"Test!B348","v":0},{"$f":"Test!C348","v":0},{"$f":"Test!D348","v":0},{"$f":"Test!E348","v":0},{"$f":"Test!F348","v":0},{"$f":"Test!G348","v":0},0,{"$error":"#DIV/0!"},{"$error":"#DIV/0!"}]
[null,"BasketballDrive",22,{"$f":"Reference!B349","v":0},{"$f":"Reference!C349","v":0},{"$f":"Reference!D349","v":0},{"$f":"Reference!E349","v":0},{"$f":"Reference!F349","v":0},{"$f":"Reference!G349","v":0},0,null,{"$f":"Test!B349","v":0},{"$f":"Test!C349","v":0},{"$f":"Test!D349","v":0},{"$f":"Test!E349","v":0},{"$f":"Test!F349","v":0},{"$f":"Test!G349","v":0},0,{"$error":"#DIV/0!"},{"$error":"#DIV/0!"},null,{"$f":"bdrate($D39:$D42,E39:E42,$L39:$L42,M39:M42)","v":{"$error":"#VALUE!"}},{"$f":"bdrate($D39:$D42,F39:F42,$L39:$L42,N39:N42)","v":{"$error":"#VALUE!"}},{"$f":"bdrate($D39:$D42,G39:G42,$L39:$L42,O39:O42)","v":{"$error":"#VALUE!"}},{"$f":"bdrateOld($D39:$D42,E39:E42,$L39:$L42,M39:M42)","v":{"$error":"#VALUE!"}},{"$f":"bdrateOld($D39:$D42,F39:F42,$L39:$L42,N39:N42)","v":{"$error":"#VALUE!"}},{"$f":"bdrateOld($D39:$D42,G39:G42,$L39:$L42,O39:O42)","v":{"$error":"#VALUE!"}}]
[null,null,27,{"$f":"Reference!B350","v":0},{"$f":"Reference!C350","v":0},{"$f":"Reference!D350","v":0},{"$f":"Reference!E350","v":0},{"$f":"Reference!F350","v":0},{"$f":"Reference!G350","v":0},0,null,{"$f":"Test!B350","v":0},{"$f":"Test!C350","v":0},{"$f":"Test!D350","v":0},{"$f":"Test!E350","v":0},{"$f":"Test!F350","v":0},{"$f":"Test!G350","v":0},0,{"$error":"#DIV/0!"},{"$error":"#DIV/0!"}]
[null,null,32,{"$f":"Reference!B351","v":0},{"$f":"Reference!C351","v":0},{"$f":"Reference!D351","v":0},{"$f":"Reference!E351","v":0},{"$f":"Reference!F351","v":0},{"$f":"Reference!G351","v":0},0,null,{"$f":"Test!B351","v":0},{"$f":"Test!C351","v":0},{"$f":"Test!D351","v":0},{"$f":"Test!E351","v":0},{"$f":"Test!F351","v":0},{"$f":"Test!G351","v":0},0,{"$error":"#DIV/0!"},{"$error":"#DIV/0!"}]
[null,null,37,{"$f":"Reference!B352","v":0},{"$f":"Reference!C352","v":0},{"$f":"Reference!D352","v":0},{"$f":"Reference!E352","v":0},{"$f":"Reference!F352","v":0},{"$f":"Reference!G352","v":0},0,null,{"$f":"Test!B352","v":0},{"$f":"Test!C352","v":0},{"$f":"Test!D352","v":0},{"$f":"Test!E352","v":0},{"$f":"Test!F352","v":0},{"$f":"Test!G352","v":0},0,{"$error":"#DIV/0!"},{"$error":"#DIV/0!"}]
[null,"BQTerrace",22,{"$f":"Reference!B353","v":0},{"$f":"Reference!C353","v":0},{"$f":"Reference!D353","v":0},{"$f":"Reference!E353","v":0},{"$f":"Reference!F353","v":0},{"$f":"Reference!G353","v":0},0,null,{"$f":"Test!B353","v":0},{"$f":"Test!C353","v":0},{"$f":"Test!D353","v":0},{"$f":"Test!E353","v":0},{"$f":"Test!F353","v":0},{"$f":"Test!G353","v":0},0,{"$error":"#DIV/0!"},{"$error":"#DIV/0!"},null,{"$f":"bdrate($D43:$D46,E43:E46,$L43:$L46,M43:M46)","v":{"$error":"#VALUE!"}},{"$f":"bdrate($D43:$D46,F43:F46,$L43:$L46,N43:N46)","v":{"$error":"#VALUE!"}},{"$f":"bdrate($D43:$D46,G43:G46,$L43:$L46,O43:O46)","v":{"$error":"#VALUE!"}},{"$f":"bdrateOld($D43:$D46,E43:E46,$L43:$L46,M43:M46)","v":{"$error":"#VALUE!"}},{"$f":"bdrateOld($D43:$D46,F43:F46,$L43:$L46,N43:N46)","v":{"$error":"#VALUE!"}},{"$f":"bdrateOld($D43:$D46,G43:G46,$L43:$L46,O43:O46)","v":{"$error":"#VALUE!"}}]
[null,null,27,{"$f":"Reference!B354","v":0},{"$f":"Reference!C354","v":0},{"$f":"Reference!D354","v":0},{"$f":"Reference!E354","v":0},{"$f":"Reference!F354","v":0},{"$f":"Reference!G354","v":0},0,null,{"$f":"Test!B354","v":0},{"$f":"Test!C354","v":0},{"$f":"Test!D354","v":0},{"$f":"Test!E354","v":0},{"$f":"Test!F354","v":0},{"$f":"Test!G354","v":0},0,{"$error":"#DIV/0!"},{"$error":"#DIV/0!"}]
[null,null,32,{"$f":"Reference!B355","v":0},{"$f":"Reference!C355","v":0},{"$f":"Reference!D355","v":0},{"$f":"Reference!E355","v":0},{"$f":"Reference!F355","v":0},{"$f":"Reference!G355","v":0},0,null,{"$f":"Test!B355","v":0},{"$f":"Test!C355","v":0},{"$f":"Test!D355","v":0},{"$f":"Test!E355","v":0},{"$f":"Test!F355","v":0},{"$f":"Test!G355","v":0},0,{"$error":"#DIV/0!"},{"$error":"#DIV/0!"}]
[null,null,37,{"$f":"Reference!B356","v":0},{"$f":"Reference!C356","v":0},{"$f":"Reference!D356","v":0},{"$f":"Reference!E356","v":0},{"$f":"Reference!F356","v":0},{"$f":"Reference!G356","v":0},0,null,{"$f":"Test!B356","v":0},{"$f":"Test!C356","v":0},{"$f":"Test!D356","v":0},{"$f":"Test!E356","v":0},{"$f":"Test!F356","v":0},{"$f":"Test!G356","v":0},0,{"$error":"#DIV/0!"},{"$error":"#DIV/0!"}]
["Class C","BasketballDrill",22,{"$f":"Reference!B357","v":0},{"$f":"Reference!C357","v":0},{"$f":"Reference!D357","v":0},{"$f":"Reference!E357","v":0},{"$f":"Reference!F357","v":0},{"$f":"Reference!G357","v":0},0,null,{"$f":"Test!B357","v":0},{"$f":"Test!C357","v":0},{"$f":"Test!D357","v":0},{"$f":"Test!E357","v":0},{"$f":"Test!F357","v":0},{"$f":"Test!G357","v":0},0,{"$f":"P47/H47","v":{"$error":"#DIV/0!"}},{"$error":"#DIV/0!"},null,{"$f":"bdrate($D47:$D50,E47:E50,$L47:$L50,M47:M50)","v":{"$error":"#VALUE!"}},{"$f":"bdrate($D47:$D50,F47:F50,$L47:$L50,N47:N50)","v":{"$error":"#VALUE!"}},{"$f":"bdrate($D47:$D50,G47:G50,$L47:$L50,O47:O50)","v":{"$error":"#VALUE!"}},{"$f":"bdrateOld($D47:$D50,E47:E50,$L47:$L50,M47:M50)","v":{"$error":"#VALUE!"}},{"$f":"bdrateOld($D47:$D50,F47:F50,$L47:$L50,N47:N50)","v":{"$error":"#VALUE!"}},{"$f":"bdrateOld($D47:$D50,G47:G50,$L47:$L50,O47:O50)","v":{"$error":"#VALUE!"}}]
["WVGA",null,27,{"$f":"Reference!B358","v":0},{"$f":"Reference!C358","v":0},{"$f":"Reference!D358","v":0},{"$f":"Reference!E358","v":0},{"$f":"Reference!F358","v":0},{"$f":"Reference!G358","v":0},0,null,{"$f":"Test!B358","v":0},{"$f":"Test!C358","v":0},{"$f":"Test!D358","v":0},{"$f":"Test!E358","v":0},{"$f":"Test!F358","v":0},{"$f":"Test!G358","v":0},0,{"$error":"#DIV/0!"},{"$error":"#DIV/0!"}]
[null,null,32,{"$f":"Reference!B359","v":0},{"$f":"Reference!C359","v":0},{"$f":"Reference!D359","v":0},{"$f":"Reference!E359","v":0},{"$f":"Reference!F359","v":0},{"$f":"Reference!G359","v":0},0,null,{"$f":"Test!B359","v":0},{"$f":"Test!C359","v":0},{"$f":"Test!D359","v":0},{"$f":"Test!E359","v":0},{"$f":"Test!F359","v":0},{"$f":"Test!G359","v":0},0,{"$error":"#DIV/0!"},{"$error":"#DIV/0!"}]
[null,null,37,{"$f":"Reference!B360","v":0},{"$f":"Reference!C360","v":0},{"$f":"Reference!D360","v":0},{"$f":"Reference!E360","v":0},{"$f":"Reference!F360","v":0},{"$f":"Reference!G360","v":0},0,null,{"$f":"Test!B360","v":0},{"$f":"Test!C360","v":0},{"$f":"Test!D360","v":0},{"$f":"Test!E360","v":0},{"$f":"Test!F360","v":0},{"$f":"Test!G360","v":0},0,{"$error":"#DIV/0!"},{"$error":"#DIV/0!"}]
[null,"BQMall",22,{"$f":"Reference!B361","v":0},{"$f":"Reference!C361","v":0},{"$f":"Reference!D361","v":0},{"$f":"Reference!E361","v":0},{"$f":"Reference!F361","v":0},{"$f":"Reference!G361","v":0},0,null,{"$f":"Test!B361","v":0},{"$f":"Test!C361","v":0},{"$f":"Test!D361","v":0},{"$f":"Test!E361","v":0},{"$f":"Test!F361","v":0},{"$f":"Test!G361","v":0},0,{"$error":"#DIV/0!"},{"$error":"#DIV/0!"},null,{"$f":"bdrate($D51:$D54,E51:E54,$L51:$L54,M51:M54)","v":{"$error":"#VALUE!"}},{"$f":"bdrate($D51:$D54,F51:F54,$L51:$L54,N51:N54)","v":{"$error":"#VALUE!"}},{"$f":"bdrate($D51:$D54,G51:G54,$L51:$L54,O51:O54)","v":{"$error":"#VALUE!"}},{"$f":"bdrateOld($D51:$D54,E51:E54,$L51:$L54,M51:M54)","v":{"$error":"#VALUE!"}},{"$f":"bdrateOld($D51:$D54,F51:F54,$L51:$L54,N51:N54)","v":{"$error":"#VALUE!"}},{"$f":"bdrateOld($D51:$D54,G51:G54,$L51:$L54,O51:O54)","v":{"$error":"#VALUE!"}}]
[null,null,27,{"$f":"Reference!B362","v":0},{"$f":"Reference!C362","v":0},{"$f":"Reference!D362","v":0},{"$f":"Reference!E362","v":0},{"$f":"Reference!F362","v":0},{"$f":"Reference!G362","v":0},0,null,{"$f":"Test!B362","v":0},{"$f":"Test!C362","v":0},{"$f":"Test!D362","v":0},{"$f":"Test!E362","v":0},{"$f":"Test!F362","v":0},{"$f":"Test!G362","v":0},0,{"$error":"#DIV/0!"},{"$error":"#DIV/0!"}]
[null,null,32,{"$f":"Reference!B363","v":0},{"$f":"Reference!C363","v":0},{"$f":"Reference!D363","v":0},{"$f":"Reference!E363","v":0},{"$f":"Reference!F363","v":0},{"$f":"Reference!G363","v":0},0,null,{"$f":"Test!B363","v":0},{"$f":"Test!C363","v":0},{"$f":"Test!D363","v":0},{"$f":"Test!E363","v":0},{"$f":"Test!F363","v":0},{"$f":"Test!G363","v":0},0,{"$error":"#DIV/0!"},{"$error":"#DIV/0!"}]
[null,null,37,{"$f":"Reference!B364","v":0},{"$f":"Reference!C364","v":0},{"$f":"Reference!D364","v":0},{"$f":"Reference!E364","v":0},{"$f":"Reference!F364","v":0},{"$f":"Reference!G364","v":0},0,null,{"$f":"Test!B364","v":0},{"$f":"Test!C364","v":0},{"$f":"Test!D364","v":0},{"$f":"Test!E364","v":0},{"$f":"Test!F364","v":0},{"$f":"Test!G364","v":0},0,{"$error":"#DIV/0!"},{"$error":"#DIV/0!"}]
[null,"PartyScene",22,{"$f":"Reference!B365","v":0},{"$f":"Reference!C365","v":0},{"$f":"Reference!D365","v":0},{"$f":"Reference!E365","v":0},{"$f":"Reference!F365","v":0},{"$f":"Reference!G365","v":0},0,null,{"$f":"Test!B365","v":0},{"$f":"Test!C365","v":0},{"$f":"Test!D365","v":0},{"$f":"Test!E365","v":0},{"$f":"Test!F365","v":0},{"$f":"Test!G365","v":0},0,{"$error":"#DIV/0!"},{"$error":"#DIV/0!"},null,{"$f":"bdrate($D55:$D58,E55:E58,$L55:$L58,M55:M58)","v":{"$error":"#VALUE!"}},{"$f":"bdrate($D55:$D58,F55:F58,$L55:$L58,N55:N58)","v":{"$error":"#VALUE!"}},{"$f":"bdrate($D55:$D58,G55:G58,$L55:$L58,O55:O58)","v":{"$error":"#VALUE!"}},{"$f":"bdrateOld($D55:$D58,E55:E58,$L55:$L58,M55:M58)","v":{"$error":"#VALUE!"}},{"$f":"bdrateOld($D55:$D58,F55:F58,$L55:$L58,N55:N58)","v":{"$error":"#VALUE!"}},{"$f":"bdrateOld($D55:$D58,G55:G58,$L55:$L58,O55:O58)","v":{"$error":"#VALUE!"}}]
[null,null,27,{"$f":"Reference!B366","v":0},{"$f":"Reference!C366","v":0},{"$f":"Reference!D366","v":0},{"$f":"Reference!E366","v":0},{"$f":"Reference!F366","v":0},{"$f":"Reference!G366","v":0},0,null,{"$f":"Test!B366","v":0},{"$f":"Test!C366","v":0},{"$f":"Test!D366","v":0},{"$f":"Test!E366","v":0},{"$f":"Test!F366","v":0},{"$f":"Test!G366","v":0},0,{"$error":"#DIV/0!"},{"$error":"#DIV/0!"}]
[null,null,32,{"$f":"Reference!B367","v":0},{"$f":"Reference!C367","v":0},{"$f":"Reference!D367","v":0},{"$f":"Reference!E367","v":0},{"$f":"Reference!F367","v":0},{"$f":"Reference!G367","v":0},0,null,{"$f":"Test!B367","v":0},{"$f":"Test!C367","v":0},{"$f":"Test!D367","v":0},{"$f":"Test!E367","v":0},{"$f":"Test!F367","v":0},{"$f":"Test!G367","v":0},0,{"$error":"#DIV/0!"},{"$error":"#DIV/0!"}]
[null,null,37,{"$f":"Reference!B368","v":0},{"$f":"Reference!C368","v":0},{"$f":"Reference!D368","v":0},{"$f":"Reference!E368","v":0},{"$f":"Reference!F368","v":0},{"$f":"Reference!G368","v":0},0,null,{"$f":"Test!B368","v":0},{"$f":"Test!C368","v":0},{"$f":"Test!D368","v":0},{"$f":"Test!E368","v":0},{"$f":"Test!F368","v":0},{"$f":"Test!G368","v":0},0,{"$error":"#DIV/0!"},{"$error":"#DIV/0!"}]
[null,"RaceHorses",22,{"$f":"Reference!B369","v":0},{"$f":"Reference!C369","v":0},{"$f":"Reference!D369","v":0},{"$f":"Reference!E369","v":0},{"$f":"Reference!F369","v":0},{"$f":"Reference!G369","v":0},0,null,{"$f":"Test!B369","v":0},{"$f":"Test!C369","v":0},{"$f":"Test!D369","v":0},{"$f":"Test!E369","v":0},{"$f":"Test!F369","v":0},{"$f":"Test!G369","v":0},0,{"$error":"#DIV/0!"},{"$error":"#DIV/0!"},null,{"$f":"bdrate($D59:$D62,E59:E62,$L59:$L62,M59:M62)","v":{"$error":"#VALUE!"}},{"$f":"bdrate($D59:$D62,F59:F62,$L59:$L62,N59:N62)","v":{"$error":"#VALUE!"}},{"$f":"bdrate($D59:$D62,G59:G62,$L59:$L62,O59:O62)","v":{"$error":"#VALUE!"}},{"$f":"bdrateOld($D59:$D62,E59:E62,$L59:$L62,M59:M62)","v":{"$error":"#VALUE!"}},{"$f":"bdrateOld($D59:$D62,F59:F62,$L59:$L62,N59:N62)","v":{"$error":"#VALUE!"}},{"$f":"bdrateOld($D59:$D62,G59:G62,$L59:$L62,O59:O62)","v":{"$error":"#VALUE!"}}]
[null,null,27,{"$f":"Reference!B370","v":0},{"$f":"Reference!C370","v":0},{"$f":"Reference!D370","v":0},{"$f":"Reference!E370","v":0},{"$f":"Reference!F370","v":0},{"$f":"Reference!G370","v":0},0,null,{"$f":"Test!B370","v":0},{"$f":"Test!C370","v":0},{"$f":"Test!D370","v":0},{"$f":"Test!E370","v":0},{"$f":"Test!F370","v":0},{"$f":"Test!G370","v":0},0,{"$error":"#DIV/0!"},{"$error":"#DIV/0!"}]
[null,null,32,{"$f":"Reference!B371","v":0},{"$f":"Reference!C371","v":0},{"$f":"Reference!D371","v":0},{"$f":"Reference!E371","v":0},{"$f":"Reference!F371","v":0},{"$f":"Reference!G371","v":0},0,null,{"$f":"Test!B371","v":0},{"$f":"Test!C371","v":0},{"$f":"Test!D371","v":0},{"$f":"Test!E371","v":0},{"$f":"Test!F371","v":0},{"$f":"Test!G371","v":0},0,{"$error":"#DIV/0!"},{"$error":"#DIV/0!"}]
[null,null,37,{"$f":"Reference!B372","v":0},{"$f":"Reference!C372","v":0},{"$f":"Reference!D372","v":0},{"$f":"Reference!E372","v":0},{"$f":"Reference!F372","v":0},{"$f":"Reference!G372","v":0},0,null,{"$f":"Test!B372","v":0},{"$f":"Test!C372","v":0},{"$f":"Test!D372","v":0},{"$f":"Test!E372","v":0},{"$f":"Test!F372","v":0},{"$f":"Test!G372","v":0},0,{"$error":"#DIV/0!"},{"$error":"#DIV/0!"}]
["Class D","BasketballPass",{"$f":"C59","v":22},{"$f":"Reference!B373","v":0},{"$f":"Reference!C373","v":0},{"$f":"Reference!D373","v":0},{"$f":"Reference!E373","v":0},{"$f":"Reference!F373","v":0},{"$f":"Reference!G373","v":0},0,null,{"$f":"Test!B373","v":0},{"$f":"Test!C373","v":0},{"$f":"Test!D373","v":0},{"$f":"Test!E373","v":0},{"$f":"Test!F373","v":0},{"$f":"Test!G373","v":0},0,{"$f":"P63/H63","v":{"$error":"#DIV/0!"}},{"$error":"#DIV/0!"},null,{"$f":"bdrate($D63:$D66,E63:E66,$L63:$L66,M63:M66)","v":{"$error":"#VALUE!"}},{"$f":"bdrate($D63:$D66,F63:F66,$L63:$L66,N63:N66)","v":{"$error":"#VALUE!"}},{"$f":"bdrate($D63:$D66,G63:G66,$L63:$L66,O63:O66)","v":{"$error":"#VALUE!"}},{"$f":"bdrateOld($D63:$D66,E63:E66,$L63:$L66,M63:M66)","v":{"$error":"#VALUE!"}},{"$f":"bdrateOld($D63:$D66,F63:F66,$L63:$L66,N63:N66)","v":{"$error":"#VALUE!"}},{"$f":"bdrateOld($D63:$D66,G63:G66,$L63:$L66,O63:O66)","v":{"$error":"#VALUE!"}}]
["WQVGA",null,{"$f":"C60","v":27},{"$f":"Reference!B374","v":0},{"$f":"Reference!C374","v":0},{"$f":"Reference!D374","v":0},{"$f":"Reference!E374","v":0},{"$f":"Reference!F374","v":0},{"$f":"Reference!G374","v":0},0,null,{"$f":"Test!B374","v":0},{"$f":"Test!C374","v":0},{"$f":"Test!D374","v":0},{"$f":"Test!E374","v":0},{"$f":"Test!F374","v":0},{"$f":"Test!G374","v":0},0,{"$f":"P64/H64","v":{"$error":"#DIV/0!"}},{"$error":"#DIV/0!"}]
[null,null,{"$f":"C61","v":32},{"$f":"Reference!B375","v":0},{"$f":"Reference!C375","v":0},{"$f":"Reference!D375","v":0},{"$f":"Reference!E375","v":0},{"$f":"Reference!F375","v":0},{"$f":"Reference!G375","v":0},0,null,{"$f":"Test!B375","v":0},{"$f":"Test!C375","v":0},{"$f":"Test!D375","v":0},{"$f":"Test!E375","v":0},{"$f":"Test!F375","v":0},{"$f":"Test!G375","v":0},0,{"$f":"P65/H65","v":{"$error":"#DIV/0!"}},{"$error":"#DIV/0!"}]
[null,null,{"$f":"C62","v":37},{"$f":"Reference!B376","v":0},{"$f":"Reference!C376","v":0},{"$f":"Reference!D376","v":0},{"$f":"Reference!E376","v":0},{"$f":"Reference!F376","v":0},{"$f":"Reference!G376","v":0},0,null,{"$f":"Test!B376","v":0},{"$f":"Test!C376","v":0},{"$f":"Test!D376","v":0},{"$f":"Test!E376","v":0},{"$f":"Test!F376","v":0},{"$f":"Test!G376","v":0},0,{"$f":"P66/H66","v":{"$error":"#DIV/0!"}},{"$error":"#DIV/0!"}]
[null,"BQSquare",22,{"$f":"Reference!B377","v":0},{"$f":"Reference!C377","v":0},{"$f":"Reference!D377","v":0},{"$f":"Reference!E377","v":0},{"$f":"Reference!F377","v":0},{"$f":"Reference!G377","v":0},0,null,{"$f":"Test!B377","v":0},{"$f":"Test!C377","v":0},{"$f":"Test!D377","v":0},{"$f":"Test!E377","v":0},{"$f":"Test!F377","v":0},{"$f":"Test!G377","v":0},0,{"$error":"#DIV/0!"},{"$error":"#DIV/0!"},null,{"$f":"bdrate($D67:$D70,E67:E70,$L67:$L70,M67:M70)","v":{"$error":"#VALUE!"}},{"$f":"bdrate($D67:$D70,F67:F70,$L67:$L70,N67:N70)","v":{"$error":"#VALUE!"}},{"$f":"bdrate($D67:$D70,G67:G70,$L67:$L70,O67:O70)","v":{"$error":"#VALUE!"}},{"$f":"bdrateOld($D67:$D70,E67:E70,$L67:$L70,M67:M70)","v":{"$error":"#VALUE!"}},{"$f":"bdrateOld($D67:$D70,F67:F70,$L67:$L70,N67:N70)","v":{"$error":"#VALUE!"}},{"$f":"bdrateOld($D67:$D70,G67:G70,$L67:$L70,O67:O70)","v":{"$error":"#VALUE!"}}]
[null,null,27,{"$f":"Reference!B378","v":0},{"$f":"Reference!C378","v":0},{"$f":"Reference!D378","v":0},{"$f":"Reference!E378","v":0},{"$f":"Reference!F378","v":0},{"$f":"Reference!G378","v":0},0,null,{"$f":"Test!B378","v":0},{"$f":"Test!C378","v":0},{"$f":"Test!D378","v":0},{"$f":"Test!E378","v":0},{"$f":"Test!F378","v":0},{"$f":"Test!G378","v":0},0,{"$error":"#DIV/0!"},{"$error":"#DIV/0!"}]
[null,null,32,{"$f":"Reference!B379","v":0},{"$f":"Reference!C379","v":0},{"$f":"Reference!D379","v":0},{"$f":"Reference!E379","v":0},{"$f":"Reference!F379","v":0},{"$f":"Reference!G379","v":0},0,null,{"$f":"Test!B379","v":0},{"$f":"Test!C379","v":0},{"$f":"Test!D379","v":0},{"$f":"Test!E379","v":0},{"$f":"Test!F379","v":0},{"$f":"Test!G379","v":0},0,{"$error":"#DIV/0!"},{"$error":"#DIV/0!"}]
[null,null,37,{"$f":"Reference!B380","v":0},{"$f":"Reference!C380","v":0},{"$f":"Reference!D380","v":0},{"$f":"Reference!E380","v":0},{"$f":"Reference!F380","v":0},{"$f":"Reference!G380","v":0},0,null,{"$f":"Test!B380","v":0},{"$f":"Test!C380","v":0},{"$f":"Test!D380","v":0},{"$f":"Test!E380","v":0},{"$f":"Test!F380","v":0},{"$f":"Test!G380","v":0},0,{"$error":"#DIV/0!"},{"$error":"#DIV/0!"}]
[null,"BlowingBubbles",22,{"$f":"Reference!B381","v":0},{"$f":"Reference!C381","v":0},{"$f":"Reference!D381","v":0},{"$f":"Reference!E381","v":0},{"$f":"Reference!F381","v":0},{"$f":"Reference!G381","v":0},0,null,{"$f":"Test!B381","v":0},{"$f":"Test!C381","v":0},{"$f":"Test!D381","v":0},{"$f":"Test!E381","v":0},{"$f":"Test!F381","v":0},{"$f":"Test!G381","v":0},0,{"$f":"P71/H71","v":{"$error":"#DIV/0!"}},{"$error":"#DIV/0!"},null,{"$f":"bdrate($D71:$D74,E71:E74,$L71:$L74,M71:M74)","v":{"$error":"#VALUE!"}},{"$f":"bdrate($D71:$D74,F71:F74,$L71:$L74,N71:N74)","v":{"$error":"#VALUE!"}},{"$f":"bdrate($D71:$D74,G71:G74,$L71:$L74,O71:O74)","v":{"$error":"#VALUE!"}},{"$f":"bdrateOld($D71:$D74,E71:E74,$L71:$L74,M71:M74)","v":{"$error":"#VALUE!"}},{"$f":"bdrateOld($D71:$D74,F71:F74,$L71:$L74,N71:N74)","v":{"$error":"#VALUE!"}},{"$f":"bdrateOld($D71:$D74,G71:G74,$L71:$L74,O71:O74)","v":{"$error":"#VALUE!"}}]
[null,null,27,{"$f":"Reference!B382","v":0},{"$f":"Reference!C382","v":0},{"$f":"Reference!D382","v":0},{"$f":"Reference!E382","v":0},{"$f":"Reference!F382","v":0},{"$f":"Reference!G382","v":0},0,null,{"$f":"Test!B382","v":0},{"$f":"Test!C382","v":0},{"$f":"Test!D382","v":0},{"$f":"Test!E382","v":0},{"$f":"Test!F382","v":0},{"$f":"Test!G382","v":0},0,{"$error":"#DIV/0!"},{"$error":"#DIV/0!"}]
[null,null,32,{"$f":"Reference!B383","v":0},{"$f":"Reference!C383","v":0},{"$f":"Reference!D383","v":0},{"$f":"Reference!E383","v":0},{"$f":"Reference!F383","v":0},{"$f":"Reference!G383","v":0},0,null,{"$f":"Test!B383","v":0},{"$f":"Test!C383","v":0},{"$f":"Test!D383","v":0},{"$f":"Test!E383","v":0},{"$f":"Test!F383","v":0},{"$f":"Test!G383","v":0},0,{"$error":"#DIV/0!"},{"$error":"#DIV/0!"}]
[null,null,37,{"$f":"Reference!B384","v":0},{"$f":"Reference!C384","v":0},{"$f":"Reference!D384","v":0},{"$f":"Reference!E384","v":0},{"$f":"Reference!F384","v":0},{"$f":"Reference!G384","v":0},0,null,{"$f":"Test!B384","v":0},{"$f":"Test!C384","v":0},{"$f":"Test!D384","v":0},{"$f":"Test!E384","v":0},{"$f":"Test!F384","v":0},{"$f":"Test!G384","v":0},0,{"$error":"#DIV/0!"},{"$error":"#DIV/0!"}]
[null,"RaceHorses",22,{"$f":"Reference!B385","v":0},{"$f":"Reference!C385","v":0},{"$f":"Reference!D385","v":0},{"$f":"Reference!E385","v":0},{"$f":"Reference!F385","v":0},{"$f":"Reference!G385","v":0},0,null,{"$f":"Test!B385","v":0},{"$f":"Test!C385","v":0},{"$f":"Test!D385","v":0},{"$f":"Test!E385","v":0},{"$f":"Test!F385","v":0},{"$f":"Test!G385","v":0},0,{"$error":"#DIV/0!"},{"$error":"#DIV/0!"},null,{"$f":"bdrate($D75:$D78,E75:E78,$L75:$L78,M75:M78)","v":{"$error":"#VALUE!"}},{"$f":"bdrate($D75:$D78,F75:F78,$L75:$L78,N75:N78)","v":{"$error":"#VALUE!"}},{"$f":"bdrate($D75:$D78,G75:G78,$L75:$L78,O75:O78)","v":{"$error":"#VALUE!"}},{"$f":"bdrateOld($D75:$D78,E75:E78,$L75:$L78,M75:M78)","v":{"$error":"#VALUE!"}},{"$f":"bdrateOld($D75:$D78,F75:F78,$L75:$L78,N75:N78)","v":{"$error":"#VALUE!"}},{"$f":"bdrateOld($D75:$D78,G75:G78,$L75:$L78,O75:O78)","v":{"$error":"#VALUE!"}}]
[null,null,27,{"$f":"Reference!B386","v":0},{"$f":"Reference!C386","v":0},{"$f":"Reference!D386","v":0},{"$f":"Reference!E386","v":0},{"$f":"Reference!F386","v":0},{"$f":"Reference!G386","v":0},0,null,{"$f":"Test!B386","v":0},{"$f":"Test!C386","v":0},{"$f":"Test!D386","v":0},{"$f":"Test!E386","v":0},{"$f":"Test!F386","v":0},{"$f":"Test!G386","v":0},0,{"$error":"#DIV/0!"},{"$error":"#DIV/0!"}]
[null,null,32,{"$f":"Reference!B387","v":0},{"$f":"Reference!C387","v":0},{"$f":"Reference!D387","v":0},{"$f":"Reference!E387","v":0},{"$f":"Reference!F387","v":0},{"$f":"Reference!G387","v":0},0,null,{"$f":"Test!B387","v":0},{"$f":"Test!C387","v":0},{"$f":"Test!D387","v":0},{"$f":"Test!E387","v":0},{"$f":"Test!F387","v":0},{"$f":"Test!G387","v":0},0,{"$error":"#DIV/0!"},{"$error":"#DIV/0!"}]
[null,null,37,{"$f":"Reference!B388","v":0},{"$f":"Reference!C388","v":0},{"$f":"Reference!D388","v":0},{"$f":"Reference!E388","v":0},{"$f":"Reference!F388","v":0},{"$f":"Reference!G388","v":0},0,null,{"$f":"Test!B388","v":0},{"$f":"Test!C388","v":0},{"$f":"Test!D388","v":0},{"$f":"Test!E388","v":0},{"$f":"Test!F388","v":0},{"$f":"Test!G388","v":0},0,{"$error":"#DIV/0!"},{"$error":"#DIV/0!"}]
["ClassE","FourPeople",22,{"$f":"Reference!B389","v":0},{"$f":"Reference!C389","v":0},{"$f":"Reference!D389","v":0},{"$f":"Reference!E389","v":0},{"$f":"Reference!F389","v":0},{"$f":"Reference!G389","v":0},0,null,{"$f":"Test!B389","v":0},{"$f":"Test!C389","v":0},{"$f":"Test!D389","v":0},{"$f":"Test!E389","v":0},{"$f":"Test!F389","v":0},{"$f":"Test!G389","v":0},0,{"$error":"#DIV/0!"},{"$error":"#DIV/0!"},null,{"$f":"bdrate($D79:$D82,E79:E82,$L79:$L82,M79:M82)","v":{"$error":"#VALUE!"}},{"$f":"bdrate($D79:$D82,F79:F82,$L79:$L82,N79:N82)","v":{"$error":"#VALUE!"}},{"$f":"bdrate($D79:$D82,G79:G82,$L79:$L82,O79:O82)","v":{"$error":"#VALUE!"}},{"$f":"bdrateOld($D79:$D82,E79:E82,$L79:$L82,M79:M82)","v":{"$error":"#VALUE!"}},{"$f":"bdrateOld($D79:$D82,F79:F82,$L79:$L82,N79:N82)","v":{"$error":"#VALUE!"}},{"$f":"bdrateOld($D79:$D82,G79:G82,$L79:$L82,O79:O82)","v":{"$error":"#VALUE!"}}]
["720p",null,27,{"$f":"Reference!B390","v":0},{"$f":"Reference!C390","v":0},{"$f":"Reference!D390","v":0},{"$f":"Reference!E390","v":0},{"$f":"Reference!F390","v":0},{"$f":"Reference!G390","v":0},0,null,{"$f":"Test!B390","v":0},{"$f":"Test!C390","v":0},{"$f":"Test!D390","v":0},{"$f":"Test!E390","v":0},{"$f":"Test!F390","v":0},{"$f":"Test!G390","v":0},{"$f":"P80/3600","v":0},{"$error":"#DIV/0!"},{"$error":"#DIV/0!"}]
[null,null,32,{"$f":"Reference!B391","v":0},{"$f":"Reference!C391","v":0},{"$f":"Reference!D391","v":0},{"$f":"Reference!E391","v":0},{"$f":"Reference!F391","v":0},{"$f":"Reference!G391","v":0},0,null,{"$f":"Test!B391","v":0},{"$f":"Test!C391","v":0},{"$f":"Test!D391","v":0},{"$f":"Test!E391","v":0},{"$f":"Test!F391","v":0},{"$f":"Test!G391","v":0},0,{"$error":"#DIV/0!"},{"$error":"#DIV/0!"}]
[null,null,37,{"$f":"Reference!B392","v":0},{"$f":"Reference!C392","v":0},{"$f":"Reference!D392","v":0},{"$f":"Reference!E392","v":0},{"$f":"Reference!F392","v":0},{"$f":"Reference!G392","v":0},0,null,{"$f":"Test!B392","v":0},{"$f":"Test!C392","v":0},{"$f":"Test!D392","v":0},{"$f":"Test!E392","v":0},{"$f":"Test!F392","v":0},{"$f":"Test!G392","v":0},0,{"$error":"#DIV/0!"},{"$error":"#DIV/0!"}]
[null,"Johnny",22,{"$f":"Reference!B393","v":0},{"$f":"Reference!C393","v":0},{"$f":"Reference!D393","v":0},{"$f":"Reference!E393","v":0},{"$f":"Reference!F393","v":0},{"$f":"Reference!G393","v":0},0,null,{"$f":"Test!B393","v":0},{"$f":"Test!C393","v":0},{"$f":"Test!D393","v":0},{"$f":"Test!E393","v":0},{"$f":"Test!F393","v":0},{"$f":"Test!G393","v":0},0,{"$error":"#DIV/0!"},{"$error":"#DIV/0!"},null,{"$f":"bdrate($D83:$D86,E83:E86,$L83:$L86,M83:M86)","v":{"$error":"#VALUE!"}},{"$f":"bdrate($D83:$D86,F83:F86,$L83:$L86,N83:N86)","v":{"$error":"#VALUE!"}},{"$f":"bdrate($D83:$D86,G83:G86,$L83:$L86,O83:O86)","v":{"$error":"#VALUE!"}},{"$f":"bdrateOld($D83:$D86,E83:E86,$L83:$L86,M83:M86)","v":{"$error":"#VALUE!"}},{"$f":"bdrateOld($D83:$D86,F83:F86,$L83:$L86,N83:N86)","v":{"$error":"#VALUE!"}},{"$f":"bdrateOld($D83:$D86,G83:G86,$L83:$L86,O83:O86)","v":{"$error":"#VALUE!"}}]
[null,null,27,{"$f":"Reference!B394","v":0},{"$f":"Reference!C394","v":0},{"$f":"Reference!D394","v":0},{"$f":"Reference!E394","v":0},{"$f":"Reference!F394","v":0},{"$f":"Reference!G394","v":0},0,null,{"$f":"Test!B394","v":0},{"$f":"Test!C394","v":0},{"$f":"Test!D394","v":0},{"$f":"Test!E394","v":0},{"$f":"Test!F394","v":0},{"$f":"Test!G394","v":0},0,{"$error":"#DIV/0!"},{"$error":"#DIV/0!"}]
[null,null,32,{"$f":"Reference!B395","v":0},{"$f":"Reference!C395","v":0},{"$f":"Reference!D395","v":0},{"$f":"Reference!E395","v":0},{"$f":"Reference!F395","v":0},{"$f":"Reference!G395","v":0},0,null,{"$f":"Test!B395","v":0},{"$f":"Test!C395","v":0},{"$f":"Test!D395","v":0},{"$f":"Test!E395","v":0},{"$f":"Test!F395","v":0},{"$f":"Test!G395","v":0},0,{"$error":"#DIV/0!"},{"$error":"#DIV/0!"}]
[null,null,37,{"$f":"Reference!B396","v":0},{"$f":"Reference!C396","v":0},{"$f":"Reference!D396","v":0},{"$f":"Reference!E396","v":0},{"$f":"Reference!F396","v":0},{"$f":"Reference!G396","v":0},0,null,{"$f":"Test!B396","v":0},{"$f":"Test!C396","v":0},{"$f":"Test!D396","v":0},{"$f":"Test!E396","v":0},{"$f":"Test!F396","v":0},{"$f":"Test!G396","v":0},0,{"$error":"#DIV/0!"},{"$error":"#DIV/0!"}]
[null,"KristenAndSara",22,{"$f":"Reference!B397","v":0},{"$f":"Reference!C397","v":0},{"$f":"Reference!D397","v":0},{"$f":"Reference!E397","v":0},{"$f":"Reference!F397","v":0},{"$f":"Reference!G397","v":0},0,null,{"$f":"Test!B397","v":0},{"$f":"Test!C397","v":0},{"$f":"Test!D397","v":0},{"$f":"Test!E397","v":0},{"$f":"Test!F397","v":0},{"$f":"Test!G397","v":0},0,{"$f":"P87/H87","v":{"$error":"#DIV/0!"}},{"$error":"#DIV/0!"},null,{"$f":"bdrate($D87:$D90,E87:E90,$L87:$L90,M87:M90)","v":{"$error":"#VALUE!"}},{"$f":"bdrate($D87:$D90,F87:F90,$L87:$L90,N87:N90)","v":{"$error":"#VALUE!"}},{"$f":"bdrate($D87:$D90,G87:G90,$L87:$L90,O87:O90)","v":{"$error":"#VALUE!"}},{"$f":"bdrateOld($D87:$D90,E87:E90,$L87:$L90,M87:M90)","v":{"$error":"#VALUE!"}},{"$f":"bdrateOld($D87:$D90,F87:F90,$L87:$L90,N87:N90)","v":{"$error":"#VALUE!"}},{"$f":"bdrateOld($D87:$D90,G87:G90,$L87:$L90,O87:O90)","v":{"$error":"#VALUE!"}}]
[null,null,27,{"$f":"Reference!B398","v":0},{"$f":"Reference!C398","v":0},{"$f":"Reference!D398","v":0},{"$f":"Reference!E398","v":0},{"$f":"Reference!F398","v":0},{"$f":"Reference!G398","v":0},0,null,{"$f":"Test!B398","v":0},{"$f":"Test!C398","v":0},{"$f":"Test!D398","v":0},{"$f":"Test!E398","v":0},{"$f":"Test!F398","v":0},{"$f":"Test!G398","v":0},0,{"$error":"#DIV/0!"},{"$error":"#DIV/0!"}]
[null,null,32,{"$f":"Reference!B399","v":0},{"$f":"Reference!C399","v":0},{"$f":"Reference!D399","v":0},{"$f":"Reference!E399","v":0},{"$f":"Reference!F399","v":0},{"$f":"Reference!G399","v":0},0,null,{"$f":"Test!B399","v":0},{"$f":"Test!C399","v":0},{"$f":"Test!D399","v":0},{"$f":"Test!E399","v":0},{"$f":"Test!F399","v":0},{"$f":"Test!G399","v":0},0,{"$error":"#DIV/0!"},{"$error":"#DIV/0!"}]
[null,null,37,{"$f":"Reference!B400","v":0},{"$f":"Reference!C400","v":0},{"$f":"Reference!D400","v":0},{"$f":"Reference!E400","v":0},{"$f":"Reference!F400","v":0},{"$f":"Reference!G400","v":0},0,null,{"$f":"Test!B400","v":0},{"$f":"Test!C400","v":0},{"$f":"Test!D400","v":0},{"$f":"Test!E400","v":0},{"$f":"Test!F400","v":0},{"$f":"Test!G400","v":0},0,{"$error":"#DIV/0!"},{"$error":"#DIV/0!"}]
["ClassF","BasketballDrillText",22,{"$f":"Reference!B401","v":0},{"$f":"Reference!C401","v":0},{"$f":"Reference!D401","v":0},{"$f":"Reference!E401","v":0},{"$f":"Reference!F401","v":0},{"$f":"Reference!G401","v":0},0,null,{"$f":"Test!B401","v":0},{"$f":"Test!C401","v":0},{"$f":"Test!D401","v":0},{"$f":"Test!E401","v":0},{"$f":"Test!F401","v":0},{"$f":"Test!G401","v":0},0,{"$error":"#DIV/0!"},{"$error":"#DIV/0!"},null,{"$f":"bdrate($D91:$D94,E91:E94,$L91:$L94,M91:M94)","v":{"$error":"#VALUE!"}},{"$f":"bdrate($D91:$D94,F91:F94,$L91:$L94,N91:N94)","v":{"$error":"#VALUE!"}},{"$f":"bdrate($D91:$D94,G91:G94,$L91:$L94,O91:O94)","v":{"$error":"#VALUE!"}},{"$f":"bdrateOld($D91:$D94,E91:E94,$L91:$L94,M91:M94)","v":{"$error":"#VALUE!"}},{"$f":"bdrateOld($D91:$D94,F91:F94,$L91:$L94,N91:N94)","v":{"$error":"#VALUE!"}},{"$f":"bdrateOld($D91:$D94,G91:G94,$L91:$L94,O91:O94)","v":{"$error":"#VALUE!"}}]
[null,null,27,{"$f":"Reference!B402","v":0},{"$f":"Reference!C402","v":0},{"$f":"Reference!D402","v":0},{"$f":"Reference!E402","v":0},{"$f":"Reference!F402","v":0},{"$f":"Reference!G402","v":0},{"$f":"H92/3600","v":0},null,{"$f":"Test!B402","v":0},{"$f":"Test!C402","v":0},{"$f":"Test!D402","v":0},{"$f":"Test!E402","v":0},{"$f":"Test!F402","v":0},{"$f":"Test!G402","v":0},0,{"$error":"#DIV/0!"},{"$error":"#DIV/0!"}]
[null,null,32,{"$f":"Reference!B403","v":0},{"$f":"Reference!C403","v":0},{"$f":"Reference!D403","v":0},{"$f":"Reference!E403","v":0},{"$f":"Reference!F403","v":0},{"$f":"Reference!G403","v":0},0,null,{"$f":"Test!B403","v":0},{"$f":"Test!C403","v":0},{"$f":"Test!D403","v":0},{"$f":"Test!E403","v":0},{"$f":"Test!F403","v":0},{"$f":"Test!G403","v":0},0,{"$error":"#DIV/0!"},{"$error":"#DIV/0!"}]
[null,null,37,{"$f":"Reference!B404","v":0},{"$f":"Reference!C404","v":0},{"$f":"Reference!D404","v":0},{"$f":"Reference!E404","v":0},{"$f":"Reference!F404","v":0},{"$f":"Reference!G404","v":0},0,null,{"$f":"Test!B404","v":0},{"$f":"Test!C404","v":0},{"$f":"Test!D404","v":0},{"$f":"Test!E404","v":0},{"$f":"Test!F404","v":0},{"$f":"Test!G404","v":0},0,{"$error":"#DIV/0!"},{"$error":"#DIV/0!"}]
[null,"ArenaOfValor",22,{"$f":"Reference!B405","v":0},{"$f":"Reference!C405","v":0},{"$f":"Reference!D405","v":0},{"$f":"Reference!E405","v":0},{"$f":"Reference!F405","v":0},{"$f":"Reference!G405","v":0},0,null,{"$f":"Test!B405","v":0},{"$f":"Test!C405","v":0},{"$f":"Test!D405","v":0},{"$f":"Test!E405","v":0},{"$f":"Test!F405","v":0},{"$f":"Test!G405","v":0},0,{"$error":"#DIV/0!"},{"$error":"#DIV/0!"},null,{"$f":"bdrate($D95:$D98,E95:E98,$L95:$L98,M95:M98)","v":{"$error":"#VALUE!"}},{"$f":"bdrate($D95:$D98,F95:F98,$L95:$L98,N95:N98)","v":{"$error":"#VALUE!"}},{"$f":"bdrate($D95:$D98,G95:G98,$L95:$L98,O95:O98)","v":{"$error":"#VALUE!"}},{"$f":"bdrateOld($D95:$D98,E95:E98,$L95:$L98,M95:M98)","v":{"$error":"#VALUE!"}},{"$f":"bdrateOld($D95:$D98,F95:F98,$L95:$L98,N95:N98)","v":{"$error":"#VALUE!"}},{"$f":"bdrateOld($D95:$D98,G95:G98,$L95:$L98,O95:O98)","v":{"$error":"#VALUE!"}}]
[null,null,27,{"$f":"Reference!B406","v":0},{"$f":"Reference!C406","v":0},{"$f":"Reference!D406","v":0},{"$f":"Reference!E406","v":0},{"$f":"Reference!F406","v":0},{"$f":"Reference!G406","v":0},0,null,{"$f":"Test!B406","v":0},{"$f":"Test!C406","v":0},{"$f":"Test!D406","v":0},{"$f":"Test!E406","v":0},{"$f":"Test!F406","v":0},{"$f":"Test!G406","v":0},0,{"$error":"#DIV/0!"},{"$error":"#DIV/0!"}]
[null,null,32,{"$f":"Reference!B407","v":0},{"$f":"Reference!C407","v":0},{"$f":"Reference!D407","v":0},{"$f":"Reference!E407","v":0},{"$f":"Reference!F407","v":0},{"$f":"Reference!G407","v":0},0,null,{"$f":"Test!B407","v":0},{"$f":"Test!C407","v":0},{"$f":"Test!D407","v":0},{"$f":"Test!E407","v":0},{"$f":"Test!F407","v":0},{"$f":"Test!G407","v":0},0,{"$error":"#DIV/0!"},{"$error":"#DIV/0!"}]
[null,null,37,{"$f":"Reference!B408","v":0},{"$f":"Reference!C408","v":0},{"$f":"Reference!D408","v":0},{"$f":"Reference!E408","v":0},{"$f":"Reference!F408","v":0},{"$f":"Reference!G408","v":0},0,null,{"$f":"Test!B408","v":0},{"$f":"Test!C408","v":0},{"$f":"Test!D408","v":0},{"$f":"Test!E408","v":0},{"$f":"Test!F408","v":0},{"$f":"Test!G408","v":0},0,{"$error":"#DIV/0!"},{"$error":"#DIV/0!"}]
[null,"SlideEditing",22,{"$f":"Reference!B409","v":0},{"$f":"Reference!C409","v":0},{"$f":"Reference!D409","v":0},{"$f":"Reference!E409","v":0},{"$f":"Reference!F409","v":0},{"$f":"Reference!G409","v":0},0,null,{"$f":"Test!B409","v":0},{"$f":"Test!C409","v":0},{"$f":"Test!D409","v":0},{"$f":"Test!E409","v":0},{"$f":"Test!F409","v":0},{"$f":"Test!G409","v":0},0,{"$error":"#DIV/0!"},{"$error":"#DIV/0!"},null,{"$f":"bdrate($D99:$D102,E99:E102,$L99:$L102,M99:M102)","v":{"$error":"#VALUE!"}},{"$f":"bdrate($D99:$D102,F99:F102,$L99:$L102,N99:N102)","v":{"$error":"#VALUE!"}},{"$f":"bdrate($D99:$D102,G99:G102,$L99:$L102,O99:O102)","v":{"$error":"#VALUE!"}},{"$f":"bdrateOld($D99:$D102,E99:E102,$L99:$L102,M99:M102)","v":{"$error":"#VALUE!"}},{"$f":"bdrateOld($D99:$D102,F99:F102,$L99:$L102,N99:N102)","v":{"$error":"#VALUE!"}},{"$f":"bdrateOld($D99:$D102,G99:G102,$L99:$L102,O99:O102)","v":{"$error":"#VALUE!"}}]
[null,null,27,{"$f":"Reference!B410","v":0},{"$f":"Reference!C410","v":0},{"$f":"Reference!D410","v":0},{"$f":"Reference!E410","v":0},{"$f":"Reference!F410","v":0},{"$f":"Reference!G410","v":0},0,null,{"$f":"Test!B410","v":0},{"$f":"Test!C410","v":0},{"$f":"Test!D410","v":0},{"$f":"Test!E410","v":0},{"$f":"Test!F410","v":0},{"$f":"Test!G410","v":0},0,{"$error":"#DIV/0!"},{"$error":"#DIV/0!"}]
[null,null,32,{"$f":"Reference!B411","v":0},{"$f":"Reference!C411","v":0},{"$f":"Reference!D411","v":0},{"$f":"Reference!E411","v":0},{"$f":"Reference!F411","v":0},{"$f":"Reference!G411","v":0},0,null,{"$f":"Test!B411","v":0},{"$f":"Test!C411","v":0},{"$f":"Test!D411","v":0},{"$f":"Test!E411","v":0},{"$f":"Test!F411","v":0},{"$f":"Test!G411","v":0},0,{"$error":"#DIV/0!"},{"$error":"#DIV/0!"}]
[null,null,37,{"$f":"Reference!B412","v":0},{"$f":"Reference!C412","v":0},{"$f":"Reference!D412","v":0},{"$f":"Reference!E412","v":0},{"$f":"Reference!F412","v":0},{"$f":"Reference!G412","v":0},0,null,{"$f":"Test!B412","v":0},{"$f":"Test!C412","v":0},{"$f":"Test!D412","v":0},{"$f":"Test!E412","v":0},{"$f":"Test!F412","v":0},{"$f":"Test!G412","v":0},0,{"$error":"#DIV/0!"},{"$error":"#DIV/0!"}]
[null,"SlideShow",22,{"$f":"Reference!B413","v":0},{"$f":"Reference!C413","v":0},{"$f":"Reference!D413","v":0},{"$f":"Reference!E413","v":0},{"$f":"Reference!F413","v":0},{"$f":"Reference!G413","v":0},0,null,{"$f":"Test!B413","v":0},{"$f":"Test!C413","v":0},{"$f":"Test!D413","v":0},{"$f":"Test!E413","v":0},{"$f":"Test!F413","v":0},{"$f":"Test!G413","v":0},0,{"$error":"#DIV/0!"},{"$error":"#DIV/0!"},null,{"$f":"bdrate($D103:$D106,E103:E106,$L103:$L106,M103:M106)","v":{"$error":"#VALUE!"}},{"$f":"bdrate($D103:$D106,F103:F106,$L103:$L106,N103:N106)","v":{"$error":"#VALUE!"}},{"$f":"bdrate($D103:$D106,G103:G106,$L103:$L106,O103:O106)","v":{"$error":"#VALUE!"}},{"$f":"bdrateOld($D103:$D106,E103:E106,$L103:$L106,M103:M106)","v":{"$error":"#VALUE!"}},{"$f":"bdrateOld($D103:$D106,F103:F106,$L103:$L106,N103:N106)","v":{"$error":"#VALUE!"}},{"$f":"bdrateOld($D103:$D106,G103:G106,$L103:$L106,O103:O106)","v":{"$error":"#VALUE!"}}]
[null,null,27,{"$f":"Reference!B414","v":0},{"$f":"Reference!C414","v":0},{"$f":"Reference!D414","v":0},{"$f":"Reference!E414","v":0},{"$f":"Reference!F414","v":0},{"$f":"Reference!G414","v":0},0,null,{"$f":"Test!B414","v":0},{"$f":"Test!C414","v":0},{"$f":"Test!D414","v":0},{"$f":"Test!E414","v":0},{"$f":"Test!F414","v":0},{"$f":"Test!G414","v":0},0,{"$error":"#DIV/0!"},{"$error":"#DIV/0!"}]
[null,null,32,{"$f":"Reference!B415","v":0},{"$f":"Reference!C415","v":0},{"$f":"Reference!D415","v":0},{"$f":"Reference!E415","v":0},{"$f":"Reference!F415","v":0},{"$f":"Reference!G415","v":0},0,null,{"$f":"Test!B415","v":0},{"$f":"Test!C415","v":0},{"$f":"Test!D415","v":0},{"$f":"Test!E415","v":0},{"$f":"Test!F415","v":0},{"$f":"Test!G415","v":0},0,{"$error":"#DIV/0!"},{"$error":"#DIV/0!"}]
[null,null,37,{"$f":"Reference!B416","v":0},{"$f":"Reference!C416","v":0},{"$f":"Reference!D416","v":0},{"$f":"Reference!E416","v":0},{"$f":"Reference!F416","v":0},{"$f":"Reference!G416","v":0},0,null,{"$f":"Test!B416","v":0},{"$f":"Test!C416","v":0},{"$f":"Test!D416","v":0},{"$f":"Test!E416","v":0},{"$f":"Test!F416","v":0},{"$f":"Test!G416","v":0},0,{"$error":"#DIV/0!"},{"$error":"#DIV/0!"}]
[null,"Class A1"]
[null,"Class A2"]
[null,"Class B",null,null,null,null,null,null,{"$f":"GEOMEAN(I27:I46)","v":{"$error":"#NUM!"}},{"$f":"GEOMEAN(J27:J46)","v":{"$error":"#NUM!"}},null,null,null,null,null,null,{"$f":"GEOMEAN(Q27:Q46)","v":{"$error":"#NUM!"}},{"$f":"GEOMEAN(R27:R46)","v":{"$error":"#NUM!"}},{"$f":"GEOMEAN(S27:S46)","v":{"$error":"#DIV/0!"}},{"$error":"#DIV/0!"},null,{"$f":"AVERAGE(V27:V46)","v":{"$error":"#VALUE!"}},{"$f":"AVERAGE(W27:W46)","v":{"$error":"#VALUE!"}},{"$error":"#VALUE!"},{"$error":"#VALUE!"},{"$error":"#VALUE!"},{"$error":"#VALUE!"}]
[null,"Class C",null,null,null,null,null,null,{"$f":"GEOMEAN(I47:I62)","v":{"$error":"#NUM!"}},{"$f":"GEOMEAN(J47:J62)","v":{"$error":"#NUM!"}},null,null,null,null,null,null,{"$f":"GEOMEAN(Q47:Q62)","v":{"$error":"#NUM!"}},{"$f":"GEOMEAN(R47:R62)","v":{"$error":"#NUM!"}},{"$f":"GEOMEAN(S47:S62)","v":{"$error":"#DIV/0!"}},{"$error":"#DIV/0!"},null,{"$f":"AVERAGE(V47:V62)","v":{"$error":"#VALUE!"}},{"$f":"AVERAGE(W47:W62)","v":{"$error":"#VALUE!"}},{"$error":"#VALUE!"},{"$error":"#VALUE!"},{"$error":"#VALUE!"},{"$error":"#VALUE!"}]
[null,"Class D",null,null,null,null,null,null,{"$f":"GEOMEAN(I63:I78)","v":{"$error":"#NUM!"}},{"$f":"GEOMEAN(J63:J78)","v":{"$error":"#NUM!"}},null,null,null,null,null,null,{"$f":"GEOMEAN(Q63:Q78)","v":{"$error":"#NUM!"}},{"$f":"GEOMEAN(R63:R78)","v":{"$error":"#NUM!"}},{"$f":"GEOMEAN(S63:S78)","v":{"$error":"#DIV/0!"}},{"$error":"#DIV/0!"},null,{"$f":"AVERAGE(V63:V78)","v":{"$error":"#VALUE!"}},{"$f":"AVERAGE(W63:W78)","v":{"$error":"#VALUE!"}},{"$error":"#VALUE!"},{"$error":"#VALUE!"},{"$error":"#VALUE!"},{"$error":"#VALUE!"}]
[null,"Class E",null,null,null,null,null,null,{"$f":"GEOMEAN(I79:I90)","v":{"$error":"#NUM!"}},{"$f":"GEOMEAN(J79:J90)","v":{"$error":"#NUM!"}},null,null,null,null,null,null,{"$f":"GEOMEAN(Q79:Q90)","v":{"$error":"#NUM!"}},{"$f":"GEOMEAN(R79:R90)","v":{"$error":"#NUM!"}},{"$f":"GEOMEAN(S79:S90)","v":{"$error":"#DIV/0!"}},{"$error":"#DIV/0!"},null,{"$f":"AVERAGE(V79:V88)","v":{"$error":"#VALUE!"}},{"$f":"AVERAGE(W79:W88)","v":{"$error":"#VALUE!"}},{"$error":"#VALUE!"},{"$error":"#VALUE!"},{"$error":"#VALUE!"},{"$error":"#VALUE!"}]
[null,"Class F",null,null,null,null,null,null,{"$f":"GEOMEAN(I91:I106)","v":{"$error":"#NUM!"}},{"$f":"GEOMEAN(J91:J106)","v":{"$error":"#NUM!"}},null,null,null,null,null,null,{"$f":"GEOMEAN(Q91:Q106)","v":{"$error":"#NUM!"}},{"$f":"GEOMEAN(R91:R106)","v":{"$error":"#NUM!"}},{"$f":"GEOMEAN(S91:S106)","v":{"$error":"#DIV/0!"}},{"$error":"#DIV/0!"},null,{"$f":"AVERAGE(V91:V106)","v":{"$error":"#VALUE!"}},{"$f":"AVERAGE(W91:W106)","v":{"$error":"#VALUE!"}},{"$error":"#VALUE!"},{"$error":"#VALUE!"},{"$error":"#VALUE!"},{"$error":"#VALUE!"}]
[null,"All",null,null,null,null,null,null,{"$f":"GEOMEAN(I3:I62,I79:I90)","v":{"$error":"#NUM!"}},{"$f":"GEOMEAN(J3:J62,J79:J90)","v":{"$error":"#NUM!"}},null,null,null,null,null,null,{"$f":"GEOMEAN(Q3:Q62,Q79:Q90)","v":{"$error":"#NUM!"}},{"$f":"GEOMEAN(R3:R62,R79:R90)","v":{"$error":"#NUM!"}},{"$error":"#DIV/0!"},{"$error":"#DIV/0!"},null,{"$f":"AVERAGE(V3:V62,V79:V90)","v":{"$error":"#VALUE!"}},{"$f":"AVERAGE(W3:W62,W79:W90)","v":{"$error":"#VALUE!"}},{"$error":"#VALUE!"},{"$error":"#VALUE!"},{"$error":"#VALUE!"},{"$error":"#VALUE!"}]
[null,"Time geomean",null,null,null,null,null,null,{"$f":"GEOMEAN(I3:I106)","v":{"$error":"#NUM!"}},{"$f":"GEOMEAN(J3:J106)","v":{"$error":"#NUM!"}},null,null,null,null,null,null,{"$f":"GEOMEAN(Q3:Q106)","v":{"$error":"#NUM!"}},{"$f":"GEOMEAN(R3:R106)","v":{"$error":"#NUM!"}}]
[null,"Time ratio",null,null,null,null,null,null,null,null,null,null,null,null,null,null,{"$f":"Q115/I115","v":{"$error":"#NUM!"}},{"$f":"R115/J115","v":{"$error":"#NUM!"}}]
[null,"Time sum (hours)"]

{"sheet":"Reference","index":6,"n_rows":416,"n_cols":1,"rows_kept":416,"cut":false,"hidden":false,"merged":[]}
["Tango2.Q22.jvet10.ai"]
["Tango2.Q27.jvet10.ai"]
["Tango2.Q32.jvet10.ai"]
["Tango2.Q37.jvet10.ai"]
["FoodMarket4.Q22.jvet10.ai"]
["FoodMarket4.Q27.jvet10.ai"]
["FoodMarket4.Q32.jvet10.ai"]
["FoodMarket4.Q37.jvet10.ai"]
["CampfireParty2.Q22.jvet10.ai"]
["CampfireParty2.Q27.jvet10.ai"]
["CampfireParty2.Q32.jvet10.ai"]
["CampfireParty2.Q37.jvet10.ai"]
["CatRobot1.Q22.jvet10.ai"]
["CatRobot1.Q27.jvet10.ai"]
["CatRobot1.Q32.jvet10.ai"]
["CatRobot1.Q37.jvet10.ai"]
["DaylightRoad2.Q22.jvet10.ai"]
["DaylightRoad2.Q27.jvet10.ai"]
["DaylightRoad2.Q32.jvet10.ai"]
["DaylightRoad2.Q37.jvet10.ai"]
["ParkRunning3.Q22.jvet10.ai"]
["ParkRunning3.Q27.jvet10.ai"]
["ParkRunning3.Q32.jvet10.ai"]
["ParkRunning3.Q37.jvet10.ai"]
["MarketPlace.Q22.jvet10.ai"]
["MarketPlace.Q27.jvet10.ai"]
["MarketPlace.Q32.jvet10.ai"]
["MarketPlace.Q37.jvet10.ai"]
["RitualDance.Q22.jvet10.ai"]
["RitualDance.Q27.jvet10.ai"]
["RitualDance.Q32.jvet10.ai"]
["RitualDance.Q37.jvet10.ai"]
["Cactus.Q22.jvet10.ai"]
["Cactus.Q27.jvet10.ai"]
["Cactus.Q32.jvet10.ai"]
["Cactus.Q37.jvet10.ai"]
["BasketballDrive.Q22.jvet10.ai"]
["BasketballDrive.Q27.jvet10.ai"]
["BasketballDrive.Q32.jvet10.ai"]
["BasketballDrive.Q37.jvet10.ai"]
["BQTerrace.Q22.jvet10.ai"]
["BQTerrace.Q27.jvet10.ai"]
["BQTerrace.Q32.jvet10.ai"]
["BQTerrace.Q37.jvet10.ai"]
["BasketballDrill.Q22.jvet10.ai"]
["BasketballDrill.Q27.jvet10.ai"]
["BasketballDrill.Q32.jvet10.ai"]
["BasketballDrill.Q37.jvet10.ai"]
["BQMall.Q22.jvet10.ai"]
["BQMall.Q27.jvet10.ai"]
["BQMall.Q32.jvet10.ai"]
["BQMall.Q37.jvet10.ai"]
["PartyScene.Q22.jvet10.ai"]
["PartyScene.Q27.jvet10.ai"]
["PartyScene.Q32.jvet10.ai"]
["PartyScene.Q37.jvet10.ai"]
["RaceHorsesC.Q22.jvet10.ai"]
["RaceHorsesC.Q27.jvet10.ai"]
["RaceHorsesC.Q32.jvet10.ai"]
["RaceHorsesC.Q37.jvet10.ai"]
["BasketballPass.Q22.jvet10.ai"]
["BasketballPass.Q27.jvet10.ai"]
["BasketballPass.Q32.jvet10.ai"]
["BasketballPass.Q37.jvet10.ai"]
["BQSquare.Q22.jvet10.ai"]
["BQSquare.Q27.jvet10.ai"]
["BQSquare.Q32.jvet10.ai"]
["BQSquare.Q37.jvet10.ai"]
["BlowingBubbles.Q22.jvet10.ai"]
["BlowingBubbles.Q27.jvet10.ai"]
["BlowingBubbles.Q32.jvet10.ai"]
["BlowingBubbles.Q37.jvet10.ai"]
["RaceHorses.Q22.jvet10.ai"]
["RaceHorses.Q27.jvet10.ai"]
["RaceHorses.Q32.jvet10.ai"]
["RaceHorses.Q37.jvet10.ai"]
["FourPeople.Q22.jvet10.ai"]
["FourPeople.Q27.jvet10.ai"]
["FourPeople.Q32.jvet10.ai"]
["FourPeople.Q37.jvet10.ai"]
["Johnny.Q22.jvet10.ai"]
["Johnny.Q27.jvet10.ai"]
["Johnny.Q32.jvet10.ai"]
["Johnny.Q37.jvet10.ai"]
["KristenAndSara.Q22.jvet10.ai"]
["KristenAndSara.Q27.jvet10.ai"]
["KristenAndSara.Q32.jvet10.ai"]
["KristenAndSara.Q37.jvet10.ai"]
["BasketballDrillText.Q22.jvet10.ai"]
["BasketballDrillText.Q27.jvet10.ai"]
["BasketballDrillText.Q32.jvet10.ai"]
["BasketballDrillText.Q37.jvet10.ai"]
["ChinaSpeed.Q22.jvet10.ai"]
["ChinaSpeed.Q27.jvet10.ai"]
["ChinaSpeed.Q32.jvet10.ai"]
["ChinaSpeed.Q37.jvet10.ai"]
["SlideEditing.Q22.jvet10.ai"]
["SlideEditing.Q27.jvet10.ai"]
["SlideEditing.Q32.jvet10.ai"]
["SlideEditing.Q37.jvet10.ai"]
["SlideShow.Q22.jvet10.ai"]
["SlideShow.Q27.jvet10.ai"]
["SlideShow.Q32.jvet10.ai"]
["SlideShow.Q37.jvet10.ai"]
["Tango2.Q22.jvet10.ra"]
["Tango2.Q27.jvet10.ra"]
["Tango2.Q32.jvet10.ra"]
["Tango2.Q37.jvet10.ra"]
["FoodMarket4.Q22.jvet10.ra"]
["FoodMarket4.Q27.jvet10.ra"]
["FoodMarket4.Q32.jvet10.ra"]
["FoodMarket4.Q37.jvet10.ra"]
["CampfireParty2.Q22.jvet10.ra"]
["CampfireParty2.Q27.jvet10.ra"]
["CampfireParty2.Q32.jvet10.ra"]
["CampfireParty2.Q37.jvet10.ra"]
["CatRobot1.Q22.jvet10.ra"]
["CatRobot1.Q27.jvet10.ra"]
["CatRobot1.Q32.jvet10.ra"]
["CatRobot1.Q37.jvet10.ra"]
["DaylightRoad2.Q22.jvet10.ra"]
["DaylightRoad2.Q27.jvet10.ra"]
["DaylightRoad2.Q32.jvet10.ra"]
["DaylightRoad2.Q37.jvet10.ra"]
["ParkRunning3.Q22.jvet10.ra"]
["ParkRunning3.Q27.jvet10.ra"]
["ParkRunning3.Q32.jvet10.ra"]
["ParkRunning3.Q37.jvet10.ra"]
["MarketPlace.Q22.jvet10.ra"]
["MarketPlace.Q27.jvet10.ra"]
["MarketPlace.Q32.jvet10.ra"]
["MarketPlace.Q37.jvet10.ra"]
["RitualDance.Q22.jvet10.ra"]
["RitualDance.Q27.jvet10.ra"]
["RitualDance.Q32.jvet10.ra"]
["RitualDance.Q37.jvet10.ra"]
["Cactus.Q22.jvet10.ra"]
["Cactus.Q27.jvet10.ra"]
["Cactus.Q32.jvet10.ra"]
["Cactus.Q37.jvet10.ra"]
["BasketballDrive.Q22.jvet10.ra"]
["BasketballDrive.Q27.jvet10.ra"]
["BasketballDrive.Q32.jvet10.ra"]
["BasketballDrive.Q37.jvet10.ra"]
["BQTerrace.Q22.jvet10.ra"]
["BQTerrace.Q27.jvet10.ra"]
["BQTerrace.Q32.jvet10.ra"]
["BQTerrace.Q37.jvet10.ra"]
["BasketballDrill.Q22.jvet10.ra"]
["BasketballDrill.Q27.jvet10.ra"]
["BasketballDrill.Q32.jvet10.ra"]
["BasketballDrill.Q37.jvet10.ra"]
["BQMall.Q22.jvet10.ra"]
["BQMall.Q27.jvet10.ra"]
["BQMall.Q32.jvet10.ra"]
["BQMall.Q37.jvet10.ra"]
["PartyScene.Q22.jvet10.ra"]
["PartyScene.Q27.jvet10.ra"]
["PartyScene.Q32.jvet10.ra"]
["PartyScene.Q37.jvet10.ra"]
["RaceHorsesC.Q22.jvet10.ra"]
["RaceHorsesC.Q27.jvet10.ra"]
["RaceHorsesC.Q32.jvet10.ra"]
["RaceHorsesC.Q37.jvet10.ra"]
["BasketballPass.Q22.jvet10.ra"]
["BasketballPass.Q27.jvet10.ra"]
["BasketballPass.Q32.jvet10.ra"]
["BasketballPass.Q37.jvet10.ra"]
["BQSquare.Q22.jvet10.ra"]
["BQSquare.Q27.jvet10.ra"]
["BQSquare.Q32.jvet10.ra"]
["BQSquare.Q37.jvet10.ra"]
["BlowingBubbles.Q22.jvet10.ra"]
["BlowingBubbles.Q27.jvet10.ra"]
["BlowingBubbles.Q32.jvet10.ra"]
["BlowingBubbles.Q37.jvet10.ra"]
["RaceHorses.Q22.jvet10.ra"]
["RaceHorses.Q27.jvet10.ra"]
["RaceHorses.Q32.jvet10.ra"]
["RaceHorses.Q37.jvet10.ra"]
["FourPeople.Q22.jvet10.ra"]
["FourPeople.Q27.jvet10.ra"]
["FourPeople.Q32.jvet10.ra"]
["FourPeople.Q37.jvet10.ra"]
["Johnny.Q22.jvet10.ra"]
["Johnny.Q27.jvet10.ra"]
["Johnny.Q32.jvet10.ra"]
["Johnny.Q37.jvet10.ra"]
["KristenAndSara.Q22.jvet10.ra"]
["KristenAndSara.Q27.jvet10.ra"]
["KristenAndSara.Q32.jvet10.ra"]
["KristenAndSara.Q37.jvet10.ra"]
["BasketballDrillText.Q22.jvet10.ra"]
["BasketballDrillText.Q27.jvet10.ra"]
["BasketballDrillText.Q32.jvet10.ra"]
["BasketballDrillText.Q37.jvet10.ra"]
["ChinaSpeed.Q22.jvet10.ra"]
["ChinaSpeed.Q27.jvet10.ra"]
["ChinaSpeed.Q32.jvet10.ra"]
["ChinaSpeed.Q37.jvet10.ra"]
["SlideEditing.Q22.jvet10.ra"]
["SlideEditing.Q27.jvet10.ra"]
["SlideEditing.Q32.jvet10.ra"]
["SlideEditing.Q37.jvet10.ra"]
["SlideShow.Q22.jvet10.ra"]
["SlideShow.Q27.jvet10.ra"]
["SlideShow.Q32.jvet10.ra"]
["SlideShow.Q37.jvet10.ra"]
["Tango2.Q22.jvet10.lb"]
["Tango2.Q27.jvet10.lb"]
["Tango2.Q32.jvet10.lb"]
["Tango2.Q37.jvet10.lb"]
["FoodMarket4.Q22.jvet10.lb"]
["FoodMarket4.Q27.jvet10.lb"]
["FoodMarket4.Q32.jvet10.lb"]
["FoodMarket4.Q37.jvet10.lb"]
["CampfireParty2.Q22.jvet10.lb"]
["CampfireParty2.Q27.jvet10.lb"]
["CampfireParty2.Q32.jvet10.lb"]
["CampfireParty2.Q37.jvet10.lb"]
["CatRobot1.Q22.jvet10.lb"]
["CatRobot1.Q27.jvet10.lb"]
["CatRobot1.Q32.jvet10.lb"]
["CatRobot1.Q37.jvet10.lb"]
["DaylightRoad2.Q22.jvet10.lb"]
["DaylightRoad2.Q27.jvet10.lb"]
["DaylightRoad2.Q32.jvet10.lb"]
["DaylightRoad2.Q37.jvet10.lb"]
["ParkRunning3.Q22.jvet10.lb"]
["ParkRunning3.Q27.jvet10.lb"]
["ParkRunning3.Q32.jvet10.lb"]
["ParkRunning3.Q37.jvet10.lb"]
["MarketPlace.Q22.jvet10.lb"]
["MarketPlace.Q27.jvet10.lb"]
["MarketPlace.Q32.jvet10.lb"]
["MarketPlace.Q37.jvet10.lb"]
["RitualDance.Q22.jvet10.lb"]
["RitualDance.Q27.jvet10.lb"]
["RitualDance.Q32.jvet10.lb"]
["RitualDance.Q37.jvet10.lb"]
["Cactus.Q22.jvet10.lb"]
["Cactus.Q27.jvet10.lb"]
["Cactus.Q32.jvet10.lb"]
["Cactus.Q37.jvet10.lb"]
["BasketballDrive.Q22.jvet10.lb"]
["BasketballDrive.Q27.jvet10.lb"]
["BasketballDrive.Q32.jvet10.lb"]
["BasketballDrive.Q37.jvet10.lb"]
["BQTerrace.Q22.jvet10.lb"]
["BQTerrace.Q27.jvet10.lb"]
["BQTerrace.Q32.jvet10.lb"]
["BQTerrace.Q37.jvet10.lb"]
["BasketballDrill.Q22.jvet10.lb"]
["BasketballDrill.Q27.jvet10.lb"]
["BasketballDrill.Q32.jvet10.lb"]
["BasketballDrill.Q37.jvet10.lb"]
["BQMall.Q22.jvet10.lb"]
["BQMall.Q27.jvet10.lb"]
["BQMall.Q32.jvet10.lb"]
["BQMall.Q37.jvet10.lb"]
["PartyScene.Q22.jvet10.lb"]
["PartyScene.Q27.jvet10.lb"]
["PartyScene.Q32.jvet10.lb"]
["PartyScene.Q37.jvet10.lb"]
["RaceHorsesC.Q22.jvet10.lb"]
["RaceHorsesC.Q27.jvet10.lb"]
["RaceHorsesC.Q32.jvet10.lb"]
["RaceHorsesC.Q37.jvet10.lb"]
["BasketballPass.Q22.jvet10.lb"]
["BasketballPass.Q27.jvet10.lb"]
["BasketballPass.Q32.jvet10.lb"]
["BasketballPass.Q37.jvet10.lb"]
["BQSquare.Q22.jvet10.lb"]
["BQSquare.Q27.jvet10.lb"]
["BQSquare.Q32.jvet10.lb"]
["BQSquare.Q37.jvet10.lb"]
["BlowingBubbles.Q22.jvet10.lb"]
["BlowingBubbles.Q27.jvet10.lb"]
["BlowingBubbles.Q32.jvet10.lb"]
["BlowingBubbles.Q37.jvet10.lb"]
["RaceHorses.Q22.jvet10.lb"]
["RaceHorses.Q27.jvet10.lb"]
["RaceHorses.Q32.jvet10.lb"]
["RaceHorses.Q37.jvet10.lb"]
["FourPeople.Q22.jvet10.lb"]
["FourPeople.Q27.jvet10.lb"]
["FourPeople.Q32.jvet10.lb"]
["FourPeople.Q37.jvet10.lb"]
["Johnny.Q22.jvet10.lb"]
["Johnny.Q27.jvet10.lb"]
["Johnny.Q32.jvet10.lb"]
["Johnny.Q37.jvet10.lb"]
["KristenAndSara.Q22.jvet10.lb"]
["KristenAndSara.Q27.jvet10.lb"]
["KristenAndSara.Q32.jvet10.lb"]
["KristenAndSara.Q37.jvet10.lb"]
["BasketballDrillText.Q22.jvet10.lb"]
["BasketballDrillText.Q27.jvet10.lb"]
["BasketballDrillText.Q32.jvet10.lb"]
["BasketballDrillText.Q37.jvet10.lb"]
["ChinaSpeed.Q22.jvet10.lb"]
["ChinaSpeed.Q27.jvet10.lb"]
["ChinaSpeed.Q32.jvet10.lb"]
["ChinaSpeed.Q37.jvet10.lb"]
["SlideEditing.Q22.jvet10.lb"]
["SlideEditing.Q27.jvet10.lb"]
["SlideEditing.Q32.jvet10.lb"]
["SlideEditing.Q37.jvet10.lb"]
["SlideShow.Q22.jvet10.lb"]
["SlideShow.Q27.jvet10.lb"]
["SlideShow.Q32.jvet10.lb"]
["SlideShow.Q37.jvet10.lb"]
["Tango2.Q22.jvet10.lp"]
["Tango2.Q27.jvet10.lp"]
["Tango2.Q32.jvet10.lp"]
["Tango2.Q37.jvet10.lp"]
["FoodMarket4.Q22.jvet10.lp"]
["FoodMarket4.Q27.jvet10.lp"]
["FoodMarket4.Q32.jvet10.lp"]
["FoodMarket4.Q37.jvet10.lp"]
["CampfireParty2.Q22.jvet10.lp"]
["CampfireParty2.Q27.jvet10.lp"]
["CampfireParty2.Q32.jvet10.lp"]
["CampfireParty2.Q37.jvet10.lp"]
["CatRobot1.Q22.jvet10.lp"]
["CatRobot1.Q27.jvet10.lp"]
["CatRobot1.Q32.jvet10.lp"]
["CatRobot1.Q37.jvet10.lp"]
["DaylightRoad2.Q22.jvet10.lp"]
["DaylightRoad2.Q27.jvet10.lp"]
["DaylightRoad2.Q32.jvet10.lp"]
["DaylightRoad2.Q37.jvet10.lp"]
["ParkRunning3.Q22.jvet10.lp"]
["ParkRunning3.Q27.jvet10.lp"]
["ParkRunning3.Q32.jvet10.lp"]
["DaylightRoad2.Q37.jvet10.lp"]
["MarketPlace.Q22.jvet10.lp"]
["MarketPlace.Q27.jvet10.lp"]
["MarketPlace.Q32.jvet10.lp"]
["MarketPlace.Q37.jvet10.lp"]
["RitualDance.Q22.jvet10.lp"]
["RitualDance.Q27.jvet10.lp"]
["RitualDance.Q32.jvet10.lp"]
["RitualDance.Q37.jvet10.lp"]
["Cactus.Q22.jvet10.lp"]
["Cactus.Q27.jvet10.lp"]
["Cactus.Q32.jvet10.lp"]
["Cactus.Q37.jvet10.lp"]
["BasketballDrive.Q22.jvet10.lp"]
["BasketballDrive.Q27.jvet10.lp"]
["BasketballDrive.Q32.jvet10.lp"]
["BasketballDrive.Q37.jvet10.lp"]
["BQTerrace.Q22.jvet10.lp"]
["BQTerrace.Q27.jvet10.lp"]
["BQTerrace.Q32.jvet10.lp"]
["BQTerrace.Q37.jvet10.lp"]
["BasketballDrill.Q22.jvet10.lp"]
["BasketballDrill.Q27.jvet10.lp"]
["BasketballDrill.Q32.jvet10.lp"]
["BasketballDrill.Q37.jvet10.lp"]
["BQMall.Q22.jvet10.lp"]
["BQMall.Q27.jvet10.lp"]
["BQMall.Q32.jvet10.lp"]
["BQMall.Q37.jvet10.lp"]
["PartyScene.Q22.jvet10.lp"]
["PartyScene.Q27.jvet10.lp"]
["PartyScene.Q32.jvet10.lp"]
["PartyScene.Q37.jvet10.lp"]
["RaceHorsesC.Q22.jvet10.lp"]
["RaceHorsesC.Q27.jvet10.lp"]
["RaceHorsesC.Q32.jvet10.lp"]
["RaceHorsesC.Q37.jvet10.lp"]
["BasketballPass.Q22.jvet10.lp"]
["BasketballPass.Q27.jvet10.lp"]
["BasketballPass.Q32.jvet10.lp"]
["BasketballPass.Q37.jvet10.lp"]
["BQSquare.Q22.jvet10.lp"]
["BQSquare.Q27.jvet10.lp"]
["BQSquare.Q32.jvet10.lp"]
["BQSquare.Q37.jvet10.lp"]
["BlowingBubbles.Q22.jvet10.lp"]
["BlowingBubbles.Q27.jvet10.lp"]
["BlowingBubbles.Q32.jvet10.lp"]
["BlowingBubbles.Q37.jvet10.lp"]
["RaceHorses.Q22.jvet10.lp"]
["RaceHorses.Q27.jvet10.lp"]
["RaceHorses.Q32.jvet10.lp"]
["RaceHorses.Q37.jvet10.lp"]
["FourPeople.Q22.jvet10.lp"]
["FourPeople.Q27.jvet10.lp"]
["FourPeople.Q32.jvet10.lp"]
["FourPeople.Q37.jvet10.lp"]
["Johnny.Q22.jvet10.lp"]
["Johnny.Q27.jvet10.lp"]
["Johnny.Q32.jvet10.lp"]
["Johnny.Q37.jvet10.lp"]
["KristenAndSara.Q22.jvet10.lp"]
["KristenAndSara.Q27.jvet10.lp"]
["KristenAndSara.Q32.jvet10.lp"]
["KristenAndSara.Q37.jvet10.lp"]
["BasketballDrillText.Q22.jvet10.lp"]
["BasketballDrillText.Q27.jvet10.lp"]
["BasketballDrillText.Q32.jvet10.lp"]
["BasketballDrillText.Q37.jvet10.lp"]
["ChinaSpeed.Q22.jvet10.lp"]
["ChinaSpeed.Q27.jvet10.lp"]
["ChinaSpeed.Q32.jvet10.lp"]
["ChinaSpeed.Q37.jvet10.lp"]
["SlideEditing.Q22.jvet10.lp"]
["SlideEditing.Q27.jvet10.lp"]
["SlideEditing.Q32.jvet10.lp"]
["SlideEditing.Q37.jvet10.lp"]
["SlideShow.Q22.jvet10.lp"]
["SlideShow.Q27.jvet10.lp"]
["SlideShow.Q32.jvet10.lp"]
["SlideShow.Q37.jvet10.lp"]

{"sheet":"Test","index":7,"n_rows":416,"n_cols":1,"rows_kept":416,"cut":false,"hidden":false,"merged":[]}
["Tango2.Q22.jvet10.ai"]
["Tango2.Q27.jvet10.ai"]
["Tango2.Q32.jvet10.ai"]
["Tango2.Q37.jvet10.ai"]
["FoodMarket4.Q22.jvet10.ai"]
["FoodMarket4.Q27.jvet10.ai"]
["FoodMarket4.Q32.jvet10.ai"]
["FoodMarket4.Q37.jvet10.ai"]
["CampfireParty2.Q22.jvet10.ai"]
["CampfireParty2.Q27.jvet10.ai"]
["CampfireParty2.Q32.jvet10.ai"]
["CampfireParty2.Q37.jvet10.ai"]
["CatRobot1.Q22.jvet10.ai"]
["CatRobot1.Q27.jvet10.ai"]
["CatRobot1.Q32.jvet10.ai"]
["CatRobot1.Q37.jvet10.ai"]
["DaylightRoad2.Q22.jvet10.ai"]
["DaylightRoad2.Q27.jvet10.ai"]
["DaylightRoad2.Q32.jvet10.ai"]
["DaylightRoad2.Q37.jvet10.ai"]
["ParkRunning3.Q22.jvet10.ai"]
["ParkRunning3.Q27.jvet10.ai"]
["ParkRunning3.Q32.jvet10.ai"]
["ParkRunning3.Q37.jvet10.ai"]
["MarketPlace.Q22.jvet10.ai"]
["MarketPlace.Q27.jvet10.ai"]
["MarketPlace.Q32.jvet10.ai"]
["MarketPlace.Q37.jvet10.ai"]
["RitualDance.Q22.jvet10.ai"]
["RitualDance.Q27.jvet10.ai"]
["RitualDance.Q32.jvet10.ai"]
["RitualDance.Q37.jvet10.ai"]
["Cactus.Q22.jvet10.ai"]
["Cactus.Q27.jvet10.ai"]
["Cactus.Q32.jvet10.ai"]
["Cactus.Q37.jvet10.ai"]
["BasketballDrive.Q22.jvet10.ai"]
["BasketballDrive.Q27.jvet10.ai"]
["BasketballDrive.Q32.jvet10.ai"]
["BasketballDrive.Q37.jvet10.ai"]
["BQTerrace.Q22.jvet10.ai"]
["BQTerrace.Q27.jvet10.ai"]
["BQTerrace.Q32.jvet10.ai"]
["BQTerrace.Q37.jvet10.ai"]
["BasketballDrill.Q22.jvet10.ai"]
["BasketballDrill.Q27.jvet10.ai"]
["BasketballDrill.Q32.jvet10.ai"]
["BasketballDrill.Q37.jvet10.ai"]
["BQMall.Q22.jvet10.ai"]
["BQMall.Q27.jvet10.ai"]
["BQMall.Q32.jvet10.ai"]
["BQMall.Q37.jvet10.ai"]
["PartyScene.Q22.jvet10.ai"]
["PartyScene.Q27.jvet10.ai"]
["PartyScene.Q32.jvet10.ai"]
["PartyScene.Q37.jvet10.ai"]
["RaceHorsesC.Q22.jvet10.ai"]
["RaceHorsesC.Q27.jvet10.ai"]
["RaceHorsesC.Q32.jvet10.ai"]
["RaceHorsesC.Q37.jvet10.ai"]
["BasketballPass.Q22.jvet10.ai"]
["BasketballPass.Q27.jvet10.ai"]
["BasketballPass.Q32.jvet10.ai"]
["BasketballPass.Q37.jvet10.ai"]
["BQSquare.Q22.jvet10.ai"]
["BQSquare.Q27.jvet10.ai"]
["BQSquare.Q32.jvet10.ai"]
["BQSquare.Q37.jvet10.ai"]
["BlowingBubbles.Q22.jvet10.ai"]
["BlowingBubbles.Q27.jvet10.ai"]
["BlowingBubbles.Q32.jvet10.ai"]
["BlowingBubbles.Q37.jvet10.ai"]
["RaceHorses.Q22.jvet10.ai"]
["RaceHorses.Q27.jvet10.ai"]
["RaceHorses.Q32.jvet10.ai"]
["RaceHorses.Q37.jvet10.ai"]
["FourPeople.Q22.jvet10.ai"]
["FourPeople.Q27.jvet10.ai"]
["FourPeople.Q32.jvet10.ai"]
["FourPeople.Q37.jvet10.ai"]
["Johnny.Q22.jvet10.ai"]
["Johnny.Q27.jvet10.ai"]
["Johnny.Q32.jvet10.ai"]
["Johnny.Q37.jvet10.ai"]
["KristenAndSara.Q22.jvet10.ai"]
["KristenAndSara.Q27.jvet10.ai"]
["KristenAndSara.Q32.jvet10.ai"]
["KristenAndSara.Q37.jvet10.ai"]
["BasketballDrillText.Q22.jvet10.ai"]
["BasketballDrillText.Q27.jvet10.ai"]
["BasketballDrillText.Q32.jvet10.ai"]
["BasketballDrillText.Q37.jvet10.ai"]
["ChinaSpeed.Q22.jvet10.ai"]
["ChinaSpeed.Q27.jvet10.ai"]
["ChinaSpeed.Q32.jvet10.ai"]
["ChinaSpeed.Q37.jvet10.ai"]
["SlideEditing.Q22.jvet10.ai"]
["SlideEditing.Q27.jvet10.ai"]
["SlideEditing.Q32.jvet10.ai"]
["SlideEditing.Q37.jvet10.ai"]
["SlideShow.Q22.jvet10.ai"]
["SlideShow.Q27.jvet10.ai"]
["SlideShow.Q32.jvet10.ai"]
["SlideShow.Q37.jvet10.ai"]
["Tango2.Q22.jvet10.ra"]
["Tango2.Q27.jvet10.ra"]
["Tango2.Q32.jvet10.ra"]
["Tango2.Q37.jvet10.ra"]
["FoodMarket4.Q22.jvet10.ra"]
["FoodMarket4.Q27.jvet10.ra"]
["FoodMarket4.Q32.jvet10.ra"]
["FoodMarket4.Q37.jvet10.ra"]
["CampfireParty2.Q22.jvet10.ra"]
["CampfireParty2.Q27.jvet10.ra"]
["CampfireParty2.Q32.jvet10.ra"]
["CampfireParty2.Q37.jvet10.ra"]
["CatRobot1.Q22.jvet10.ra"]
["CatRobot1.Q27.jvet10.ra"]
["CatRobot1.Q32.jvet10.ra"]
["CatRobot1.Q37.jvet10.ra"]
["DaylightRoad2.Q22.jvet10.ra"]
["DaylightRoad2.Q27.jvet10.ra"]
["DaylightRoad2.Q32.jvet10.ra"]
["DaylightRoad2.Q37.jvet10.ra"]
["ParkRunning3.Q22.jvet10.ra"]
["ParkRunning3.Q27.jvet10.ra"]
["ParkRunning3.Q32.jvet10.ra"]
["ParkRunning3.Q37.jvet10.ra"]
["MarketPlace.Q22.jvet10.ra"]
["MarketPlace.Q27.jvet10.ra"]
["MarketPlace.Q32.jvet10.ra"]
["MarketPlace.Q37.jvet10.ra"]
["RitualDance.Q22.jvet10.ra"]
["RitualDance.Q27.jvet10.ra"]
["RitualDance.Q32.jvet10.ra"]
["RitualDance.Q37.jvet10.ra"]
["Cactus.Q22.jvet10.ra"]
["Cactus.Q27.jvet10.ra"]
["Cactus.Q32.jvet10.ra"]
["Cactus.Q37.jvet10.ra"]
["BasketballDrive.Q22.jvet10.ra"]
["BasketballDrive.Q27.jvet10.ra"]
["BasketballDrive.Q32.jvet10.ra"]
["BasketballDrive.Q37.jvet10.ra"]
["BQTerrace.Q22.jvet10.ra"]
["BQTerrace.Q27.jvet10.ra"]
["BQTerrace.Q32.jvet10.ra"]
["BQTerrace.Q37.jvet10.ra"]
["BasketballDrill.Q22.jvet10.ra"]
["BasketballDrill.Q27.jvet10.ra"]
["BasketballDrill.Q32.jvet10.ra"]
["BasketballDrill.Q37.jvet10.ra"]
["BQMall.Q22.jvet10.ra"]
["BQMall.Q27.jvet10.ra"]
["BQMall.Q32.jvet10.ra"]
["BQMall.Q37.jvet10.ra"]
["PartyScene.Q22.jvet10.ra"]
["PartyScene.Q27.jvet10.ra"]
["PartyScene.Q32.jvet10.ra"]
["PartyScene.Q37.jvet10.ra"]
["RaceHorsesC.Q22.jvet10.ra"]
["RaceHorsesC.Q27.jvet10.ra"]
["RaceHorsesC.Q32.jvet10.ra"]
["RaceHorsesC.Q37.jvet10.ra"]
["BasketballPass.Q22.jvet10.ra"]
["BasketballPass.Q27.jvet10.ra"]
["BasketballPass.Q32.jvet10.ra"]
["BasketballPass.Q37.jvet10.ra"]
["BQSquare.Q22.jvet10.ra"]
["BQSquare.Q27.jvet10.ra"]
["BQSquare.Q32.jvet10.ra"]
["BQSquare.Q37.jvet10.ra"]
["BlowingBubbles.Q22.jvet10.ra"]
["BlowingBubbles.Q27.jvet10.ra"]
["BlowingBubbles.Q32.jvet10.ra"]
["BlowingBubbles.Q37.jvet10.ra"]
["RaceHorses.Q22.jvet10.ra"]
["RaceHorses.Q27.jvet10.ra"]
["RaceHorses.Q32.jvet10.ra"]
["RaceHorses.Q37.jvet10.ra"]
["FourPeople.Q22.jvet10.ra"]
["FourPeople.Q27.jvet10.ra"]
["FourPeople.Q32.jvet10.ra"]
["FourPeople.Q37.jvet10.ra"]
["Johnny.Q22.jvet10.ra"]
["Johnny.Q27.jvet10.ra"]
["Johnny.Q32.jvet10.ra"]
["Johnny.Q37.jvet10.ra"]
["KristenAndSara.Q22.jvet10.ra"]
["KristenAndSara.Q27.jvet10.ra"]
["KristenAndSara.Q32.jvet10.ra"]
["KristenAndSara.Q37.jvet10.ra"]
["BasketballDrillText.Q22.jvet10.ra"]
["BasketballDrillText.Q27.jvet10.ra"]
["BasketballDrillText.Q32.jvet10.ra"]
["BasketballDrillText.Q37.jvet10.ra"]
["ChinaSpeed.Q22.jvet10.ra"]
["ChinaSpeed.Q27.jvet10.ra"]
["ChinaSpeed.Q32.jvet10.ra"]
["ChinaSpeed.Q37.jvet10.ra"]
["SlideEditing.Q22.jvet10.ra"]
["SlideEditing.Q27.jvet10.ra"]
["SlideEditing.Q32.jvet10.ra"]
["SlideEditing.Q37.jvet10.ra"]
["SlideShow.Q22.jvet10.ra"]
["SlideShow.Q27.jvet10.ra"]
["SlideShow.Q32.jvet10.ra"]
["SlideShow.Q37.jvet10.ra"]
["Tango2.Q22.jvet10.lb"]
["Tango2.Q27.jvet10.lb"]
["Tango2.Q32.jvet10.lb"]
["Tango2.Q37.jvet10.lb"]
["FoodMarket4.Q22.jvet10.lb"]
["FoodMarket4.Q27.jvet10.lb"]
["FoodMarket4.Q32.jvet10.lb"]
["FoodMarket4.Q37.jvet10.lb"]
["CampfireParty2.Q22.jvet10.lb"]
["CampfireParty2.Q27.jvet10.lb"]
["CampfireParty2.Q32.jvet10.lb"]
["CampfireParty2.Q37.jvet10.lb"]
["CatRobot1.Q22.jvet10.lb"]
["CatRobot1.Q27.jvet10.lb"]
["CatRobot1.Q32.jvet10.lb"]
["CatRobot1.Q37.jvet10.lb"]
["DaylightRoad2.Q22.jvet10.lb"]
["DaylightRoad2.Q27.jvet10.lb"]
["DaylightRoad2.Q32.jvet10.lb"]
["DaylightRoad2.Q37.jvet10.lb"]
["ParkRunning3.Q22.jvet10.lb"]
["ParkRunning3.Q27.jvet10.lb"]
["ParkRunning3.Q32.jvet10.lb"]
["ParkRunning3.Q37.jvet10.lb"]
["MarketPlace.Q22.jvet10.lb"]
["MarketPlace.Q27.jvet10.lb"]
["MarketPlace.Q32.jvet10.lb"]
["MarketPlace.Q37.jvet10.lb"]
["RitualDance.Q22.jvet10.lb"]
["RitualDance.Q27.jvet10.lb"]
["RitualDance.Q32.jvet10.lb"]
["RitualDance.Q37.jvet10.lb"]
["Cactus.Q22.jvet10.lb"]
["Cactus.Q27.jvet10.lb"]
["Cactus.Q32.jvet10.lb"]
["Cactus.Q37.jvet10.lb"]
["BasketballDrive.Q22.jvet10.lb"]
["BasketballDrive.Q27.jvet10.lb"]
["BasketballDrive.Q32.jvet10.lb"]
["BasketballDrive.Q37.jvet10.lb"]
["BQTerrace.Q22.jvet10.lb"]
["BQTerrace.Q27.jvet10.lb"]
["BQTerrace.Q32.jvet10.lb"]
["BQTerrace.Q37.jvet10.lb"]
["BasketballDrill.Q22.jvet10.lb"]
["BasketballDrill.Q27.jvet10.lb"]
["BasketballDrill.Q32.jvet10.lb"]
["BasketballDrill.Q37.jvet10.lb"]
["BQMall.Q22.jvet10.lb"]
["BQMall.Q27.jvet10.lb"]
["BQMall.Q32.jvet10.lb"]
["BQMall.Q37.jvet10.lb"]
["PartyScene.Q22.jvet10.lb"]
["PartyScene.Q27.jvet10.lb"]
["PartyScene.Q32.jvet10.lb"]
["PartyScene.Q37.jvet10.lb"]
["RaceHorsesC.Q22.jvet10.lb"]
["RaceHorsesC.Q27.jvet10.lb"]
["RaceHorsesC.Q32.jvet10.lb"]
["RaceHorsesC.Q37.jvet10.lb"]
["BasketballPass.Q22.jvet10.lb"]
["BasketballPass.Q27.jvet10.lb"]
["BasketballPass.Q32.jvet10.lb"]
["BasketballPass.Q37.jvet10.lb"]
["BQSquare.Q22.jvet10.lb"]
["BQSquare.Q27.jvet10.lb"]
["BQSquare.Q32.jvet10.lb"]
["BQSquare.Q37.jvet10.lb"]
["BlowingBubbles.Q22.jvet10.lb"]
["BlowingBubbles.Q27.jvet10.lb"]
["BlowingBubbles.Q32.jvet10.lb"]
["BlowingBubbles.Q37.jvet10.lb"]
["RaceHorses.Q22.jvet10.lb"]
["RaceHorses.Q27.jvet10.lb"]
["RaceHorses.Q32.jvet10.lb"]
["RaceHorses.Q37.jvet10.lb"]
["FourPeople.Q22.jvet10.lb"]
["FourPeople.Q27.jvet10.lb"]
["FourPeople.Q32.jvet10.lb"]
["FourPeople.Q37.jvet10.lb"]
["Johnny.Q22.jvet10.lb"]
["Johnny.Q27.jvet10.lb"]
["Johnny.Q32.jvet10.lb"]
["Johnny.Q37.jvet10.lb"]
["KristenAndSara.Q22.jvet10.lb"]
["KristenAndSara.Q27.jvet10.lb"]
["KristenAndSara.Q32.jvet10.lb"]
["KristenAndSara.Q37.jvet10.lb"]
["BasketballDrillText.Q22.jvet10.lb"]
["BasketballDrillText.Q27.jvet10.lb"]
["BasketballDrillText.Q32.jvet10.lb"]
["BasketballDrillText.Q37.jvet10.lb"]
["ChinaSpeed.Q22.jvet10.lb"]
["ChinaSpeed.Q27.jvet10.lb"]
["ChinaSpeed.Q32.jvet10.lb"]
["ChinaSpeed.Q37.jvet10.lb"]
["SlideEditing.Q22.jvet10.lb"]
["SlideEditing.Q27.jvet10.lb"]
["SlideEditing.Q32.jvet10.lb"]
["SlideEditing.Q37.jvet10.lb"]
["SlideShow.Q22.jvet10.lb"]
["SlideShow.Q27.jvet10.lb"]
["SlideShow.Q32.jvet10.lb"]
["SlideShow.Q37.jvet10.lb"]
["Tango2.Q22.jvet10.lp"]
["Tango2.Q27.jvet10.lp"]
["Tango2.Q32.jvet10.lp"]
["Tango2.Q37.jvet10.lp"]
["FoodMarket4.Q22.jvet10.lp"]
["FoodMarket4.Q27.jvet10.lp"]
["FoodMarket4.Q32.jvet10.lp"]
["FoodMarket4.Q37.jvet10.lp"]
["CampfireParty2.Q22.jvet10.lp"]
["CampfireParty2.Q27.jvet10.lp"]
["CampfireParty2.Q32.jvet10.lp"]
["CampfireParty2.Q37.jvet10.lp"]
["CatRobot1.Q22.jvet10.lp"]
["CatRobot1.Q27.jvet10.lp"]
["CatRobot1.Q32.jvet10.lp"]
["CatRobot1.Q37.jvet10.lp"]
["DaylightRoad2.Q22.jvet10.lp"]
["DaylightRoad2.Q27.jvet10.lp"]
["DaylightRoad2.Q32.jvet10.lp"]
["DaylightRoad2.Q37.jvet10.lp"]
["ParkRunning3.Q22.jvet10.lp"]
["ParkRunning3.Q27.jvet10.lp"]
["ParkRunning3.Q32.jvet10.lp"]
["DaylightRoad2.Q37.jvet10.lp"]
["MarketPlace.Q22.jvet10.lp"]
["MarketPlace.Q27.jvet10.lp"]
["MarketPlace.Q32.jvet10.lp"]
["MarketPlace.Q37.jvet10.lp"]
["RitualDance.Q22.jvet10.lp"]
["RitualDance.Q27.jvet10.lp"]
["RitualDance.Q32.jvet10.lp"]
["RitualDance.Q37.jvet10.lp"]
["Cactus.Q22.jvet10.lp"]
["Cactus.Q27.jvet10.lp"]
["Cactus.Q32.jvet10.lp"]
["Cactus.Q37.jvet10.lp"]
["BasketballDrive.Q22.jvet10.lp"]
["BasketballDrive.Q27.jvet10.lp"]
["BasketballDrive.Q32.jvet10.lp"]
["BasketballDrive.Q37.jvet10.lp"]
["BQTerrace.Q22.jvet10.lp"]
["BQTerrace.Q27.jvet10.lp"]
["BQTerrace.Q32.jvet10.lp"]
["BQTerrace.Q37.jvet10.lp"]
["BasketballDrill.Q22.jvet10.lp"]
["BasketballDrill.Q27.jvet10.lp"]
["BasketballDrill.Q32.jvet10.lp"]
["BasketballDrill.Q37.jvet10.lp"]
["BQMall.Q22.jvet10.lp"]
["BQMall.Q27.jvet10.lp"]
["BQMall.Q32.jvet10.lp"]
["BQMall.Q37.jvet10.lp"]
["PartyScene.Q22.jvet10.lp"]
["PartyScene.Q27.jvet10.lp"]
["PartyScene.Q32.jvet10.lp"]
["PartyScene.Q37.jvet10.lp"]
["RaceHorsesC.Q22.jvet10.lp"]
["RaceHorsesC.Q27.jvet10.lp"]
["RaceHorsesC.Q32.jvet10.lp"]
["RaceHorsesC.Q37.jvet10.lp"]
["BasketballPass.Q22.jvet10.lp"]
["BasketballPass.Q27.jvet10.lp"]
["BasketballPass.Q32.jvet10.lp"]
["BasketballPass.Q37.jvet10.lp"]
["BQSquare.Q22.jvet10.lp"]
["BQSquare.Q27.jvet10.lp"]
["BQSquare.Q32.jvet10.lp"]
["BQSquare.Q37.jvet10.lp"]
["BlowingBubbles.Q22.jvet10.lp"]
["BlowingBubbles.Q27.jvet10.lp"]
["BlowingBubbles.Q32.jvet10.lp"]
["BlowingBubbles.Q37.jvet10.lp"]
["RaceHorses.Q22.jvet10.lp"]
["RaceHorses.Q27.jvet10.lp"]
["RaceHorses.Q32.jvet10.lp"]
["RaceHorses.Q37.jvet10.lp"]
["FourPeople.Q22.jvet10.lp"]
["FourPeople.Q27.jvet10.lp"]
["FourPeople.Q32.jvet10.lp"]
["FourPeople.Q37.jvet10.lp"]
["Johnny.Q22.jvet10.lp"]
["Johnny.Q27.jvet10.lp"]
["Johnny.Q32.jvet10.lp"]
["Johnny.Q37.jvet10.lp"]
["KristenAndSara.Q22.jvet10.lp"]
["KristenAndSara.Q27.jvet10.lp"]
["KristenAndSara.Q32.jvet10.lp"]
["KristenAndSara.Q37.jvet10.lp"]
["BasketballDrillText.Q22.jvet10.lp"]
["BasketballDrillText.Q27.jvet10.lp"]
["BasketballDrillText.Q32.jvet10.lp"]
["BasketballDrillText.Q37.jvet10.lp"]
["ChinaSpeed.Q22.jvet10.lp"]
["ChinaSpeed.Q27.jvet10.lp"]
["ChinaSpeed.Q32.jvet10.lp"]
["ChinaSpeed.Q37.jvet10.lp"]
["SlideEditing.Q22.jvet10.lp"]
["SlideEditing.Q27.jvet10.lp"]
["SlideEditing.Q32.jvet10.lp"]
["SlideEditing.Q37.jvet10.lp"]
["SlideShow.Q22.jvet10.lp"]
["SlideShow.Q27.jvet10.lp"]
["SlideShow.Q32.jvet10.lp"]
["SlideShow.Q37.jvet10.lp"]