{"text_format":"1","workbook":"xlsx","n_sheets":5,"sheets":["Summary","AI","RA","Reference","Test"],"not_rendered":{"charts":0,"images":0,"macros":1,"external_links":0,"defined_names":0,"comments":0,"pivot_tables":0},"unopened":[],"bounds":{"document_bytes":16777216,"sheet_cells":100000,"rows_first":2000,"rows_last":500,"rows_between":2000,"halvings":0,"cell_chars":16384,"cell_head_chars":4096},"cells_cut":0,"cells_raw":0,"read":"whole","date_system":"1900"}

{"sheet":"Summary","index":0,"n_rows":33,"n_cols":15,"rows_kept":33,"cut":false,"hidden":false,"merged":[[1,2,1,11],[9,2,9,11],[10,2,10,11],[11,4,11,6],[11,7,11,9],[3,7,3,9],[3,4,3,6],[2,2,2,11]]}
[]
[null,null,"All Intra"]
[null,null,{"$f":"CONCATENATE(\"Over \", $O$3)","v":null},null,null,null,null,null,null,null,null,null,null,"Reference:","[VVC-HDR][branches][VTM-6.0-helmrich][R4566][HDR]"]
[null,null,null,null,"wPSNR",null,null,"PSNR",null,null,null,null,null,"Tested:","[VVC-HDR][branches][VTM-6.0-helmrich][R4700][chrDistFix]"]
[null,null,"DE100","PSNR-L100","Y","U","V","Y","U","V","EncT","DecT"]
[null,"Class H1",{"$f":"AI!AF47","v":null},{"$f":"AI!AG47","v":null},{"$f":"AI!AH47","v":null},{"$f":"AI!AI47","v":null},{"$f":"AI!AJ47","v":null},{"$f":"AI!AK47","v":null},{"$f":"AI!AL47","v":null},{"$f":"AI!AM47","v":null},{"$f":"AI!AC47","v":null},{"$f":"AI!AD47","v":null}]
[null,"Class H2",null,null,null,null,null,{"$f":"AI!AK48","v":null},{"$f":"AI!AL48","v":null},{"$f":"AI!AM48","v":null},{"$f":"AI!AC48","v":null},{"$f":"AI!AD48","v":null}]
[null,"Overall ",{"$f":"AI!AF49","v":null},{"$f":"AI!AG49","v":null},{"$f":"AI!AH49","v":null},{"$f":"AI!AI49","v":null},{"$f":"AI!AJ49","v":null},{"$f":"AI!AK49","v":null},{"$f":"AI!AL49","v":null},{"$f":"AI!AM49","v":null},{"$f":"AI!AC49","v":null},{"$f":"AI!AD49","v":null}]
[]
[null,null,"Random Access",null,null,null,null,null,null,null,null,null,null,"Note: BD-rate is computed using piece-wise cubic interpolation"]
[null,null,{"$f":"CONCATENATE(\"Over \", $O$3)","v":null}]
[null,null,null,null,"wPSNR",null,null,"PSNR"]
[null,null,"DE100","PSNR-L100","Y","U","V","Y","U","V","EncT","DecT",null,"Cluster information","(e.g. Xeon …)"]
[null,{"$f":"B6","v":null},{"$f":"RA!AF47","v":null},{"$f":"RA!AG47","v":null},{"$f":"RA!AH47","v":null},{"$f":"RA!AI47","v":null},{"$f":"RA!AJ47","v":null},{"$f":"RA!AK47","v":null},{"$f":"RA!AL47","v":null},{"$f":"RA!AM47","v":null},{"$f":"RA!AC47","v":null},{"$f":"RA!AD47","v":null}]
[null,{"$f":"B7","v":null},null,null,null,null,null,{"$f":"RA!AK48","v":null},{"$f":"RA!AL48","v":null},{"$f":"RA!AM48","v":null},{"$f":"RA!AC48","v":null},{"$f":"RA!AD48","v":null},null,"CPU type:","(on/off)"]
[null,"Overall",{"$f":"RA!AF49","v":null},{"$f":"RA!AG49","v":null},{"$f":"RA!AH49","v":null},{"$f":"RA!AI49","v":null},{"$f":"RA!AJ49","v":null},{"$f":"RA!AK49","v":null},{"$f":"RA!AL49","v":null},{"$f":"RA!AM49","v":null},{"$f":"RA!AC49","v":null},{"$f":"RA!AD49","v":null},null,null,"(on/off)"]
[null,null,null,null,null,null,null,null,null,null,null,null,null,"Hyperthreading:"]
[null,null,null,null,null,null,null,null,null,null,null,null,null,"Turbo mode:","(e.g. gcc 7.3.1)"]
[]
[null,null,null,null,null,null,null,null,null,null,null,null,null,"Compiler:","(e.g. Scientific Linux)"]
[]
[null,null,null,null,null,null,null,null,null,null,null,null,null,"OS:"]
[]
[null,null,null,null,null,null,null,null,null,null,null,null,null,"Decoding options","(yes/no)"]
[]
[null,null,null,null,null,null,null,null,null,null,null,null,null,"Bitstream concatenation:","(yes/no)"]
[null,null,null,null,null,null,null,null,null,null,null,null,null,null,"(yes/no)"]
[null,null,null,null,null,null,null,null,null,null,null,null,null,"MD5 SEI:"]
[null,null,null,null,null,null,null,null,null,null,null,null,null,"YUV output:","(e.g. SSE2)"]
[]
[null,null,null,null,null,null,null,null,null,null,null,null,null,"SIMD options:","(on/off)"]
[]
[null,null,null,null,null,null,null,null,null,null,null,null,null,"BMS macro (VTM decoding)"]

{"sheet":"AI","index":1,"n_rows":52,"n_cols":47,"rows_kept":52,"cut":false,"hidden":false,"merged":[[0,39,0,46],[0,71,0,78],[0,3,0,14],[0,16,0,27],[0,48,0,59],[0,31,0,38],[0,63,0,70]]}
[null,null,null,"Referenece",null,null,null,null,null,null,null,null,null,null,null,null,"Tested",null,null,null,null,null,null,null,null,null,null,null,null,null,null,"BD-rate (piecewise cubic)",null,null,null,null,null,null,null,"BD-PSNR  (cubic)"]
[null,null,"Qp","kbps","DE100","PSNRL100","wPsnrY","wPsnrU","wPsnrV","psnrY","psnrU","psnrV","Enc T [s]","Dec T [s]","Enc T [h]",null,"kbps","DE100","PSNRL100","wPsnrY","wPsnrU","wPsnrV","psnrY","psnrU","psnrV","Enc T [s]","Dec T [s]","Enc T [h]","Enc","Dec",null,"DE100","PSNRL100","wPsnrY","wPsnrU","wPsnrV","psnrY","psnrU","psnrV","DE100","PSNRL100","wPsnrY","wPsnrU","wPsnrV","psnrY","psnrU","psnrV"]
["Class H1","Market",22,{"$f":"Reference!B1","v":null},{"$f":"Reference!C1","v":null},{"$f":"Reference!D1","v":null},{"$f":"Reference!E1","v":null},{"$f":"Reference!F1","v":null},{"$f":"Reference!G1","v":null},{"$f":"Reference!H1","v":null},{"$f":"Reference!I1","v":null},{"$f":"Reference!J1","v":null},{"$f":"Reference!K1","v":null},{"$f":"Reference!L1","v":null},{"$f":"M3/3600","v":null},null,{"$f":"Test!B1","v":null},{"$f":"Test!C1","v":null},{"$f":"Test!D1","v":null},{"$f":"Test!E1","v":null},{"$f":"Test!F1","v":null},{"$f":"Test!G1","v":null},{"$f":"Test!H1","v":null},{"$f":"Test!I1","v":null},{"$f":"Test!J1","v":null},{"$f":"Test!K1","v":null},{"$f":"Test!L1","v":null},{"$f":"Z3/3600","v":null},{"$f":"Z3/M3","v":null},{"$f":"AA3/N3","v":null},null,{"$f":"bdrate($D3:$D6,E3:E6,$Q3:$Q6,R3:R6)","v":null},{"$f":"bdrate($D3:$D6,F3:F6,$Q3:$Q6,S3:S6)","v":null},{"$f":"bdrate($D3:$D6,G3:G6,$Q3:$Q6,T3:T6)","v":null},{"$f":"bdrate($D3:$D6,H3:H6,$Q3:$Q6,U3:U6)","v":null},{"$f":"bdrate($D3:$D6,I3:I6,$Q3:$Q6,V3:V6)","v":null},{"$f":"bdrate($D3:$D6,J3:J6,$Q3:$Q6,W3:W6)","v":null},{"$f":"bdrate($D3:$D6,K3:K6,$Q3:$Q6,X3:X6)","v":null},{"$f":"bdrate($D3:$D6,L3:L6,$Q3:$Q6,Y3:Y6)","v":null},{"$f":"bdrateOld($D3:$D6,E3:E6,$Q3:$Q6,R3:R6)","v":null},{"$f":"bdrateOld($D3:$D6,F3:F6,$Q3:$Q6,S3:S6)","v":null},{"$f":"bdrateOld($D3:$D6,G3:G6,$Q3:$Q6,T3:T6)","v":null},{"$f":"bdrateOld($D3:$D6,H3:H6,$Q3:$Q6,U3:U6)","v":null},{"$f":"bdrateOld($D3:$D6,I3:I6,$Q3:$Q6,V3:V6)","v":null},{"$f":"bdrateOld($D3:$D6,J3:J6,$Q3:$Q6,W3:W6)","v":null},{"$f":"bdrateOld($D3:$D6,K3:K6,$Q3:$Q6,X3:X6)","v":null},{"$f":"bdrateOld($D3:$D6,L3:L6,$Q3:$Q6,Y3:Y6)","v":null}]
["PQ",null,27,{"$f":"Reference!B2","v":null},{"$f":"Reference!C2","v":null},{"$f":"Reference!D2","v":null},{"$f":"Reference!E2","v":null},{"$f":"Reference!F2","v":null},{"$f":"Reference!G2","v":null},{"$f":"Reference!H2","v":null},{"$f":"Reference!I2","v":null},{"$f":"Reference!J2","v":null},{"$f":"Reference!K2","v":null},{"$f":"Reference!L2","v":null},{"$f":"M4/3600","v":null},null,{"$f":"Test!B2","v":null},{"$f":"Test!C2","v":null},{"$f":"Test!D2","v":null},{"$f":"Test!E2","v":null},{"$f":"Test!F2","v":null},{"$f":"Test!G2","v":null},{"$f":"Test!H2","v":null},{"$f":"Test!I2","v":null},{"$f":"Test!J2","v":null},{"$f":"Test!K2","v":null},{"$f":"Test!L2","v":null},{"$f":"Z4/3600","v":null},{"$f":"Z4/M4","v":null},{"$f":"AA4/N4","v":null}]
[null,null,32,{"$f":"Reference!B3","v":null},{"$f":"Reference!C3","v":null},{"$f":"Reference!D3","v":null},{"$f":"Reference!E3","v":null},{"$f":"Reference!F3","v":null},{"$f":"Reference!G3","v":null},{"$f":"Reference!H3","v":null},{"$f":"Reference!I3","v":null},{"$f":"Reference!J3","v":null},{"$f":"Reference!K3","v":null},{"$f":"Reference!L3","v":null},{"$f":"M5/3600","v":null},null,{"$f":"Test!B3","v":null},{"$f":"Test!C3","v":null},{"$f":"Test!D3","v":null},{"$f":"Test!E3","v":null},{"$f":"Test!F3","v":null},{"$f":"Test!G3","v":null},{"$f":"Test!H3","v":null},{"$f":"Test!I3","v":null},{"$f":"Test!J3","v":null},{"$f":"Test!K3","v":null},{"$f":"Test!L3","v":null},{"$f":"Z5/3600","v":null},{"$f":"Z5/M5","v":null},{"$f":"AA5/N5","v":null}]
[null,null,37,{"$f":"Reference!B4","v":null},{"$f":"Reference!C4","v":null},{"$f":"Reference!D4","v":null},{"$f":"Reference!E4","v":null},{"$f":"Reference!F4","v":null},{"$f":"Reference!G4","v":null},{"$f":"Reference!H4","v":null},{"$f":"Reference!I4","v":null},{"$f":"Reference!J4","v":null},{"$f":"Reference!K4","v":null},{"$f":"Reference!L4","v":null},{"$f":"M6/3600","v":null},null,{"$f":"Test!B4","v":null},{"$f":"Test!C4","v":null},{"$f":"Test!D4","v":null},{"$f":"Test!E4","v":null},{"$f":"Test!F4","v":null},{"$f":"Test!G4","v":null},{"$f":"Test!H4","v":null},{"$f":"Test!I4","v":null},{"$f":"Test!J4","v":null},{"$f":"Test!K4","v":null},{"$f":"Test!L4","v":null},{"$f":"Z6/3600","v":null},{"$f":"Z6/M6","v":null},{"$f":"AA6/N6","v":null}]
[null,"SunRise",22,{"$f":"Reference!B5","v":null},{"$f":"Reference!C5","v":null},{"$f":"Reference!D5","v":null},{"$f":"Reference!E5","v":null},{"$f":"Reference!F5","v":null},{"$f":"Reference!G5","v":null},{"$f":"Reference!H5","v":null},{"$f":"Reference!I5","v":null},{"$f":"Reference!J5","v":null},{"$f":"Reference!K5","v":null},{"$f":"Reference!L5","v":null},{"$f":"M7/3600","v":null},null,{"$f":"Test!B5","v":null},{"$f":"Test!C5","v":null},{"$f":"Test!D5","v":null},{"$f":"Test!E5","v":null},{"$f":"Test!F5","v":null},{"$f":"Test!G5","v":null},{"$f":"Test!H5","v":null},{"$f":"Test!I5","v":null},{"$f":"Test!J5","v":null},{"$f":"Test!K5","v":null},{"$f":"Test!L5","v":null},{"$f":"Z7/3600","v":null},{"$f":"Z7/M7","v":null},{"$f":"AA7/N7","v":null},null,{"$f":"bdrate($D7:$D10,E7:E10,$Q7:$Q10,R7:R10)","v":null},{"$f":"bdrate($D7:$D10,F7:F10,$Q7:$Q10,S7:S10)","v":null},{"$f":"bdrate($D7:$D10,G7:G10,$Q7:$Q10,T7:T10)","v":null},{"$f":"bdrate($D7:$D10,H7:H10,$Q7:$Q10,U7:U10)","v":null},{"$f":"bdrate($D7:$D10,I7:I10,$Q7:$Q10,V7:V10)","v":null},{"$f":"bdrate($D7:$D10,J7:J10,$Q7:$Q10,W7:W10)","v":null},{"$f":"bdrate($D7:$D10,K7:K10,$Q7:$Q10,X7:X10)","v":null},{"$f":"bdrate($D7:$D10,L7:L10,$Q7:$Q10,Y7:Y10)","v":null},{"$f":"bdrateOld($D7:$D10,E7:E10,$Q7:$Q10,R7:R10)","v":null},{"$f":"bdrateOld($D7:$D10,F7:F10,$Q7:$Q10,S7:S10)","v":null},{"$f":"bdrateOld($D7:$D10,G7:G10,$Q7:$Q10,T7:T10)","v":null},{"$f":"bdrateOld($D7:$D10,H7:H10,$Q7:$Q10,U7:U10)","v":null},{"$f":"bdrateOld($D7:$D10,I7:I10,$Q7:$Q10,V7:V10)","v":null},{"$f":"bdrateOld($D7:$D10,J7:J10,$Q7:$Q10,W7:W10)","v":null},{"$f":"bdrateOld($D7:$D10,K7:K10,$Q7:$Q10,X7:X10)","v":null},{"$f":"bdrateOld($D7:$D10,L7:L10,$Q7:$Q10,Y7:Y10)","v":null}]
[null,null,27,{"$f":"Reference!B6","v":null},{"$f":"Reference!C6","v":null},{"$f":"Reference!D6","v":null},{"$f":"Reference!E6","v":null},{"$f":"Reference!F6","v":null},{"$f":"Reference!G6","v":null},{"$f":"Reference!H6","v":null},{"$f":"Reference!I6","v":null},{"$f":"Reference!J6","v":null},{"$f":"Reference!K6","v":null},{"$f":"Reference!L6","v":null},{"$f":"M8/3600","v":null},null,{"$f":"Test!B6","v":null},{"$f":"Test!C6","v":null},{"$f":"Test!D6","v":null},{"$f":"Test!E6","v":null},{"$f":"Test!F6","v":null},{"$f":"Test!G6","v":null},{"$f":"Test!H6","v":null},{"$f":"Test!I6","v":null},{"$f":"Test!J6","v":null},{"$f":"Test!K6","v":null},{"$f":"Test!L6","v":null},{"$f":"Z8/3600","v":null},{"$f":"Z8/M8","v":null},{"$f":"AA8/N8","v":null}]
[null,null,32,{"$f":"Reference!B7","v":null},{"$f":"Reference!C7","v":null},{"$f":"Reference!D7","v":null},{"$f":"Reference!E7","v":null},{"$f":"Reference!F7","v":null},{"$f":"Reference!G7","v":null},{"$f":"Reference!H7","v":null},{"$f":"Reference!I7","v":null},{"$f":"Reference!J7","v":null},{"$f":"Reference!K7","v":null},{"$f":"Reference!L7","v":null},{"$f":"M9/3600","v":null},null,{"$f":"Test!B7","v":null},{"$f":"Test!C7","v":null},{"$f":"Test!D7","v":null},{"$f":"Test!E7","v":null},{"$f":"Test!F7","v":null},{"$f":"Test!G7","v":null},{"$f":"Test!H7","v":null},{"$f":"Test!I7","v":null},{"$f":"Test!J7","v":null},{"$f":"Test!K7","v":null},{"$f":"Test!L7","v":null},{"$f":"Z9/3600","v":null},{"$f":"Z9/M9","v":null},{"$f":"AA9/N9","v":null}]
[null,null,37,{"$f":"Reference!B8","v":null},{"$f":"Reference!C8","v":null},{"$f":"Reference!D8","v":null},{"$f":"Reference!E8","v":null},{"$f":"Reference!F8","v":null},{"$f":"Reference!G8","v":null},{"$f":"Reference!H8","v":null},{"$f":"Reference!I8","v":null},{"$f":"Reference!J8","v":null},{"$f":"Reference!K8","v":null},{"$f":"Reference!L8","v":null},{"$f":"M10/3600","v":null},null,{"$f":"Test!B8","v":null},{"$f":"Test!C8","v":null},{"$f":"Test!D8","v":null},{"$f":"Test!E8","v":null},{"$f":"Test!F8","v":null},{"$f":"Test!G8","v":null},{"$f":"Test!H8","v":null},{"$f":"Test!I8","v":null},{"$f":"Test!J8","v":null},{"$f":"Test!K8","v":null},{"$f":"Test!L8","v":null},{"$f":"Z10/3600","v":null},{"$f":"Z10/M10","v":null},{"$f":"AA10/N10","v":null}]
[null,"ShowGirl2",22,{"$f":"Reference!B9","v":null},{"$f":"Reference!C9","v":null},{"$f":"Reference!D9","v":null},{"$f":"Reference!E9","v":null},{"$f":"Reference!F9","v":null},{"$f":"Reference!G9","v":null},{"$f":"Reference!H9","v":null},{"$f":"Reference!I9","v":null},{"$f":"Reference!J9","v":null},{"$f":"Reference!K9","v":null},{"$f":"Reference!L9","v":null},{"$f":"M11/3600","v":null},null,{"$f":"Test!B9","v":null},{"$f":"Test!C9","v":null},{"$f":"Test!D9","v":null},{"$f":"Test!E9","v":null},{"$f":"Test!F9","v":null},{"$f":"Test!G9","v":null},{"$f":"Test!H9","v":null},{"$f":"Test!I9","v":null},{"$f":"Test!J9","v":null},{"$f":"Test!K9","v":null},{"$f":"Test!L9","v":null},{"$f":"Z11/3600","v":null},{"$f":"Z11/M11","v":null},{"$f":"AA11/N11","v":null},null,{"$f":"bdrate($D11:$D14,E11:E14,$Q11:$Q14,R11:R14)","v":null},{"$f":"bdrate($D11:$D14,F11:F14,$Q11:$Q14,S11:S14)","v":null},{"$f":"bdrate($D11:$D14,G11:G14,$Q11:$Q14,T11:T14)","v":null},{"$f":"bdrate($D11:$D14,H11:H14,$Q11:$Q14,U11:U14)","v":null},{"$f":"bdrate($D11:$D14,I11:I14,$Q11:$Q14,V11:V14)","v":null},{"$f":"bdrate($D11:$D14,J11:J14,$Q11:$Q14,W11:W14)","v":null},{"$f":"bdrate($D11:$D14,K11:K14,$Q11:$Q14,X11:X14)","v":null},{"$f":"bdrate($D11:$D14,L11:L14,$Q11:$Q14,Y11:Y14)","v":null},{"$f":"bdrateOld($D11:$D14,E11:E14,$Q11:$Q14,R11:R14)","v":null},{"$f":"bdrateOld($D11:$D14,F11:F14,$Q11:$Q14,S11:S14)","v":null},{"$f":"bdrateOld($D11:$D14,G11:G14,$Q11:$Q14,T11:T14)","v":null},{"$f":"bdrateOld($D11:$D14,H11:H14,$Q11:$Q14,U11:U14)","v":null},{"$f":"bdrateOld($D11:$D14,I11:I14,$Q11:$Q14,V11:V14)","v":null},{"$f":"bdrateOld($D11:$D14,J11:J14,$Q11:$Q14,W11:W14)","v":null},{"$f":"bdrateOld($D11:$D14,K11:K14,$Q11:$Q14,X11:X14)","v":null},{"$f":"bdrateOld($D11:$D14,L11:L14,$Q11:$Q14,Y11:Y14)","v":null}]
[null,null,27,{"$f":"Reference!B10","v":null},{"$f":"Reference!C10","v":null},{"$f":"Reference!D10","v":null},{"$f":"Reference!E10","v":null},{"$f":"Reference!F10","v":null},{"$f":"Reference!G10","v":null},{"$f":"Reference!H10","v":null},{"$f":"Reference!I10","v":null},{"$f":"Reference!J10","v":null},{"$f":"Reference!K10","v":null},{"$f":"Reference!L10","v":null},{"$f":"M12/3600","v":null},null,{"$f":"Test!B10","v":null},{"$f":"Test!C10","v":null},{"$f":"Test!D10","v":null},{"$f":"Test!E10","v":null},{"$f":"Test!F10","v":null},{"$f":"Test!G10","v":null},{"$f":"Test!H10","v":null},{"$f":"Test!I10","v":null},{"$f":"Test!J10","v":null},{"$f":"Test!K10","v":null},{"$f":"Test!L10","v":null},{"$f":"Z12/3600","v":null},{"$f":"Z12/M12","v":null},{"$f":"AA12/N12","v":null}]
[null,null,32,{"$f":"Reference!B11","v":null},{"$f":"Reference!C11","v":null},{"$f":"Reference!D11","v":null},{"$f":"Reference!E11","v":null},{"$f":"Reference!F11","v":null},{"$f":"Reference!G11","v":null},{"$f":"Reference!H11","v":null},{"$f":"Reference!I11","v":null},{"$f":"Reference!J11","v":null},{"$f":"Reference!K11","v":null},{"$f":"Reference!L11","v":null},{"$f":"M13/3600","v":null},null,{"$f":"Test!B11","v":null},{"$f":"Test!C11","v":null},{"$f":"Test!D11","v":null},{"$f":"Test!E11","v":null},{"$f":"Test!F11","v":null},{"$f":"Test!G11","v":null},{"$f":"Test!H11","v":null},{"$f":"Test!I11","v":null},{"$f":"Test!J11","v":null},{"$f":"Test!K11","v":null},{"$f":"Test!L11","v":null},{"$f":"Z13/3600","v":null},{"$f":"Z13/M13","v":null},{"$f":"AA13/N13","v":null}]
[null,null,37,{"$f":"Reference!B12","v":null},{"$f":"Reference!C12","v":null},{"$f":"Reference!D12","v":null},{"$f":"Reference!E12","v":null},{"$f":"Reference!F12","v":null},{"$f":"Reference!G12","v":null},{"$f":"Reference!H12","v":null},{"$f":"Reference!I12","v":null},{"$f":"Reference!J12","v":null},{"$f":"Reference!K12","v":null},{"$f":"Reference!L12","v":null},{"$f":"M14/3600","v":null},null,{"$f":"Test!B12","v":null},{"$f":"Test!C12","v":null},{"$f":"Test!D12","v":null},{"$f":"Test!E12","v":null},{"$f":"Test!F12","v":null},{"$f":"Test!G12","v":null},{"$f":"Test!H12","v":null},{"$f":"Test!I12","v":null},{"$f":"Test!J12","v":null},{"$f":"Test!K12","v":null},{"$f":"Test!L12","v":null},{"$f":"Z14/3600","v":null},{"$f":"Z14/M14","v":null},{"$f":"AA14/N14","v":null}]
[null,"BalloonFestival",22,{"$f":"Reference!B13","v":null},{"$f":"Reference!C13","v":null},{"$f":"Reference!D13","v":null},{"$f":"Reference!E13","v":null},{"$f":"Reference!F13","v":null},{"$f":"Reference!G13","v":null},{"$f":"Reference!H13","v":null},{"$f":"Reference!I13","v":null},{"$f":"Reference!J13","v":null},{"$f":"Reference!K13","v":null},{"$f":"Reference!L13","v":null},{"$f":"M15/3600","v":null},null,{"$f":"Test!B13","v":null},{"$f":"Test!C13","v":null},{"$f":"Test!D13","v":null},{"$f":"Test!E13","v":null},{"$f":"Test!F13","v":null},{"$f":"Test!G13","v":null},{"$f":"Test!H13","v":null},{"$f":"Test!I13","v":null},{"$f":"Test!J13","v":null},{"$f":"Test!K13","v":null},{"$f":"Test!L13","v":null},{"$f":"Z15/3600","v":null},{"$f":"Z15/M15","v":null},{"$f":"AA15/N15","v":null},null,{"$f":"bdrate($D15:$D18,E15:E18,$Q15:$Q18,R15:R18)","v":null},{"$f":"bdrate($D15:$D18,F15:F18,$Q15:$Q18,S15:S18)","v":null},{"$f":"bdrate($D15:$D18,G15:G18,$Q15:$Q18,T15:T18)","v":null},{"$f":"bdrate($D15:$D18,H15:H18,$Q15:$Q18,U15:U18)","v":null},{"$f":"bdrate($D15:$D18,I15:I18,$Q15:$Q18,V15:V18)","v":null},{"$f":"bdrate($D15:$D18,J15:J18,$Q15:$Q18,W15:W18)","v":null},{"$f":"bdrate($D15:$D18,K15:K18,$Q15:$Q18,X15:X18)","v":null},{"$f":"bdrate($D15:$D18,L15:L18,$Q15:$Q18,Y15:Y18)","v":null},{"$f":"bdrateOld($D15:$D18,E15:E18,$Q15:$Q18,R15:R18)","v":null},{"$f":"bdrateOld($D15:$D18,F15:F18,$Q15:$Q18,S15:S18)","v":null},{"$f":"bdrateOld($D15:$D18,G15:G18,$Q15:$Q18,T15:T18)","v":null},{"$f":"bdrateOld($D15:$D18,H15:H18,$Q15:$Q18,U15:U18)","v":null},{"$f":"bdrateOld($D15:$D18,I15:I18,$Q15:$Q18,V15:V18)","v":null},{"$f":"bdrateOld($D15:$D18,J15:J18,$Q15:$Q18,W15:W18)","v":null},{"$f":"bdrateOld($D15:$D18,K15:K18,$Q15:$Q18,X15:X18)","v":null},{"$f":"bdrateOld($D15:$D18,L15:L18,$Q15:$Q18,Y15:Y18)","v":null}]
[null,null,27,{"$f":"Reference!B14","v":null},{"$f":"Reference!C14","v":null},{"$f":"Reference!D14","v":null},{"$f":"Reference!E14","v":null},{"$f":"Reference!F14","v":null},{"$f":"Reference!G14","v":null},{"$f":"Reference!H14","v":null},{"$f":"Reference!I14","v":null},{"$f":"Reference!J14","v":null},{"$f":"Reference!K14","v":null},{"$f":"Reference!L14","v":null},{"$f":"M16/3600","v":null},null,{"$f":"Test!B14","v":null},{"$f":"Test!C14","v":null},{"$f":"Test!D14","v":null},{"$f":"Test!E14","v":null},{"$f":"Test!F14","v":null},{"$f":"Test!G14","v":null},{"$f":"Test!H14","v":null},{"$f":"Test!I14","v":null},{"$f":"Test!J14","v":null},{"$f":"Test!K14","v":null},{"$f":"Test!L14","v":null},{"$f":"Z16/3600","v":null},{"$f":"Z16/M16","v":null},{"$f":"AA16/N16","v":null}]
[null,null,32,{"$f":"Reference!B15","v":null},{"$f":"Reference!C15","v":null},{"$f":"Reference!D15","v":null},{"$f":"Reference!E15","v":null},{"$f":"Reference!F15","v":null},{"$f":"Reference!G15","v":null},{"$f":"Reference!H15","v":null},{"$f":"Reference!I15","v":null},{"$f":"Reference!J15","v":null},{"$f":"Reference!K15","v":null},{"$f":"Reference!L15","v":null},{"$f":"M17/3600","v":null},null,{"$f":"Test!B15","v":null},{"$f":"Test!C15","v":null},{"$f":"Test!D15","v":null},{"$f":"Test!E15","v":null},{"$f":"Test!F15","v":null},{"$f":"Test!G15","v":null},{"$f":"Test!H15","v":null},{"$f":"Test!I15","v":null},{"$f":"Test!J15","v":null},{"$f":"Test!K15","v":null},{"$f":"Test!L15","v":null},{"$f":"Z17/3600","v":null},{"$f":"Z17/M17","v":null},{"$f":"AA17/N17","v":null}]
[null,null,37,{"$f":"Reference!B16","v":null},{"$f":"Reference!C16","v":null},{"$f":"Reference!D16","v":null},{"$f":"Reference!E16","v":null},{"$f":"Reference!F16","v":null},{"$f":"Reference!G16","v":null},{"$f":"Reference!H16","v":null},{"$f":"Reference!I16","v":null},{"$f":"Reference!J16","v":null},{"$f":"Reference!K16","v":null},{"$f":"Reference!L16","v":null},{"$f":"M18/3600","v":null},null,{"$f":"Test!B16","v":null},{"$f":"Test!C16","v":null},{"$f":"Test!D16","v":null},{"$f":"Test!E16","v":null},{"$f":"Test!F16","v":null},{"$f":"Test!G16","v":null},{"$f":"Test!H16","v":null},{"$f":"Test!I16","v":null},{"$f":"Test!J16","v":null},{"$f":"Test!K16","v":null},{"$f":"Test!L16","v":null},{"$f":"Z18/3600","v":null},{"$f":"Z18/M18","v":null},{"$f":"AA18/N18","v":null}]
[null,"Hurdles",22,{"$f":"Reference!B17","v":null},{"$f":"Reference!C17","v":null},{"$f":"Reference!D17","v":null},{"$f":"Reference!E17","v":null},{"$f":"Reference!F17","v":null},{"$f":"Reference!G17","v":null},{"$f":"Reference!H17","v":null},{"$f":"Reference!I17","v":null},{"$f":"Reference!J17","v":null},{"$f":"Reference!K17","v":null},{"$f":"Reference!L17","v":null},{"$f":"M19/3600","v":null},null,{"$f":"Test!B17","v":null},{"$f":"Test!C17","v":null},{"$f":"Test!D17","v":null},{"$f":"Test!E17","v":null},{"$f":"Test!F17","v":null},{"$f":"Test!G17","v":null},{"$f":"Test!H17","v":null},{"$f":"Test!I17","v":null},{"$f":"Test!J17","v":null},{"$f":"Test!K17","v":null},{"$f":"Test!L17","v":null},{"$f":"Z19/3600","v":null},{"$f":"Z19/M19","v":null},{"$f":"AA19/N19","v":null},null,{"$f":"bdrate($D19:$D22,E19:E22,$Q19:$Q22,R19:R22)","v":null},{"$f":"bdrate($D19:$D22,F19:F22,$Q19:$Q22,S19:S22)","v":null},{"$f":"bdrate($D19:$D22,G19:G22,$Q19:$Q22,T19:T22)","v":null},{"$f":"bdrate($D19:$D22,H19:H22,$Q19:$Q22,U19:U22)","v":null},{"$f":"bdrate($D19:$D22,I19:I22,$Q19:$Q22,V19:V22)","v":null},{"$f":"bdrate($D19:$D22,J19:J22,$Q19:$Q22,W19:W22)","v":null},{"$f":"bdrate($D19:$D22,K19:K22,$Q19:$Q22,X19:X22)","v":null},{"$f":"bdrate($D19:$D22,L19:L22,$Q19:$Q22,Y19:Y22)","v":null},{"$f":"bdrateOld($D19:$D22,E19:E22,$Q19:$Q22,R19:R22)","v":null},{"$f":"bdrateOld($D19:$D22,F19:F22,$Q19:$Q22,S19:S22)","v":null},{"$f":"bdrateOld($D19:$D22,G19:G22,$Q19:$Q22,T19:T22)","v":null},{"$f":"bdrateOld($D19:$D22,H19:H22,$Q19:$Q22,U19:U22)","v":null},{"$f":"bdrateOld($D19:$D22,I19:I22,$Q19:$Q22,V19:V22)","v":null},{"$f":"bdrateOld($D19:$D22,J19:J22,$Q19:$Q22,W19:W22)","v":null},{"$f":"bdrateOld($D19:$D22,K19:K22,$Q19:$Q22,X19:X22)","v":null},{"$f":"bdrateOld($D19:$D22,L19:L22,$Q19:$Q22,Y19:Y22)","v":null}]
[null,null,27,{"$f":"Reference!B18","v":null},{"$f":"Reference!C18","v":null},{"$f":"Reference!D18","v":null},{"$f":"Reference!E18","v":null},{"$f":"Reference!F18","v":null},{"$f":"Reference!G18","v":null},{"$f":"Reference!H18","v":null},{"$f":"Reference!I18","v":null},{"$f":"Reference!J18","v":null},{"$f":"Reference!K18","v":null},{"$f":"Reference!L18","v":null},{"$f":"M20/3600","v":null},null,{"$f":"Test!B18","v":null},{"$f":"Test!C18","v":null},{"$f":"Test!D18","v":null},{"$f":"Test!E18","v":null},{"$f":"Test!F18","v":null},{"$f":"Test!G18","v":null},{"$f":"Test!H18","v":null},{"$f":"Test!I18","v":null},{"$f":"Test!J18","v":null},{"$f":"Test!K18","v":null},{"$f":"Test!L18","v":null},{"$f":"Z20/3600","v":null},{"$f":"Z20/M20","v":null},{"$f":"AA20/N20","v":null}]
[null,null,32,{"$f":"Reference!B19","v":null},{"$f":"Reference!C19","v":null},{"$f":"Reference!D19","v":null},{"$f":"Reference!E19","v":null},{"$f":"Reference!F19","v":null},{"$f":"Reference!G19","v":null},{"$f":"Reference!H19","v":null},{"$f":"Reference!I19","v":null},{"$f":"Reference!J19","v":null},{"$f":"Reference!K19","v":null},{"$f":"Reference!L19","v":null},{"$f":"M21/3600","v":null},null,{"$f":"Test!B19","v":null},{"$f":"Test!C19","v":null},{"$f":"Test!D19","v":null},{"$f":"Test!E19","v":null},{"$f":"Test!F19","v":null},{"$f":"Test!G19","v":null},{"$f":"Test!H19","v":null},{"$f":"Test!I19","v":null},{"$f":"Test!J19","v":null},{"$f":"Test!K19","v":null},{"$f":"Test!L19","v":null},{"$f":"Z21/3600","v":null},{"$f":"Z21/M21","v":null},{"$f":"AA21/N21","v":null}]
[null,null,37,{"$f":"Reference!B20","v":null},{"$f":"Reference!C20","v":null},{"$f":"Reference!D20","v":null},{"$f":"Reference!E20","v":null},{"$f":"Reference!F20","v":null},{"$f":"Reference!G20","v":null},{"$f":"Reference!H20","v":null},{"$f":"Reference!I20","v":null},{"$f":"Reference!J20","v":null},{"$f":"Reference!K20","v":null},{"$f":"Reference!L20","v":null},{"$f":"M22/3600","v":null},null,{"$f":"Test!B20","v":null},{"$f":"Test!C20","v":null},{"$f":"Test!D20","v":null},{"$f":"Test!E20","v":null},{"$f":"Test!F20","v":null},{"$f":"Test!G20","v":null},{"$f":"Test!H20","v":null},{"$f":"Test!I20","v":null},{"$f":"Test!J20","v":null},{"$f":"Test!K20","v":null},{"$f":"Test!L20","v":null},{"$f":"Z22/3600","v":null},{"$f":"Z22/M22","v":null},{"$f":"AA22/N22","v":null}]
[null,"Starting",22,{"$f":"Reference!B21","v":null},{"$f":"Reference!C21","v":null},{"$f":"Reference!D21","v":null},{"$f":"Reference!E21","v":null},{"$f":"Reference!F21","v":null},{"$f":"Reference!G21","v":null},{"$f":"Reference!H21","v":null},{"$f":"Reference!I21","v":null},{"$f":"Reference!J21","v":null},{"$f":"Reference!K21","v":null},{"$f":"Reference!L21","v":null},{"$f":"M23/3600","v":null},null,{"$f":"Test!B21","v":null},{"$f":"Test!C21","v":null},{"$f":"Test!D21","v":null},{"$f":"Test!E21","v":null},{"$f":"Test!F21","v":null},{"$f":"Test!G21","v":null},{"$f":"Test!H21","v":null},{"$f":"Test!I21","v":null},{"$f":"Test!J21","v":null},{"$f":"Test!K21","v":null},{"$f":"Test!L21","v":null},{"$f":"Z23/3600","v":null},{"$f":"Z23/M23","v":null},{"$f":"AA23/N23","v":null},null,{"$f":"bdrate($D23:$D26,E23:E26,$Q23:$Q26,R23:R26)","v":null},{"$f":"bdrate($D23:$D26,F23:F26,$Q23:$Q26,S23:S26)","v":null},{"$f":"bdrate($D23:$D26,G23:G26,$Q23:$Q26,T23:T26)","v":null},{"$f":"bdrate($D23:$D26,H23:H26,$Q23:$Q26,U23:U26)","v":null},{"$f":"bdrate($D23:$D26,I23:I26,$Q23:$Q26,V23:V26)","v":null},{"$f":"bdrate($D23:$D26,J23:J26,$Q23:$Q26,W23:W26)","v":null},{"$f":"bdrate($D23:$D26,K23:K26,$Q23:$Q26,X23:X26)","v":null},{"$f":"bdrate($D23:$D26,L23:L26,$Q23:$Q26,Y23:Y26)","v":null},{"$f":"bdrateOld($D23:$D26,E23:E26,$Q23:$Q26,R23:R26)","v":null},{"$f":"bdrateOld($D23:$D26,F23:F26,$Q23:$Q26,S23:S26)","v":null},{"$f":"bdrateOld($D23:$D26,G23:G26,$Q23:$Q26,T23:T26)","v":null},{"$f":"bdrateOld($D23:$D26,H23:H26,$Q23:$Q26,U23:U26)","v":null},{"$f":"bdrateOld($D23:$D26,I23:I26,$Q23:$Q26,V23:V26)","v":null},{"$f":"bdrateOld($D23:$D26,J23:J26,$Q23:$Q26,W23:W26)","v":null},{"$f":"bdrateOld($D23:$D26,K23:K26,$Q23:$Q26,X23:X26)","v":null},{"$f":"bdrateOld($D23:$D26,L23:L26,$Q23:$Q26,Y23:Y26)","v":null}]
[null,null,27,{"$f":"Reference!B22","v":null},{"$f":"Reference!C22","v":null},{"$f":"Reference!D22","v":null},{"$f":"Reference!E22","v":null},{"$f":"Reference!F22","v":null},{"$f":"Reference!G22","v":null},{"$f":"Reference!H22","v":null},{"$f":"Reference!I22","v":null},{"$f":"Reference!J22","v":null},{"$f":"Reference!K22","v":null},{"$f":"Reference!L22","v":null},{"$f":"M24/3600","v":null},null,{"$f":"Test!B22","v":null},{"$f":"Test!C22","v":null},{"$f":"Test!D22","v":null},{"$f":"Test!E22","v":null},{"$f":"Test!F22","v":null},{"$f":"Test!G22","v":null},{"$f":"Test!H22","v":null},{"$f":"Test!I22","v":null},{"$f":"Test!J22","v":null},{"$f":"Test!K22","v":null},{"$f":"Test!L22","v":null},{"$f":"Z24/3600","v":null},{"$f":"Z24/M24","v":null},{"$f":"AA24/N24","v":null}]
[null,null,32,{"$f":"Reference!B23","v":null},{"$f":"Reference!C23","v":null},{"$f":"Reference!D23","v":null},{"$f":"Reference!E23","v":null},{"$f":"Reference!F23","v":null},{"$f":"Reference!G23","v":null},{"$f":"Reference!H23","v":null},{"$f":"Reference!I23","v":null},{"$f":"Reference!J23","v":null},{"$f":"Reference!K23","v":null},{"$f":"Reference!L23","v":null},{"$f":"M25/3600","v":null},null,{"$f":"Test!B23","v":null},{"$f":"Test!C23","v":null},{"$f":"Test!D23","v":null},{"$f":"Test!E23","v":null},{"$f":"Test!F23","v":null},{"$f":"Test!G23","v":null},{"$f":"Test!H23","v":null},{"$f":"Test!I23","v":null},{"$f":"Test!J23","v":null},{"$f":"Test!K23","v":null},{"$f":"Test!L23","v":null},{"$f":"Z25/3600","v":null},{"$f":"Z25/M25","v":null},{"$f":"AA25/N25","v":null}]
[null,null,37,{"$f":"Reference!B24","v":null},{"$f":"Reference!C24","v":null},{"$f":"Reference!D24","v":null},{"$f":"Reference!E24","v":null},{"$f":"Reference!F24","v":null},{"$f":"Reference!G24","v":null},{"$f":"Reference!H24","v":null},{"$f":"Reference!I24","v":null},{"$f":"Reference!J24","v":null},{"$f":"Reference!K24","v":null},{"$f":"Reference!L24","v":null},{"$f":"M26/3600","v":null},null,{"$f":"Test!B24","v":null},{"$f":"Test!C24","v":null},{"$f":"Test!D24","v":null},{"$f":"Test!E24","v":null},{"$f":"Test!F24","v":null},{"$f":"Test!G24","v":null},{"$f":"Test!H24","v":null},{"$f":"Test!I24","v":null},{"$f":"Test!J24","v":null},{"$f":"Test!K24","v":null},{"$f":"Test!L24","v":null},{"$f":"Z26/3600","v":null},{"$f":"Z26/M26","v":null},{"$f":"AA26/N26","v":null}]
[null,"Cosmos1",22,{"$f":"Reference!B25","v":null},{"$f":"Reference!C25","v":null},{"$f":"Reference!D25","v":null},{"$f":"Reference!E25","v":null},{"$f":"Reference!F25","v":null},{"$f":"Reference!G25","v":null},{"$f":"Reference!H25","v":null},{"$f":"Reference!I25","v":null},{"$f":"Reference!J25","v":null},{"$f":"Reference!K25","v":null},{"$f":"Reference!L25","v":null},{"$f":"M27/3600","v":null},null,{"$f":"Test!B25","v":null},{"$f":"Test!C25","v":null},{"$f":"Test!D25","v":null},{"$f":"Test!E25","v":null},{"$f":"Test!F25","v":null},{"$f":"Test!G25","v":null},{"$f":"Test!H25","v":null},{"$f":"Test!I25","v":null},{"$f":"Test!J25","v":null},{"$f":"Test!K25","v":null},{"$f":"Test!L25","v":null},{"$f":"Z27/3600","v":null},{"$f":"Z27/M27","v":null},{"$f":"AA27/N27","v":null},null,{"$f":"bdrate($D27:$D30,E27:E30,$Q27:$Q30,R27:R30)","v":null},{"$f":"bdrate($D27:$D30,F27:F30,$Q27:$Q30,S27:S30)","v":null},{"$f":"bdrate($D27:$D30,G27:G30,$Q27:$Q30,T27:T30)","v":null},{"$f":"bdrate($D27:$D30,H27:H30,$Q27:$Q30,U27:U30)","v":null},{"$f":"bdrate($D27:$D30,I27:I30,$Q27:$Q30,V27:V30)","v":null},{"$f":"bdrate($D27:$D30,J27:J30,$Q27:$Q30,W27:W30)","v":null},{"$f":"bdrate($D27:$D30,K27:K30,$Q27:$Q30,X27:X30)","v":null},{"$f":"bdrate($D27:$D30,L27:L30,$Q27:$Q30,Y27:Y30)","v":null},{"$f":"bdrateOld($D27:$D30,E27:E30,$Q27:$Q30,R27:R30)","v":null},{"$f":"bdrateOld($D27:$D30,F27:F30,$Q27:$Q30,S27:S30)","v":null},{"$f":"bdrateOld($D27:$D30,G27:G30,$Q27:$Q30,T27:T30)","v":null},{"$f":"bdrateOld($D27:$D30,H27:H30,$Q27:$Q30,U27:U30)","v":null},{"$f":"bdrateOld($D27:$D30,I27:I30,$Q27:$Q30,V27:V30)","v":null},{"$f":"bdrateOld($D27:$D30,J27:J30,$Q27:$Q30,W27:W30)","v":null},{"$f":"bdrateOld($D27:$D30,K27:K30,$Q27:$Q30,X27:X30)","v":null},{"$f":"bdrateOld($D27:$D30,L27:L30,$Q27:$Q30,Y27:Y30)","v":null}]
[null,null,27,{"$f":"Reference!B26","v":null},{"$f":"Reference!C26","v":null},{"$f":"Reference!D26","v":null},{"$f":"Reference!E26","v":null},{"$f":"Reference!F26","v":null},{"$f":"Reference!G26","v":null},{"$f":"Reference!H26","v":null},{"$f":"Reference!I26","v":null},{"$f":"Reference!J26","v":null},{"$f":"Reference!K26","v":null},{"$f":"Reference!L26","v":null},{"$f":"M28/3600","v":null},null,{"$f":"Test!B26","v":null},{"$f":"Test!C26","v":null},{"$f":"Test!D26","v":null},{"$f":"Test!E26","v":null},{"$f":"Test!F26","v":null},{"$f":"Test!G26","v":null},{"$f":"Test!H26","v":null},{"$f":"Test!I26","v":null},{"$f":"Test!J26","v":null},{"$f":"Test!K26","v":null},{"$f":"Test!L26","v":null},{"$f":"Z28/3600","v":null},{"$f":"Z28/M28","v":null},{"$f":"AA28/N28","v":null}]
[null,null,32,{"$f":"Reference!B27","v":null},{"$f":"Reference!C27","v":null},{"$f":"Reference!D27","v":null},{"$f":"Reference!E27","v":null},{"$f":"Reference!F27","v":null},{"$f":"Reference!G27","v":null},{"$f":"Reference!H27","v":null},{"$f":"Reference!I27","v":null},{"$f":"Reference!J27","v":null},{"$f":"Reference!K27","v":null},{"$f":"Reference!L27","v":null},{"$f":"M29/3600","v":null},null,{"$f":"Test!B27","v":null},{"$f":"Test!C27","v":null},{"$f":"Test!D27","v":null},{"$f":"Test!E27","v":null},{"$f":"Test!F27","v":null},{"$f":"Test!G27","v":null},{"$f":"Test!H27","v":null},{"$f":"Test!I27","v":null},{"$f":"Test!J27","v":null},{"$f":"Test!K27","v":null},{"$f":"Test!L27","v":null},{"$f":"Z29/3600","v":null},{"$f":"Z29/M29","v":null},{"$f":"AA29/N29","v":null}]
[null,null,37,{"$f":"Reference!B28","v":null},{"$f":"Reference!C28","v":null},{"$f":"Reference!D28","v":null},{"$f":"Reference!E28","v":null},{"$f":"Reference!F28","v":null},{"$f":"Reference!G28","v":null},{"$f":"Reference!H28","v":null},{"$f":"Reference!I28","v":null},{"$f":"Reference!J28","v":null},{"$f":"Reference!K28","v":null},{"$f":"Reference!L28","v":null},{"$f":"M30/3600","v":null},null,{"$f":"Test!B28","v":null},{"$f":"Test!C28","v":null},{"$f":"Test!D28","v":null},{"$f":"Test!E28","v":null},{"$f":"Test!F28","v":null},{"$f":"Test!G28","v":null},{"$f":"Test!H28","v":null},{"$f":"Test!I28","v":null},{"$f":"Test!J28","v":null},{"$f":"Test!K28","v":null},{"$f":"Test!L28","v":null},{"$f":"Z30/3600","v":null},{"$f":"Z30/M30","v":null},{"$f":"AA30/N30","v":null}]
["Class H2","DayStreet",22,{"$f":"Reference!B29","v":null},{"$f":"Reference!C29","v":null},{"$f":"Reference!D29","v":null},{"$f":"Reference!E29","v":null},{"$f":"Reference!F29","v":null},{"$f":"Reference!G29","v":null},{"$f":"Reference!H29","v":null},{"$f":"Reference!I29","v":null},{"$f":"Reference!J29","v":null},{"$f":"Reference!K29","v":null},{"$f":"Reference!L29","v":null},{"$f":"M31/3600","v":null},null,{"$f":"Test!B29","v":null},{"$f":"Test!C29","v":null},{"$f":"Test!D29","v":null},{"$f":"Test!E29","v":null},{"$f":"Test!F29","v":null},{"$f":"Test!G29","v":null},{"$f":"Test!H29","v":null},{"$f":"Test!I29","v":null},{"$f":"Test!J29","v":null},{"$f":"Test!K29","v":null},{"$f":"Test!L29","v":null},{"$f":"Z31/3600","v":null},{"$f":"Z31/M31","v":null},{"$f":"AA31/N31","v":null},null,null,null,null,null,null,{"$f":"bdrate($D31:$D34,J31:J34,$Q31:$Q34,W31:W34)","v":null},{"$f":"bdrate($D31:$D34,K31:K34,$Q31:$Q34,X31:X34)","v":null},{"$f":"bdrate($D31:$D34,L31:L34,$Q31:$Q34,Y31:Y34)","v":null},null,null,null,null,null,{"$f":"bdrateOld($D31:$D34,J31:J34,$Q31:$Q34,W31:W34)","v":null},{"$f":"bdrateOld($D31:$D34,K31:K34,$Q31:$Q34,X31:X34)","v":null},{"$f":"bdrateOld($D31:$D34,L31:L34,$Q31:$Q34,Y31:Y34)","v":null}]
["HLG",null,27,{"$f":"Reference!B30","v":null},{"$f":"Reference!C30","v":null},{"$f":"Reference!D30","v":null},{"$f":"Reference!E30","v":null},{"$f":"Reference!F30","v":null},{"$f":"Reference!G30","v":null},{"$f":"Reference!H30","v":null},{"$f":"Reference!I30","v":null},{"$f":"Reference!J30","v":null},{"$f":"Reference!K30","v":null},{"$f":"Reference!L30","v":null},{"$f":"M32/3600","v":null},null,{"$f":"Test!B30","v":null},{"$f":"Test!C30","v":null},{"$f":"Test!D30","v":null},{"$f":"Test!E30","v":null},{"$f":"Test!F30","v":null},{"$f":"Test!G30","v":null},{"$f":"Test!H30","v":null},{"$f":"Test!I30","v":null},{"$f":"Test!J30","v":null},{"$f":"Test!K30","v":null},{"$f":"Test!L30","v":null},{"$f":"Z32/3600","v":null},{"$f":"Z32/M32","v":null},{"$f":"AA32/N32","v":null}]
[null,null,32,{"$f":"Reference!B31","v":null},{"$f":"Reference!C31","v":null},{"$f":"Reference!D31","v":null},{"$f":"Reference!E31","v":null},{"$f":"Reference!F31","v":null},{"$f":"Reference!G31","v":null},{"$f":"Reference!H31","v":null},{"$f":"Reference!I31","v":null},{"$f":"Reference!J31","v":null},{"$f":"Reference!K31","v":null},{"$f":"Reference!L31","v":null},{"$f":"M33/3600","v":null},null,{"$f":"Test!B31","v":null},{"$f":"Test!C31","v":null},{"$f":"Test!D31","v":null},{"$f":"Test!E31","v":null},{"$f":"Test!F31","v":null},{"$f":"Test!G31","v":null},{"$f":"Test!H31","v":null},{"$f":"Test!I31","v":null},{"$f":"Test!J31","v":null},{"$f":"Test!K31","v":null},{"$f":"Test!L31","v":null},{"$f":"Z33/3600","v":null},{"$f":"Z33/M33","v":null},{"$f":"AA33/N33","v":null}]
[null,null,37,{"$f":"Reference!B32","v":null},{"$f":"Reference!C32","v":null},{"$f":"Reference!D32","v":null},{"$f":"Reference!E32","v":null},{"$f":"Reference!F32","v":null},{"$f":"Reference!G32","v":null},{"$f":"Reference!H32","v":null},{"$f":"Reference!I32","v":null},{"$f":"Reference!J32","v":null},{"$f":"Reference!K32","v":null},{"$f":"Reference!L32","v":null},{"$f":"M34/3600","v":null},null,{"$f":"Test!B32","v":null},{"$f":"Test!C32","v":null},{"$f":"Test!D32","v":null},{"$f":"Test!E32","v":null},{"$f":"Test!F32","v":null},{"$f":"Test!G32","v":null},{"$f":"Test!H32","v":null},{"$f":"Test!I32","v":null},{"$f":"Test!J32","v":null},{"$f":"Test!K32","v":null},{"$f":"Test!L32","v":null},{"$f":"Z34/3600","v":null},{"$f":"Z34/M34","v":null},{"$f":"AA34/N34","v":null}]
[null,"FlyingBirds2",22,{"$f":"Reference!B33","v":null},{"$f":"Reference!C33","v":null},{"$f":"Reference!D33","v":null},{"$f":"Reference!E33","v":null},{"$f":"Reference!F33","v":null},{"$f":"Reference!G33","v":null},{"$f":"Reference!H33","v":null},{"$f":"Reference!I33","v":null},{"$f":"Reference!J33","v":null},{"$f":"Reference!K33","v":null},{"$f":"Reference!L33","v":null},{"$f":"M35/3600","v":null},null,{"$f":"Test!B33","v":null},{"$f":"Test!C33","v":null},{"$f":"Test!D33","v":null},{"$f":"Test!E33","v":null},{"$f":"Test!F33","v":null},{"$f":"Test!G33","v":null},{"$f":"Test!H33","v":null},{"$f":"Test!I33","v":null},{"$f":"Test!J33","v":null},{"$f":"Test!K33","v":null},{"$f":"Test!L33","v":null},{"$f":"Z35/3600","v":null},{"$f":"Z35/M35","v":null},{"$f":"AA35/N35","v":null},null,null,null,null,null,null,{"$f":"bdrate($D35:$D38,J35:J38,$Q35:$Q38,W35:W38)","v":null},{"$f":"bdrate($D35:$D38,K35:K38,$Q35:$Q38,X35:X38)","v":null},{"$f":"bdrate($D35:$D38,L35:L38,$Q35:$Q38,Y35:Y38)","v":null},null,null,null,null,null,{"$f":"bdrateOld($D35:$D38,J35:J38,$Q35:$Q38,W35:W38)","v":null},{"$f":"bdrateOld($D35:$D38,K35:K38,$Q35:$Q38,X35:X38)","v":null},{"$f":"bdrateOld($D35:$D38,L35:L38,$Q35:$Q38,Y35:Y38)","v":null}]
[null,null,27,{"$f":"Reference!B34","v":null},{"$f":"Reference!C34","v":null},{"$f":"Reference!D34","v":null},{"$f":"Reference!E34","v":null},{"$f":"Reference!F34","v":null},{"$f":"Reference!G34","v":null},{"$f":"Reference!H34","v":null},{"$f":"Reference!I34","v":null},{"$f":"Reference!J34","v":null},{"$f":"Reference!K34","v":null},{"$f":"Reference!L34","v":null},{"$f":"M36/3600","v":null},null,{"$f":"Test!B34","v":null},{"$f":"Test!C34","v":null},{"$f":"Test!D34","v":null},{"$f":"Test!E34","v":null},{"$f":"Test!F34","v":null},{"$f":"Test!G34","v":null},{"$f":"Test!H34","v":null},{"$f":"Test!I34","v":null},{"$f":"Test!J34","v":null},{"$f":"Test!K34","v":null},{"$f":"Test!L34","v":null},{"$f":"Z36/3600","v":null},{"$f":"Z36/M36","v":null},{"$f":"AA36/N36","v":null}]
[null,null,32,{"$f":"Reference!B35","v":null},{"$f":"Reference!C35","v":null},{"$f":"Reference!D35","v":null},{"$f":"Reference!E35","v":null},{"$f":"Reference!F35","v":null},{"$f":"Reference!G35","v":null},{"$f":"Reference!H35","v":null},{"$f":"Reference!I35","v":null},{"$f":"Reference!J35","v":null},{"$f":"Reference!K35","v":null},{"$f":"Reference!L35","v":null},{"$f":"M37/3600","v":null},null,{"$f":"Test!B35","v":null},{"$f":"Test!C35","v":null},{"$f":"Test!D35","v":null},{"$f":"Test!E35","v":null},{"$f":"Test!F35","v":null},{"$f":"Test!G35","v":null},{"$f":"Test!H35","v":null},{"$f":"Test!I35","v":null},{"$f":"Test!J35","v":null},{"$f":"Test!K35","v":null},{"$f":"Test!L35","v":null},{"$f":"Z37/3600","v":null},{"$f":"Z37/M37","v":null},{"$f":"AA37/N37","v":null}]
[null,null,37,{"$f":"Reference!B36","v":null},{"$f":"Reference!C36","v":null},{"$f":"Reference!D36","v":null},{"$f":"Reference!E36","v":null},{"$f":"Reference!F36","v":null},{"$f":"Reference!G36","v":null},{"$f":"Reference!H36","v":null},{"$f":"Reference!I36","v":null},{"$f":"Reference!J36","v":null},{"$f":"Reference!K36","v":null},{"$f":"Reference!L36","v":null},{"$f":"M38/3600","v":null},null,{"$f":"Test!B36","v":null},{"$f":"Test!C36","v":null},{"$f":"Test!D36","v":null},{"$f":"Test!E36","v":null},{"$f":"Test!F36","v":null},{"$f":"Test!G36","v":null},{"$f":"Test!H36","v":null},{"$f":"Test!I36","v":null},{"$f":"Test!J36","v":null},{"$f":"Test!K36","v":null},{"$f":"Test!L36","v":null},{"$f":"Z38/3600","v":null},{"$f":"Z38/M38","v":null},{"$f":"AA38/N38","v":null}]
[null,"PeopleInShoppingCenter",22,{"$f":"Reference!B37","v":null},{"$f":"Reference!C37","v":null},{"$f":"Reference!D37","v":null},{"$f":"Reference!E37","v":null},{"$f":"Reference!F37","v":null},{"$f":"Reference!G37","v":null},{"$f":"Reference!H37","v":null},{"$f":"Reference!I37","v":null},{"$f":"Reference!J37","v":null},{"$f":"Reference!K37","v":null},{"$f":"Reference!L37","v":null},{"$f":"M39/3600","v":null},null,{"$f":"Test!B37","v":null},{"$f":"Test!C37","v":null},{"$f":"Test!D37","v":null},{"$f":"Test!E37","v":null},{"$f":"Test!F37","v":null},{"$f":"Test!G37","v":null},{"$f":"Test!H37","v":null},{"$f":"Test!I37","v":null},{"$f":"Test!J37","v":null},{"$f":"Test!K37","v":null},{"$f":"Test!L37","v":null},{"$f":"Z39/3600","v":null},{"$f":"Z39/M39","v":null},{"$f":"AA39/N39","v":null},null,null,null,null,null,null,{"$f":"bdrate($D39:$D42,J39:J42,$Q39:$Q42,W39:W42)","v":null},{"$f":"bdrate($D39:$D42,K39:K42,$Q39:$Q42,X39:X42)","v":null},{"$f":"bdrate($D39:$D42,L39:L42,$Q39:$Q42,Y39:Y42)","v":null},null,null,null,null,null,{"$f":"bdrateOld($D39:$D42,J39:J42,$Q39:$Q42,W39:W42)","v":null},{"$f":"bdrateOld($D39:$D42,K39:K42,$Q39:$Q42,X39:X42)","v":null},{"$f":"bdrateOld($D39:$D42,L39:L42,$Q39:$Q42,Y39:Y42)","v":null}]
[null,null,27,{"$f":"Reference!B38","v":null},{"$f":"Reference!C38","v":null},{"$f":"Reference!D38","v":null},{"$f":"Reference!E38","v":null},{"$f":"Reference!F38","v":null},{"$f":"Reference!G38","v":null},{"$f":"Reference!H38","v":null},{"$f":"Reference!I38","v":null},{"$f":"Reference!J38","v":null},{"$f":"Reference!K38","v":null},{"$f":"Reference!L38","v":null},{"$f":"M40/3600","v":null},null,{"$f":"Test!B38","v":null},{"$f":"Test!C38","v":null},{"$f":"Test!D38","v":null},{"$f":"Test!E38","v":null},{"$f":"Test!F38","v":null},{"$f":"Test!G38","v":null},{"$f":"Test!H38","v":null},{"$f":"Test!I38","v":null},{"$f":"Test!J38","v":null},{"$f":"Test!K38","v":null},{"$f":"Test!L38","v":null},{"$f":"Z40/3600","v":null},{"$f":"Z40/M40","v":null},{"$f":"AA40/N40","v":null}]
[null,null,32,{"$f":"Reference!B39","v":null},{"$f":"Reference!C39","v":null},{"$f":"Reference!D39","v":null},{"$f":"Reference!E39","v":null},{"$f":"Reference!F39","v":null},{"$f":"Reference!G39","v":null},{"$f":"Reference!H39","v":null},{"$f":"Reference!I39","v":null},{"$f":"Reference!J39","v":null},{"$f":"Reference!K39","v":null},{"$f":"Reference!L39","v":null},{"$f":"M41/3600","v":null},null,{"$f":"Test!B39","v":null},{"$f":"Test!C39","v":null},{"$f":"Test!D39","v":null},{"$f":"Test!E39","v":null},{"$f":"Test!F39","v":null},{"$f":"Test!G39","v":null},{"$f":"Test!H39","v":null},{"$f":"Test!I39","v":null},{"$f":"Test!J39","v":null},{"$f":"Test!K39","v":null},{"$f":"Test!L39","v":null},{"$f":"Z41/3600","v":null},{"$f":"Z41/M41","v":null},{"$f":"AA41/N41","v":null}]
[null,null,37,{"$f":"Reference!B40","v":null},{"$f":"Reference!C40","v":null},{"$f":"Reference!D40","v":null},{"$f":"Reference!E40","v":null},{"$f":"Reference!F40","v":null},{"$f":"Reference!G40","v":null},{"$f":"Reference!H40","v":null},{"$f":"Reference!I40","v":null},{"$f":"Reference!J40","v":null},{"$f":"Reference!K40","v":null},{"$f":"Reference!L40","v":null},{"$f":"M42/3600","v":null},null,{"$f":"Test!B40","v":null},{"$f":"Test!C40","v":null},{"$f":"Test!D40","v":null},{"$f":"Test!E40","v":null},{"$f":"Test!F40","v":null},{"$f":"Test!G40","v":null},{"$f":"Test!H40","v":null},{"$f":"Test!I40","v":null},{"$f":"Test!J40","v":null},{"$f":"Test!K40","v":null},{"$f":"Test!L40","v":null},{"$f":"Z42/3600","v":null},{"$f":"Z42/M42","v":null},{"$f":"AA42/N42","v":null}]
[null,"SunsetBeach2",22,{"$f":"Reference!B41","v":null},{"$f":"Reference!C41","v":null},{"$f":"Reference!D41","v":null},{"$f":"Reference!E41","v":null},{"$f":"Reference!F41","v":null},{"$f":"Reference!G41","v":null},{"$f":"Reference!H41","v":null},{"$f":"Reference!I41","v":null},{"$f":"Reference!J41","v":null},{"$f":"Reference!K41","v":null},{"$f":"Reference!L41","v":null},{"$f":"M43/3600","v":null},null,{"$f":"Test!B41","v":null},{"$f":"Test!C41","v":null},{"$f":"Test!D41","v":null},{"$f":"Test!E41","v":null},{"$f":"Test!F41","v":null},{"$f":"Test!G41","v":null},{"$f":"Test!H41","v":null},{"$f":"Test!I41","v":null},{"$f":"Test!J41","v":null},{"$f":"Test!K41","v":null},{"$f":"Test!L41","v":null},{"$f":"Z43/3600","v":null},{"$f":"Z43/M43","v":null},{"$f":"AA43/N43","v":null},null,null,null,null,null,null,{"$f":"bdrate($D43:$D46,J43:J46,$Q43:$Q46,W43:W46)","v":null},{"$f":"bdrate($D43:$D46,K43:K46,$Q43:$Q46,X43:X46)","v":null},{"$f":"bdrate($D43:$D46,L43:L46,$Q43:$Q46,Y43:Y46)","v":null},null,null,null,null,null,{"$f":"bdrateOld($D43:$D46,J43:J46,$Q43:$Q46,W43:W46)","v":null},{"$f":"bdrateOld($D43:$D46,K43:K46,$Q43:$Q46,X43:X46)","v":null},{"$f":"bdrateOld($D43:$D46,L43:L46,$Q43:$Q46,Y43:Y46)","v":null}]
[null,null,27,{"$f":"Reference!B42","v":null},{"$f":"Reference!C42","v":null},{"$f":"Reference!D42","v":null},{"$f":"Reference!E42","v":null},{"$f":"Reference!F42","v":null},{"$f":"Reference!G42","v":null},{"$f":"Reference!H42","v":null},{"$f":"Reference!I42","v":null},{"$f":"Reference!J42","v":null},{"$f":"Reference!K42","v":null},{"$f":"Reference!L42","v":null},{"$f":"M44/3600","v":null},null,{"$f":"Test!B42","v":null},{"$f":"Test!C42","v":null},{"$f":"Test!D42","v":null},{"$f":"Test!E42","v":null},{"$f":"Test!F42","v":null},{"$f":"Test!G42","v":null},{"$f":"Test!H42","v":null},{"$f":"Test!I42","v":null},{"$f":"Test!J42","v":null},{"$f":"Test!K42","v":null},{"$f":"Test!L42","v":null},{"$f":"Z44/3600","v":null},{"$f":"Z44/M44","v":null},{"$f":"AA44/N44","v":null}]
[null,null,32,{"$f":"Reference!B43","v":null},{"$f":"Reference!C43","v":null},{"$f":"Reference!D43","v":null},{"$f":"Reference!E43","v":null},{"$f":"Reference!F43","v":null},{"$f":"Reference!G43","v":null},{"$f":"Reference!H43","v":null},{"$f":"Reference!I43","v":null},{"$f":"Reference!J43","v":null},{"$f":"Reference!K43","v":null},{"$f":"Reference!L43","v":null},{"$f":"M45/3600","v":null},null,{"$f":"Test!B43","v":null},{"$f":"Test!C43","v":null},{"$f":"Test!D43","v":null},{"$f":"Test!E43","v":null},{"$f":"Test!F43","v":null},{"$f":"Test!G43","v":null},{"$f":"Test!H43","v":null},{"$f":"Test!I43","v":null},{"$f":"Test!J43","v":null},{"$f":"Test!K43","v":null},{"$f":"Test!L43","v":null},{"$f":"Z45/3600","v":null},{"$f":"Z45/M45","v":null},{"$f":"AA45/N45","v":null}]
[null,null,37,{"$f":"Reference!B44","v":null},{"$f":"Reference!C44","v":null},{"$f":"Reference!D44","v":null},{"$f":"Reference!E44","v":null},{"$f":"Reference!F44","v":null},{"$f":"Reference!G44","v":null},{"$f":"Reference!H44","v":null},{"$f":"Reference!I44","v":null},{"$f":"Reference!J44","v":null},{"$f":"Reference!K44","v":null},{"$f":"Reference!L44","v":null},{"$f":"M46/3600","v":null},null,{"$f":"Test!B44","v":null},{"$f":"Test!C44","v":null},{"$f":"Test!D44","v":null},{"$f":"Test!E44","v":null},{"$f":"Test!F44","v":null},{"$f":"Test!G44","v":null},{"$f":"Test!H44","v":null},{"$f":"Test!I44","v":null},{"$f":"Test!J44","v":null},{"$f":"Test!K44","v":null},{"$f":"Test!L44","v":null},{"$f":"Z46/3600","v":null},{"$f":"Z46/M46","v":null},{"$f":"AA46/N46","v":null}]
[null,"Class H1",null,null,null,null,null,null,null,null,null,null,null,{"$f":"GEOMEAN(N3:N30)","v":null},{"$f":"GEOMEAN(O3:O30)","v":null},null,null,null,null,null,null,null,null,null,null,null,{"$f":"GEOMEAN(AA3:AA30)","v":null},{"$f":"GEOMEAN(AB3:AB30)","v":null},{"$f":"GEOMEAN(AC3:AC30)","v":null},{"$f":"GEOMEAN(AD3:AD30)","v":null},null,{"$f":"AVERAGE(AF3,AF7,AF11,AF15,AF19,AF23,AF27)","v":null},{"$f":"AVERAGE(AG3,AG7,AG11,AG15,AG19,AG23,AG27)","v":null},{"$f":"AVERAGE(AH3,AH7,AH11,AH15,AH19,AH23,AH27)","v":null},{"$f":"AVERAGE(AI3,AI7,AI11,AI15,AI19,AI23,AI27)","v":null},{"$f":"AVERAGE(AJ3,AJ7,AJ11,AJ15,AJ19,AJ23,AJ27)","v":null},{"$f":"AVERAGE(AK3,AK7,AK11,AK15,AK19,AK23,AK27)","v":null},{"$f":"AVERAGE(AL3,AL7,AL11,AL15,AL19,AL23,AL27)","v":null},{"$f":"AVERAGE(AM3,AM7,AM11,AM15,AM19,AM23,AM27)","v":null},{"$f":"AVERAGE(AN3,AN7,AN11,AN15,AN19,AN23,AN27)","v":null},{"$f":"AVERAGE(AO3,AO7,AO11,AO15,AO19,AO23,AO27)","v":null},{"$f":"AVERAGE(AP3,AP7,AP11,AP15,AP19,AP23,AP27)","v":null},{"$f":"AVERAGE(AQ3,AQ7,AQ11,AQ15,AQ19,AQ23,AQ27)","v":null},{"$f":"AVERAGE(AR3,AR7,AR11,AR15,AR19,AR23,AR27)","v":null},{"$f":"AVERAGE(AS3,AS7,AS11,AS15,AS19,AS23,AS27)","v":null},{"$f":"AVERAGE(AT3,AT7,AT11,AT15,AT19,AT23,AT27)","v":null},{"$f":"AVERAGE(AU3,AU7,AU11,AU15,AU19,AU23,AU27)","v":null}]
[null,"Class H2",null,null,null,null,null,null,null,null,null,null,null,{"$f":"GEOMEAN(N31:N46)","v":null},{"$f":"GEOMEAN(O31:O46)","v":null},null,null,null,null,null,null,null,null,null,null,null,{"$f":"GEOMEAN(AA31:AA46)","v":null},{"$f":"GEOMEAN(AB31:AB46)","v":null},{"$f":"GEOMEAN(AC31:AC46)","v":null},{"$f":"GEOMEAN(AD31:AD46)","v":null},null,null,null,null,null,null,{"$f":"AVERAGE(AK31,AK35,AK39,AK43)","v":null},{"$f":"AVERAGE(AL31,AL35,AL39,AL43)","v":null},{"$f":"AVERAGE(AM31,AM35,AM39,AM43)","v":null},null,null,null,null,null,{"$f":"AVERAGE(AS31,AS35,AS39,AS43)","v":null},{"$f":"AVERAGE(AT31,AT35,AT39,AT43)","v":null},{"$f":"AVERAGE(AU31,AU35,AU39,AU43)","v":null}]
[null,"All",null,null,null,null,null,null,null,null,null,null,null,{"$f":"GEOMEAN(N3:N46)","v":null},{"$f":"GEOMEAN(O3:O46)","v":null},null,null,null,null,null,null,null,null,null,null,null,{"$f":"GEOMEAN(AA3:AA46)","v":null},{"$f":"GEOMEAN(AB3:AB46)","v":null},{"$f":"GEOMEAN(AC3:AC46)","v":null},{"$f":"GEOMEAN(AD3:AD46)","v":null},null,{"$f":"AVERAGE(AF3,AF7,AF11,AF15,AF19,AF23,AF27)","v":null},{"$f":"AVERAGE(AG3,AG7,AG11,AG15,AG19,AG23,AG27)","v":null},{"$f":"AVERAGE(AH3,AH7,AH11,AH15,AH19,AH23,AH27)","v":null},{"$f":"AVERAGE(AI3,AI7,AI11,AI15,AI19,AI23,AI27)","v":null},{"$f":"AVERAGE(AJ3,AJ7,AJ11,AJ15,AJ19,AJ23,AJ27)","v":null},{"$f":"AVERAGE(AK3,AK7,AK11,AK15,AK19,AK23,AK27,AK31,AK35,AK39,AK43)","v":null},{"$f":"AVERAGE(AL3,AL7,AL11,AL15,AL19,AL23,AL27,AL31,AL35,AL39,AL43)","v":null},{"$f":"AVERAGE(AM3,AM7,AM11,AM15,AM19,AM23,AM27,AM31,AM35,AM39,AM43)","v":null},{"$f":"AVERAGE(AN3,AN7,AN11,AN15,AN19,AN23,AN27)","v":null},{"$f":"AVERAGE(AO3,AO7,AO11,AO15,AO19,AO23,AO27)","v":null},{"$f":"AVERAGE(AP3,AP7,AP11,AP15,AP19,AP23,AP27)","v":null},{"$f":"AVERAGE(AQ3,AQ7,AQ11,AQ15,AQ19,AQ23,AQ27)","v":null},{"$f":"AVERAGE(AR3,AR7,AR11,AR15,AR19,AR23,AR27)","v":null},{"$f":"AVERAGE(AS3:AS43)","v":null},{"$f":"AVERAGE(AT3:AT43)","v":null},{"$f":"AVERAGE(AU3:AU43)","v":null}]
[null,"Time geomean",null,null,null,null,null,null,null,null,null,null,null,{"$f":"GEOMEAN(N3:N46)","v":null},{"$f":"GEOMEAN(O3:O46)","v":null},null,null,null,null,null,null,null,null,null,null,null,{"$f":"GEOMEAN(AA3:AA46)","v":null},{"$f":"GEOMEAN(AB3:AB46)","v":null}]
[null,"Time ratio",null,null,null,null,null,null,null,null,null,null,null,null,null,null,null,null,null,null,null,null,null,null,null,null,{"$f":"AA50/N50","v":null},{"$f":"AB50/O50","v":null}]
[null,"Time sum (hours)",null,null,null,null,null,null,null,null,null,null,null,null,null,null,null,null,null,null,null,null,null,null,null,null,null,{"$f":"SUM(AB3:AB46)","v":null}]

{"sheet":"RA","index":2,"n_rows":52,"n_cols":47,"rows_kept":52,"cut":false,"hidden":false,"merged":[[0,71,0,78],[0,3,0,14],[0,16,0,27],[0,31,0,38],[0,39,0,46],[0,48,0,59],[0,63,0,70]]}
[null,null,null,"Referenece",null,null,null,null,null,null,null,null,null,null,null,null,"Tested",null,null,null,null,null,null,null,null,null,null,null,null,null,null,"BD-rate (piecewise cubic)",null,null,null,null,null,null,null,"BD-rate  (cubic)"]
[null,null,"Qp","kbps","DE100","PSNRL100","wPsnrY","wPsnrU","wPsnrV","psnrY","psnrU","psnrV","Enc T [s]","Dec T [s]","Enc T [h]",null,"kbps","DE100","PSNRL100","wPsnrY","wPsnrU","wPsnrV","psnrY","psnrU","psnrV","Enc T [s]","Dec T [s]","Enc T [h]","Enc","Dec",null,"DE100","PSNRL100","wPsnrY","wPsnrU","wPsnrV","psnrY","psnrU","psnrV","DE100","PSNRL100","wPsnrY","wPsnrU","wPsnrV","psnrY","psnrU","psnrV"]
["Class H1","Market",22,{"$f":"Reference!B45","v":null},{"$f":"Reference!C45","v":null},{"$f":"Reference!D45","v":null},{"$f":"Reference!E45","v":null},{"$f":"Reference!F45","v":null},{"$f":"Reference!G45","v":null},{"$f":"Reference!H45","v":null},{"$f":"Reference!I45","v":null},{"$f":"Reference!J45","v":null},{"$f":"Reference!K45","v":null},{"$f":"Reference!L45","v":null},{"$f":"M3/3600","v":null},null,{"$f":"Test!B45","v":null},{"$f":"Test!C45","v":null},{"$f":"Test!D45","v":null},{"$f":"Test!E45","v":null},{"$f":"Test!F45","v":null},{"$f":"Test!G45","v":null},{"$f":"Test!H45","v":null},{"$f":"Test!I45","v":null},{"$f":"Test!J45","v":null},{"$f":"Test!K45","v":null},{"$f":"Test!L45","v":null},{"$f":"Z3/3600","v":null},{"$f":"Z3/M3","v":null},{"$f":"AA3/N3","v":null},null,{"$f":"bdrate($D3:$D6,E3:E6,$Q3:$Q6,R3:R6)","v":null},{"$f":"bdrate($D3:$D6,F3:F6,$Q3:$Q6,S3:S6)","v":null},{"$f":"bdrate($D3:$D6,G3:G6,$Q3:$Q6,T3:T6)","v":null},{"$f":"bdrate($D3:$D6,H3:H6,$Q3:$Q6,U3:U6)","v":null},{"$f":"bdrate($D3:$D6,I3:I6,$Q3:$Q6,V3:V6)","v":null},{"$f":"bdrate($D3:$D6,J3:J6,$Q3:$Q6,W3:W6)","v":null},{"$f":"bdrate($D3:$D6,K3:K6,$Q3:$Q6,X3:X6)","v":null},{"$f":"bdrate($D3:$D6,L3:L6,$Q3:$Q6,Y3:Y6)","v":null},{"$f":"bdrateOld($D3:$D6,E3:E6,$Q3:$Q6,R3:R6)","v":null},{"$f":"bdrateOld($D3:$D6,F3:F6,$Q3:$Q6,S3:S6)","v":null},{"$f":"bdrateOld($D3:$D6,G3:G6,$Q3:$Q6,T3:T6)","v":null},{"$f":"bdrateOld($D3:$D6,H3:H6,$Q3:$Q6,U3:U6)","v":null},{"$f":"bdrateOld($D3:$D6,I3:I6,$Q3:$Q6,V3:V6)","v":null},{"$f":"bdrateOld($D3:$D6,J3:J6,$Q3:$Q6,W3:W6)","v":null},{"$f":"bdrateOld($D3:$D6,K3:K6,$Q3:$Q6,X3:X6)","v":null},{"$f":"bdrateOld($D3:$D6,L3:L6,$Q3:$Q6,Y3:Y6)","v":null}]
["PQ",null,27,{"$f":"Reference!B46","v":null},{"$f":"Reference!C46","v":null},{"$f":"Reference!D46","v":null},{"$f":"Reference!E46","v":null},{"$f":"Reference!F46","v":null},{"$f":"Reference!G46","v":null},{"$f":"Reference!H46","v":null},{"$f":"Reference!I46","v":null},{"$f":"Reference!J46","v":null},{"$f":"Reference!K46","v":null},{"$f":"Reference!L46","v":null},{"$f":"M4/3600","v":null},null,{"$f":"Test!B46","v":null},{"$f":"Test!C46","v":null},{"$f":"Test!D46","v":null},{"$f":"Test!E46","v":null},{"$f":"Test!F46","v":null},{"$f":"Test!G46","v":null},{"$f":"Test!H46","v":null},{"$f":"Test!I46","v":null},{"$f":"Test!J46","v":null},{"$f":"Test!K46","v":null},{"$f":"Test!L46","v":null},{"$f":"Z4/3600","v":null},{"$f":"Z4/M4","v":null},{"$f":"AA4/N4","v":null}]
[null,null,32,{"$f":"Reference!B47","v":null},{"$f":"Reference!C47","v":null},{"$f":"Reference!D47","v":null},{"$f":"Reference!E47","v":null},{"$f":"Reference!F47","v":null},{"$f":"Reference!G47","v":null},{"$f":"Reference!H47","v":null},{"$f":"Reference!I47","v":null},{"$f":"Reference!J47","v":null},{"$f":"Reference!K47","v":null},{"$f":"Reference!L47","v":null},{"$f":"M5/3600","v":null},null,{"$f":"Test!B47","v":null},{"$f":"Test!C47","v":null},{"$f":"Test!D47","v":null},{"$f":"Test!E47","v":null},{"$f":"Test!F47","v":null},{"$f":"Test!G47","v":null},{"$f":"Test!H47","v":null},{"$f":"Test!I47","v":null},{"$f":"Test!J47","v":null},{"$f":"Test!K47","v":null},{"$f":"Test!L47","v":null},{"$f":"Z5/3600","v":null},{"$f":"Z5/M5","v":null},{"$f":"AA5/N5","v":null}]
[null,null,37,{"$f":"Reference!B48","v":null},{"$f":"Reference!C48","v":null},{"$f":"Reference!D48","v":null},{"$f":"Reference!E48","v":null},{"$f":"Reference!F48","v":null},{"$f":"Reference!G48","v":null},{"$f":"Reference!H48","v":null},{"$f":"Reference!I48","v":null},{"$f":"Reference!J48","v":null},{"$f":"Reference!K48","v":null},{"$f":"Reference!L48","v":null},{"$f":"M6/3600","v":null},null,{"$f":"Test!B48","v":null},{"$f":"Test!C48","v":null},{"$f":"Test!D48","v":null},{"$f":"Test!E48","v":null},{"$f":"Test!F48","v":null},{"$f":"Test!G48","v":null},{"$f":"Test!H48","v":null},{"$f":"Test!I48","v":null},{"$f":"Test!J48","v":null},{"$f":"Test!K48","v":null},{"$f":"Test!L48","v":null},{"$f":"Z6/3600","v":null},{"$f":"Z6/M6","v":null},{"$f":"AA6/N6","v":null}]
[null,"SunRise",22,{"$f":"Reference!B49","v":null},{"$f":"Reference!C49","v":null},{"$f":"Reference!D49","v":null},{"$f":"Reference!E49","v":null},{"$f":"Reference!F49","v":null},{"$f":"Reference!G49","v":null},{"$f":"Reference!H49","v":null},{"$f":"Reference!I49","v":null},{"$f":"Reference!J49","v":null},{"$f":"Reference!K49","v":null},{"$f":"Reference!L49","v":null},{"$f":"M7/3600","v":null},null,{"$f":"Test!B49","v":null},{"$f":"Test!C49","v":null},{"$f":"Test!D49","v":null},{"$f":"Test!E49","v":null},{"$f":"Test!F49","v":null},{"$f":"Test!G49","v":null},{"$f":"Test!H49","v":null},{"$f":"Test!I49","v":null},{"$f":"Test!J49","v":null},{"$f":"Test!K49","v":null},{"$f":"Test!L49","v":null},{"$f":"Z7/3600","v":null},{"$f":"Z7/M7","v":null},{"$f":"AA7/N7","v":null},null,{"$f":"bdrate($D7:$D10,E7:E10,$Q7:$Q10,R7:R10)","v":null},{"$f":"bdrate($D7:$D10,F7:F10,$Q7:$Q10,S7:S10)","v":null},{"$f":"bdrate($D7:$D10,G7:G10,$Q7:$Q10,T7:T10)","v":null},{"$f":"bdrate($D7:$D10,H7:H10,$Q7:$Q10,U7:U10)","v":null},{"$f":"bdrate($D7:$D10,I7:I10,$Q7:$Q10,V7:V10)","v":null},{"$f":"bdrate($D7:$D10,J7:J10,$Q7:$Q10,W7:W10)","v":null},{"$f":"bdrate($D7:$D10,K7:K10,$Q7:$Q10,X7:X10)","v":null},{"$f":"bdrate($D7:$D10,L7:L10,$Q7:$Q10,Y7:Y10)","v":null},{"$f":"bdrateOld($D7:$D10,E7:E10,$Q7:$Q10,R7:R10)","v":null},{"$f":"bdrateOld($D7:$D10,F7:F10,$Q7:$Q10,S7:S10)","v":null},{"$f":"bdrateOld($D7:$D10,G7:G10,$Q7:$Q10,T7:T10)","v":null},{"$f":"bdrateOld($D7:$D10,H7:H10,$Q7:$Q10,U7:U10)","v":null},{"$f":"bdrateOld($D7:$D10,I7:I10,$Q7:$Q10,V7:V10)","v":null},{"$f":"bdrateOld($D7:$D10,J7:J10,$Q7:$Q10,W7:W10)","v":null},{"$f":"bdrateOld($D7:$D10,K7:K10,$Q7:$Q10,X7:X10)","v":null},{"$f":"bdrateOld($D7:$D10,L7:L10,$Q7:$Q10,Y7:Y10)","v":null}]
[null,null,27,{"$f":"Reference!B50","v":null},{"$f":"Reference!C50","v":null},{"$f":"Reference!D50","v":null},{"$f":"Reference!E50","v":null},{"$f":"Reference!F50","v":null},{"$f":"Reference!G50","v":null},{"$f":"Reference!H50","v":null},{"$f":"Reference!I50","v":null},{"$f":"Reference!J50","v":null},{"$f":"Reference!K50","v":null},{"$f":"Reference!L50","v":null},{"$f":"M8/3600","v":null},null,{"$f":"Test!B50","v":null},{"$f":"Test!C50","v":null},{"$f":"Test!D50","v":null},{"$f":"Test!E50","v":null},{"$f":"Test!F50","v":null},{"$f":"Test!G50","v":null},{"$f":"Test!H50","v":null},{"$f":"Test!I50","v":null},{"$f":"Test!J50","v":null},{"$f":"Test!K50","v":null},{"$f":"Test!L50","v":null},{"$f":"Z8/3600","v":null},{"$f":"Z8/M8","v":null},{"$f":"AA8/N8","v":null}]
[null,null,32,{"$f":"Reference!B51","v":null},{"$f":"Reference!C51","v":null},{"$f":"Reference!D51","v":null},{"$f":"Reference!E51","v":null},{"$f":"Reference!F51","v":null},{"$f":"Reference!G51","v":null},{"$f":"Reference!H51","v":null},{"$f":"Reference!I51","v":null},{"$f":"Reference!J51","v":null},{"$f":"Reference!K51","v":null},{"$f":"Reference!L51","v":null},{"$f":"M9/3600","v":null},null,{"$f":"Test!B51","v":null},{"$f":"Test!C51","v":null},{"$f":"Test!D51","v":null},{"$f":"Test!E51","v":null},{"$f":"Test!F51","v":null},{"$f":"Test!G51","v":null},{"$f":"Test!H51","v":null},{"$f":"Test!I51","v":null},{"$f":"Test!J51","v":null},{"$f":"Test!K51","v":null},{"$f":"Test!L51","v":null},{"$f":"Z9/3600","v":null},{"$f":"Z9/M9","v":null},{"$f":"AA9/N9","v":null}]
[null,null,37,{"$f":"Reference!B52","v":null},{"$f":"Reference!C52","v":null},{"$f":"Reference!D52","v":null},{"$f":"Reference!E52","v":null},{"$f":"Reference!F52","v":null},{"$f":"Reference!G52","v":null},{"$f":"Reference!H52","v":null},{"$f":"Reference!I52","v":null},{"$f":"Reference!J52","v":null},{"$f":"Reference!K52","v":null},{"$f":"Reference!L52","v":null},{"$f":"M10/3600","v":null},null,{"$f":"Test!B52","v":null},{"$f":"Test!C52","v":null},{"$f":"Test!D52","v":null},{"$f":"Test!E52","v":null},{"$f":"Test!F52","v":null},{"$f":"Test!G52","v":null},{"$f":"Test!H52","v":null},{"$f":"Test!I52","v":null},{"$f":"Test!J52","v":null},{"$f":"Test!K52","v":null},{"$f":"Test!L52","v":null},{"$f":"Z10/3600","v":null},{"$f":"Z10/M10","v":null},{"$f":"AA10/N10","v":null}]
[null,"ShowGirl2",22,{"$f":"Reference!B53","v":null},{"$f":"Reference!C53","v":null},{"$f":"Reference!D53","v":null},{"$f":"Reference!E53","v":null},{"$f":"Reference!F53","v":null},{"$f":"Reference!G53","v":null},{"$f":"Reference!H53","v":null},{"$f":"Reference!I53","v":null},{"$f":"Reference!J53","v":null},{"$f":"Reference!K53","v":null},{"$f":"Reference!L53","v":null},{"$f":"M11/3600","v":null},null,{"$f":"Test!B53","v":null},{"$f":"Test!C53","v":null},{"$f":"Test!D53","v":null},{"$f":"Test!E53","v":null},{"$f":"Test!F53","v":null},{"$f":"Test!G53","v":null},{"$f":"Test!H53","v":null},{"$f":"Test!I53","v":null},{"$f":"Test!J53","v":null},{"$f":"Test!K53","v":null},{"$f":"Test!L53","v":null},{"$f":"Z11/3600","v":null},{"$f":"Z11/M11","v":null},{"$f":"AA11/N11","v":null},null,{"$f":"bdrate($D11:$D14,E11:E14,$Q11:$Q14,R11:R14)","v":null},{"$f":"bdrate($D11:$D14,F11:F14,$Q11:$Q14,S11:S14)","v":null},{"$f":"bdrate($D11:$D14,G11:G14,$Q11:$Q14,T11:T14)","v":null},{"$f":"bdrate($D11:$D14,H11:H14,$Q11:$Q14,U11:U14)","v":null},{"$f":"bdrate($D11:$D14,I11:I14,$Q11:$Q14,V11:V14)","v":null},{"$f":"bdrate($D11:$D14,J11:J14,$Q11:$Q14,W11:W14)","v":null},{"$f":"bdrate($D11:$D14,K11:K14,$Q11:$Q14,X11:X14)","v":null},{"$f":"bdrate($D11:$D14,L11:L14,$Q11:$Q14,Y11:Y14)","v":null},{"$f":"bdrateOld($D11:$D14,E11:E14,$Q11:$Q14,R11:R14)","v":null},{"$f":"bdrateOld($D11:$D14,F11:F14,$Q11:$Q14,S11:S14)","v":null},{"$f":"bdrateOld($D11:$D14,G11:G14,$Q11:$Q14,T11:T14)","v":null},{"$f":"bdrateOld($D11:$D14,H11:H14,$Q11:$Q14,U11:U14)","v":null},{"$f":"bdrateOld($D11:$D14,I11:I14,$Q11:$Q14,V11:V14)","v":null},{"$f":"bdrateOld($D11:$D14,J11:J14,$Q11:$Q14,W11:W14)","v":null},{"$f":"bdrateOld($D11:$D14,K11:K14,$Q11:$Q14,X11:X14)","v":null},{"$f":"bdrateOld($D11:$D14,L11:L14,$Q11:$Q14,Y11:Y14)","v":null}]
[null,null,27,{"$f":"Reference!B54","v":null},{"$f":"Reference!C54","v":null},{"$f":"Reference!D54","v":null},{"$f":"Reference!E54","v":null},{"$f":"Reference!F54","v":null},{"$f":"Reference!G54","v":null},{"$f":"Reference!H54","v":null},{"$f":"Reference!I54","v":null},{"$f":"Reference!J54","v":null},{"$f":"Reference!K54","v":null},{"$f":"Reference!L54","v":null},{"$f":"M12/3600","v":null},null,{"$f":"Test!B54","v":null},{"$f":"Test!C54","v":null},{"$f":"Test!D54","v":null},{"$f":"Test!E54","v":null},{"$f":"Test!F54","v":null},{"$f":"Test!G54","v":null},{"$f":"Test!H54","v":null},{"$f":"Test!I54","v":null},{"$f":"Test!J54","v":null},{"$f":"Test!K54","v":null},{"$f":"Test!L54","v":null},{"$f":"Z12/3600","v":null},{"$f":"Z12/M12","v":null},{"$f":"AA12/N12","v":null}]
[null,null,32,{"$f":"Reference!B55","v":null},{"$f":"Reference!C55","v":null},{"$f":"Reference!D55","v":null},{"$f":"Reference!E55","v":null},{"$f":"Reference!F55","v":null},{"$f":"Reference!G55","v":null},{"$f":"Reference!H55","v":null},{"$f":"Reference!I55","v":null},{"$f":"Reference!J55","v":null},{"$f":"Reference!K55","v":null},{"$f":"Reference!L55","v":null},{"$f":"M13/3600","v":null},null,{"$f":"Test!B55","v":null},{"$f":"Test!C55","v":null},{"$f":"Test!D55","v":null},{"$f":"Test!E55","v":null},{"$f":"Test!F55","v":null},{"$f":"Test!G55","v":null},{"$f":"Test!H55","v":null},{"$f":"Test!I55","v":null},{"$f":"Test!J55","v":null},{"$f":"Test!K55","v":null},{"$f":"Test!L55","v":null},{"$f":"Z13/3600","v":null},{"$f":"Z13/M13","v":null},{"$f":"AA13/N13","v":null}]
[null,null,37,{"$f":"Reference!B56","v":null},{"$f":"Reference!C56","v":null},{"$f":"Reference!D56","v":null},{"$f":"Reference!E56","v":null},{"$f":"Reference!F56","v":null},{"$f":"Reference!G56","v":null},{"$f":"Reference!H56","v":null},{"$f":"Reference!I56","v":null},{"$f":"Reference!J56","v":null},{"$f":"Reference!K56","v":null},{"$f":"Reference!L56","v":null},{"$f":"M14/3600","v":null},null,{"$f":"Test!B56","v":null},{"$f":"Test!C56","v":null},{"$f":"Test!D56","v":null},{"$f":"Test!E56","v":null},{"$f":"Test!F56","v":null},{"$f":"Test!G56","v":null},{"$f":"Test!H56","v":null},{"$f":"Test!I56","v":null},{"$f":"Test!J56","v":null},{"$f":"Test!K56","v":null},{"$f":"Test!L56","v":null},{"$f":"Z14/3600","v":null},{"$f":"Z14/M14","v":null},{"$f":"AA14/N14","v":null}]
[null,"BalloonFestival",22,{"$f":"Reference!B57","v":null},{"$f":"Reference!C57","v":null},{"$f":"Reference!D57","v":null},{"$f":"Reference!E57","v":null},{"$f":"Reference!F57","v":null},{"$f":"Reference!G57","v":null},{"$f":"Reference!H57","v":null},{"$f":"Reference!I57","v":null},{"$f":"Reference!J57","v":null},{"$f":"Reference!K57","v":null},{"$f":"Reference!L57","v":null},{"$f":"M15/3600","v":null},null,{"$f":"Test!B57","v":null},{"$f":"Test!C57","v":null},{"$f":"Test!D57","v":null},{"$f":"Test!E57","v":null},{"$f":"Test!F57","v":null},{"$f":"Test!G57","v":null},{"$f":"Test!H57","v":null},{"$f":"Test!I57","v":null},{"$f":"Test!J57","v":null},{"$f":"Test!K57","v":null},{"$f":"Test!L57","v":null},{"$f":"Z15/3600","v":null},{"$f":"Z15/M15","v":null},{"$f":"AA15/N15","v":null},null,{"$f":"bdrate($D15:$D18,E15:E18,$Q15:$Q18,R15:R18)","v":null},{"$f":"bdrate($D15:$D18,F15:F18,$Q15:$Q18,S15:S18)","v":null},{"$f":"bdrate($D15:$D18,G15:G18,$Q15:$Q18,T15:T18)","v":null},{"$f":"bdrate($D15:$D18,H15:H18,$Q15:$Q18,U15:U18)","v":null},{"$f":"bdrate($D15:$D18,I15:I18,$Q15:$Q18,V15:V18)","v":null},{"$f":"bdrate($D15:$D18,J15:J18,$Q15:$Q18,W15:W18)","v":null},{"$f":"bdrate($D15:$D18,K15:K18,$Q15:$Q18,X15:X18)","v":null},{"$f":"bdrate($D15:$D18,L15:L18,$Q15:$Q18,Y15:Y18)","v":null},{"$f":"bdrateOld($D15:$D18,E15:E18,$Q15:$Q18,R15:R18)","v":null},{"$f":"bdrateOld($D15:$D18,F15:F18,$Q15:$Q18,S15:S18)","v":null},{"$f":"bdrateOld($D15:$D18,G15:G18,$Q15:$Q18,T15:T18)","v":null},{"$f":"bdrateOld($D15:$D18,H15:H18,$Q15:$Q18,U15:U18)","v":null},{"$f":"bdrateOld($D15:$D18,I15:I18,$Q15:$Q18,V15:V18)","v":null},{"$f":"bdrateOld($D15:$D18,J15:J18,$Q15:$Q18,W15:W18)","v":null},{"$f":"bdrateOld($D15:$D18,K15:K18,$Q15:$Q18,X15:X18)","v":null},{"$f":"bdrateOld($D15:$D18,L15:L18,$Q15:$Q18,Y15:Y18)","v":null}]
[null,null,27,{"$f":"Reference!B58","v":null},{"$f":"Reference!C58","v":null},{"$f":"Reference!D58","v":null},{"$f":"Reference!E58","v":null},{"$f":"Reference!F58","v":null},{"$f":"Reference!G58","v":null},{"$f":"Reference!H58","v":null},{"$f":"Reference!I58","v":null},{"$f":"Reference!J58","v":null},{"$f":"Reference!K58","v":null},{"$f":"Reference!L58","v":null},{"$f":"M16/3600","v":null},null,{"$f":"Test!B58","v":null},{"$f":"Test!C58","v":null},{"$f":"Test!D58","v":null},{"$f":"Test!E58","v":null},{"$f":"Test!F58","v":null},{"$f":"Test!G58","v":null},{"$f":"Test!H58","v":null},{"$f":"Test!I58","v":null},{"$f":"Test!J58","v":null},{"$f":"Test!K58","v":null},{"$f":"Test!L58","v":null},{"$f":"Z16/3600","v":null},{"$f":"Z16/M16","v":null},{"$f":"AA16/N16","v":null}]
[null,null,32,{"$f":"Reference!B59","v":null},{"$f":"Reference!C59","v":null},{"$f":"Reference!D59","v":null},{"$f":"Reference!E59","v":null},{"$f":"Reference!F59","v":null},{"$f":"Reference!G59","v":null},{"$f":"Reference!H59","v":null},{"$f":"Reference!I59","v":null},{"$f":"Reference!J59","v":null},{"$f":"Reference!K59","v":null},{"$f":"Reference!L59","v":null},{"$f":"M17/3600","v":null},null,{"$f":"Test!B59","v":null},{"$f":"Test!C59","v":null},{"$f":"Test!D59","v":null},{"$f":"Test!E59","v":null},{"$f":"Test!F59","v":null},{"$f":"Test!G59","v":null},{"$f":"Test!H59","v":null},{"$f":"Test!I59","v":null},{"$f":"Test!J59","v":null},{"$f":"Test!K59","v":null},{"$f":"Test!L59","v":null},{"$f":"Z17/3600","v":null},{"$f":"Z17/M17","v":null},{"$f":"AA17/N17","v":null}]
[null,null,37,{"$f":"Reference!B60","v":null},{"$f":"Reference!C60","v":null},{"$f":"Reference!D60","v":null},{"$f":"Reference!E60","v":null},{"$f":"Reference!F60","v":null},{"$f":"Reference!G60","v":null},{"$f":"Reference!H60","v":null},{"$f":"Reference!I60","v":null},{"$f":"Reference!J60","v":null},{"$f":"Reference!K60","v":null},{"$f":"Reference!L60","v":null},{"$f":"M18/3600","v":null},null,{"$f":"Test!B60","v":null},{"$f":"Test!C60","v":null},{"$f":"Test!D60","v":null},{"$f":"Test!E60","v":null},{"$f":"Test!F60","v":null},{"$f":"Test!G60","v":null},{"$f":"Test!H60","v":null},{"$f":"Test!I60","v":null},{"$f":"Test!J60","v":null},{"$f":"Test!K60","v":null},{"$f":"Test!L60","v":null},{"$f":"Z18/3600","v":null},{"$f":"Z18/M18","v":null},{"$f":"AA18/N18","v":null}]
[null,"Hurdles",22,{"$f":"Reference!B61","v":null},{"$f":"Reference!C61","v":null},{"$f":"Reference!D61","v":null},{"$f":"Reference!E61","v":null},{"$f":"Reference!F61","v":null},{"$f":"Reference!G61","v":null},{"$f":"Reference!H61","v":null},{"$f":"Reference!I61","v":null},{"$f":"Reference!J61","v":null},{"$f":"Reference!K61","v":null},{"$f":"Reference!L61","v":null},{"$f":"M19/3600","v":null},null,{"$f":"Test!B61","v":null},{"$f":"Test!C61","v":null},{"$f":"Test!D61","v":null},{"$f":"Test!E61","v":null},{"$f":"Test!F61","v":null},{"$f":"Test!G61","v":null},{"$f":"Test!H61","v":null},{"$f":"Test!I61","v":null},{"$f":"Test!J61","v":null},{"$f":"Test!K61","v":null},{"$f":"Test!L61","v":null},{"$f":"Z19/3600","v":null},{"$f":"Z19/M19","v":null},{"$f":"AA19/N19","v":null},null,{"$f":"bdrate($D19:$D22,E19:E22,$Q19:$Q22,R19:R22)","v":null},{"$f":"bdrate($D19:$D22,F19:F22,$Q19:$Q22,S19:S22)","v":null},{"$f":"bdrate($D19:$D22,G19:G22,$Q19:$Q22,T19:T22)","v":null},{"$f":"bdrate($D19:$D22,H19:H22,$Q19:$Q22,U19:U22)","v":null},{"$f":"bdrate($D19:$D22,I19:I22,$Q19:$Q22,V19:V22)","v":null},{"$f":"bdrate($D19:$D22,J19:J22,$Q19:$Q22,W19:W22)","v":null},{"$f":"bdrate($D19:$D22,K19:K22,$Q19:$Q22,X19:X22)","v":null},{"$f":"bdrate($D19:$D22,L19:L22,$Q19:$Q22,Y19:Y22)","v":null},{"$f":"bdrateOld($D19:$D22,E19:E22,$Q19:$Q22,R19:R22)","v":null},{"$f":"bdrateOld($D19:$D22,F19:F22,$Q19:$Q22,S19:S22)","v":null},{"$f":"bdrateOld($D19:$D22,G19:G22,$Q19:$Q22,T19:T22)","v":null},{"$f":"bdrateOld($D19:$D22,H19:H22,$Q19:$Q22,U19:U22)","v":null},{"$f":"bdrateOld($D19:$D22,I19:I22,$Q19:$Q22,V19:V22)","v":null},{"$f":"bdrateOld($D19:$D22,J19:J22,$Q19:$Q22,W19:W22)","v":null},{"$f":"bdrateOld($D19:$D22,K19:K22,$Q19:$Q22,X19:X22)","v":null},{"$f":"bdrateOld($D19:$D22,L19:L22,$Q19:$Q22,Y19:Y22)","v":null}]
[null,null,27,{"$f":"Reference!B62","v":null},{"$f":"Reference!C62","v":null},{"$f":"Reference!D62","v":null},{"$f":"Reference!E62","v":null},{"$f":"Reference!F62","v":null},{"$f":"Reference!G62","v":null},{"$f":"Reference!H62","v":null},{"$f":"Reference!I62","v":null},{"$f":"Reference!J62","v":null},{"$f":"Reference!K62","v":null},{"$f":"Reference!L62","v":null},{"$f":"M20/3600","v":null},null,{"$f":"Test!B62","v":null},{"$f":"Test!C62","v":null},{"$f":"Test!D62","v":null},{"$f":"Test!E62","v":null},{"$f":"Test!F62","v":null},{"$f":"Test!G62","v":null},{"$f":"Test!H62","v":null},{"$f":"Test!I62","v":null},{"$f":"Test!J62","v":null},{"$f":"Test!K62","v":null},{"$f":"Test!L62","v":null},{"$f":"Z20/3600","v":null},{"$f":"Z20/M20","v":null},{"$f":"AA20/N20","v":null}]
[null,null,32,{"$f":"Reference!B63","v":null},{"$f":"Reference!C63","v":null},{"$f":"Reference!D63","v":null},{"$f":"Reference!E63","v":null},{"$f":"Reference!F63","v":null},{"$f":"Reference!G63","v":null},{"$f":"Reference!H63","v":null},{"$f":"Reference!I63","v":null},{"$f":"Reference!J63","v":null},{"$f":"Reference!K63","v":null},{"$f":"Reference!L63","v":null},{"$f":"M21/3600","v":null},null,{"$f":"Test!B63","v":null},{"$f":"Test!C63","v":null},{"$f":"Test!D63","v":null},{"$f":"Test!E63","v":null},{"$f":"Test!F63","v":null},{"$f":"Test!G63","v":null},{"$f":"Test!H63","v":null},{"$f":"Test!I63","v":null},{"$f":"Test!J63","v":null},{"$f":"Test!K63","v":null},{"$f":"Test!L63","v":null},{"$f":"Z21/3600","v":null},{"$f":"Z21/M21","v":null},{"$f":"AA21/N21","v":null}]
[null,null,37,{"$f":"Reference!B64","v":null},{"$f":"Reference!C64","v":null},{"$f":"Reference!D64","v":null},{"$f":"Reference!E64","v":null},{"$f":"Reference!F64","v":null},{"$f":"Reference!G64","v":null},{"$f":"Reference!H64","v":null},{"$f":"Reference!I64","v":null},{"$f":"Reference!J64","v":null},{"$f":"Reference!K64","v":null},{"$f":"Reference!L64","v":null},{"$f":"M22/3600","v":null},null,{"$f":"Test!B64","v":null},{"$f":"Test!C64","v":null},{"$f":"Test!D64","v":null},{"$f":"Test!E64","v":null},{"$f":"Test!F64","v":null},{"$f":"Test!G64","v":null},{"$f":"Test!H64","v":null},{"$f":"Test!I64","v":null},{"$f":"Test!J64","v":null},{"$f":"Test!K64","v":null},{"$f":"Test!L64","v":null},{"$f":"Z22/3600","v":null},{"$f":"Z22/M22","v":null},{"$f":"AA22/N22","v":null}]
[null,"Starting",22,{"$f":"Reference!B65","v":null},{"$f":"Reference!C65","v":null},{"$f":"Reference!D65","v":null},{"$f":"Reference!E65","v":null},{"$f":"Reference!F65","v":null},{"$f":"Reference!G65","v":null},{"$f":"Reference!H65","v":null},{"$f":"Reference!I65","v":null},{"$f":"Reference!J65","v":null},{"$f":"Reference!K65","v":null},{"$f":"Reference!L65","v":null},{"$f":"M23/3600","v":null},null,{"$f":"Test!B65","v":null},{"$f":"Test!C65","v":null},{"$f":"Test!D65","v":null},{"$f":"Test!E65","v":null},{"$f":"Test!F65","v":null},{"$f":"Test!G65","v":null},{"$f":"Test!H65","v":null},{"$f":"Test!I65","v":null},{"$f":"Test!J65","v":null},{"$f":"Test!K65","v":null},{"$f":"Test!L65","v":null},{"$f":"Z23/3600","v":null},{"$f":"Z23/M23","v":null},{"$f":"AA23/N23","v":null},null,{"$f":"bdrate($D23:$D26,E23:E26,$Q23:$Q26,R23:R26)","v":null},{"$f":"bdrate($D23:$D26,F23:F26,$Q23:$Q26,S23:S26)","v":null},{"$f":"bdrate($D23:$D26,G23:G26,$Q23:$Q26,T23:T26)","v":null},{"$f":"bdrate($D23:$D26,H23:H26,$Q23:$Q26,U23:U26)","v":null},{"$f":"bdrate($D23:$D26,I23:I26,$Q23:$Q26,V23:V26)","v":null},{"$f":"bdrate($D23:$D26,J23:J26,$Q23:$Q26,W23:W26)","v":null},{"$f":"bdrate($D23:$D26,K23:K26,$Q23:$Q26,X23:X26)","v":null},{"$f":"bdrate($D23:$D26,L23:L26,$Q23:$Q26,Y23:Y26)","v":null},{"$f":"bdrateOld($D23:$D26,E23:E26,$Q23:$Q26,R23:R26)","v":null},{"$f":"bdrateOld($D23:$D26,F23:F26,$Q23:$Q26,S23:S26)","v":null},{"$f":"bdrateOld($D23:$D26,G23:G26,$Q23:$Q26,T23:T26)","v":null},{"$f":"bdrateOld($D23:$D26,H23:H26,$Q23:$Q26,U23:U26)","v":null},{"$f":"bdrateOld($D23:$D26,I23:I26,$Q23:$Q26,V23:V26)","v":null},{"$f":"bdrateOld($D23:$D26,J23:J26,$Q23:$Q26,W23:W26)","v":null},{"$f":"bdrateOld($D23:$D26,K23:K26,$Q23:$Q26,X23:X26)","v":null},{"$f":"bdrateOld($D23:$D26,L23:L26,$Q23:$Q26,Y23:Y26)","v":null}]
[null,null,27,{"$f":"Reference!B66","v":null},{"$f":"Reference!C66","v":null},{"$f":"Reference!D66","v":null},{"$f":"Reference!E66","v":null},{"$f":"Reference!F66","v":null},{"$f":"Reference!G66","v":null},{"$f":"Reference!H66","v":null},{"$f":"Reference!I66","v":null},{"$f":"Reference!J66","v":null},{"$f":"Reference!K66","v":null},{"$f":"Reference!L66","v":null},{"$f":"M24/3600","v":null},null,{"$f":"Test!B66","v":null},{"$f":"Test!C66","v":null},{"$f":"Test!D66","v":null},{"$f":"Test!E66","v":null},{"$f":"Test!F66","v":null},{"$f":"Test!G66","v":null},{"$f":"Test!H66","v":null},{"$f":"Test!I66","v":null},{"$f":"Test!J66","v":null},{"$f":"Test!K66","v":null},{"$f":"Test!L66","v":null},{"$f":"Z24/3600","v":null},{"$f":"Z24/M24","v":null},{"$f":"AA24/N24","v":null}]
[null,null,32,{"$f":"Reference!B67","v":null},{"$f":"Reference!C67","v":null},{"$f":"Reference!D67","v":null},{"$f":"Reference!E67","v":null},{"$f":"Reference!F67","v":null},{"$f":"Reference!G67","v":null},{"$f":"Reference!H67","v":null},{"$f":"Reference!I67","v":null},{"$f":"Reference!J67","v":null},{"$f":"Reference!K67","v":null},{"$f":"Reference!L67","v":null},{"$f":"M25/3600","v":null},null,{"$f":"Test!B67","v":null},{"$f":"Test!C67","v":null},{"$f":"Test!D67","v":null},{"$f":"Test!E67","v":null},{"$f":"Test!F67","v":null},{"$f":"Test!G67","v":null},{"$f":"Test!H67","v":null},{"$f":"Test!I67","v":null},{"$f":"Test!J67","v":null},{"$f":"Test!K67","v":null},{"$f":"Test!L67","v":null},{"$f":"Z25/3600","v":null},{"$f":"Z25/M25","v":null},{"$f":"AA25/N25","v":null}]
[null,null,37,{"$f":"Reference!B68","v":null},{"$f":"Reference!C68","v":null},{"$f":"Reference!D68","v":null},{"$f":"Reference!E68","v":null},{"$f":"Reference!F68","v":null},{"$f":"Reference!G68","v":null},{"$f":"Reference!H68","v":null},{"$f":"Reference!I68","v":null},{"$f":"Reference!J68","v":null},{"$f":"Reference!K68","v":null},{"$f":"Reference!L68","v":null},{"$f":"M26/3600","v":null},null,{"$f":"Test!B68","v":null},{"$f":"Test!C68","v":null},{"$f":"Test!D68","v":null},{"$f":"Test!E68","v":null},{"$f":"Test!F68","v":null},{"$f":"Test!G68","v":null},{"$f":"Test!H68","v":null},{"$f":"Test!I68","v":null},{"$f":"Test!J68","v":null},{"$f":"Test!K68","v":null},{"$f":"Test!L68","v":null},{"$f":"Z26/3600","v":null},{"$f":"Z26/M26","v":null},{"$f":"AA26/N26","v":null}]
[null,"Cosmos1",22,{"$f":"Reference!B69","v":null},{"$f":"Reference!C69","v":null},{"$f":"Reference!D69","v":null},{"$f":"Reference!E69","v":null},{"$f":"Reference!F69","v":null},{"$f":"Reference!G69","v":null},{"$f":"Reference!H69","v":null},{"$f":"Reference!I69","v":null},{"$f":"Reference!J69","v":null},{"$f":"Reference!K69","v":null},{"$f":"Reference!L69","v":null},{"$f":"M27/3600","v":null},null,{"$f":"Test!B69","v":null},{"$f":"Test!C69","v":null},{"$f":"Test!D69","v":null},{"$f":"Test!E69","v":null},{"$f":"Test!F69","v":null},{"$f":"Test!G69","v":null},{"$f":"Test!H69","v":null},{"$f":"Test!I69","v":null},{"$f":"Test!J69","v":null},{"$f":"Test!K69","v":null},{"$f":"Test!L69","v":null},{"$f":"Z27/3600","v":null},{"$f":"Z27/M27","v":null},{"$f":"AA27/N27","v":null},null,{"$f":"bdrate($D27:$D30,E27:E30,$Q27:$Q30,R27:R30)","v":null},{"$f":"bdrate($D27:$D30,F27:F30,$Q27:$Q30,S27:S30)","v":null},{"$f":"bdrate($D27:$D30,G27:G30,$Q27:$Q30,T27:T30)","v":null},{"$f":"bdrate($D27:$D30,H27:H30,$Q27:$Q30,U27:U30)","v":null},{"$f":"bdrate($D27:$D30,I27:I30,$Q27:$Q30,V27:V30)","v":null},{"$f":"bdrate($D27:$D30,J27:J30,$Q27:$Q30,W27:W30)","v":null},{"$f":"bdrate($D27:$D30,K27:K30,$Q27:$Q30,X27:X30)","v":null},{"$f":"bdrate($D27:$D30,L27:L30,$Q27:$Q30,Y27:Y30)","v":null},{"$f":"bdrateOld($D27:$D30,E27:E30,$Q27:$Q30,R27:R30)","v":null},{"$f":"bdrateOld($D27:$D30,F27:F30,$Q27:$Q30,S27:S30)","v":null},{"$f":"bdrateOld($D27:$D30,G27:G30,$Q27:$Q30,T27:T30)","v":null},{"$f":"bdrateOld($D27:$D30,H27:H30,$Q27:$Q30,U27:U30)","v":null},{"$f":"bdrateOld($D27:$D30,I27:I30,$Q27:$Q30,V27:V30)","v":null},{"$f":"bdrateOld($D27:$D30,J27:J30,$Q27:$Q30,W27:W30)","v":null},{"$f":"bdrateOld($D27:$D30,K27:K30,$Q27:$Q30,X27:X30)","v":null},{"$f":"bdrateOld($D27:$D30,L27:L30,$Q27:$Q30,Y27:Y30)","v":null}]
[null,null,27,{"$f":"Reference!B70","v":null},{"$f":"Reference!C70","v":null},{"$f":"Reference!D70","v":null},{"$f":"Reference!E70","v":null},{"$f":"Reference!F70","v":null},{"$f":"Reference!G70","v":null},{"$f":"Reference!H70","v":null},{"$f":"Reference!I70","v":null},{"$f":"Reference!J70","v":null},{"$f":"Reference!K70","v":null},{"$f":"Reference!L70","v":null},{"$f":"M28/3600","v":null},null,{"$f":"Test!B70","v":null},{"$f":"Test!C70","v":null},{"$f":"Test!D70","v":null},{"$f":"Test!E70","v":null},{"$f":"Test!F70","v":null},{"$f":"Test!G70","v":null},{"$f":"Test!H70","v":null},{"$f":"Test!I70","v":null},{"$f":"Test!J70","v":null},{"$f":"Test!K70","v":null},{"$f":"Test!L70","v":null},{"$f":"Z28/3600","v":null},{"$f":"Z28/M28","v":null},{"$f":"AA28/N28","v":null}]
[null,null,32,{"$f":"Reference!B71","v":null},{"$f":"Reference!C71","v":null},{"$f":"Reference!D71","v":null},{"$f":"Reference!E71","v":null},{"$f":"Reference!F71","v":null},{"$f":"Reference!G71","v":null},{"$f":"Reference!H71","v":null},{"$f":"Reference!I71","v":null},{"$f":"Reference!J71","v":null},{"$f":"Reference!K71","v":null},{"$f":"Reference!L71","v":null},{"$f":"M29/3600","v":null},null,{"$f":"Test!B71","v":null},{"$f":"Test!C71","v":null},{"$f":"Test!D71","v":null},{"$f":"Test!E71","v":null},{"$f":"Test!F71","v":null},{"$f":"Test!G71","v":null},{"$f":"Test!H71","v":null},{"$f":"Test!I71","v":null},{"$f":"Test!J71","v":null},{"$f":"Test!K71","v":null},{"$f":"Test!L71","v":null},{"$f":"Z29/3600","v":null},{"$f":"Z29/M29","v":null},{"$f":"AA29/N29","v":null}]
[null,null,37,{"$f":"Reference!B72","v":null},{"$f":"Reference!C72","v":null},{"$f":"Reference!D72","v":null},{"$f":"Reference!E72","v":null},{"$f":"Reference!F72","v":null},{"$f":"Reference!G72","v":null},{"$f":"Reference!H72","v":null},{"$f":"Reference!I72","v":null},{"$f":"Reference!J72","v":null},{"$f":"Reference!K72","v":null},{"$f":"Reference!L72","v":null},{"$f":"M30/3600","v":null},null,{"$f":"Test!B72","v":null},{"$f":"Test!C72","v":null},{"$f":"Test!D72","v":null},{"$f":"Test!E72","v":null},{"$f":"Test!F72","v":null},{"$f":"Test!G72","v":null},{"$f":"Test!H72","v":null},{"$f":"Test!I72","v":null},{"$f":"Test!J72","v":null},{"$f":"Test!K72","v":null},{"$f":"Test!L72","v":null},{"$f":"Z30/3600","v":null},{"$f":"Z30/M30","v":null},{"$f":"AA30/N30","v":null}]
["Class H2","DayStreet",22,{"$f":"Reference!B73","v":null},{"$f":"Reference!C73","v":null},{"$f":"Reference!D73","v":null},{"$f":"Reference!E73","v":null},{"$f":"Reference!F73","v":null},{"$f":"Reference!G73","v":null},{"$f":"Reference!H73","v":null},{"$f":"Reference!I73","v":null},{"$f":"Reference!J73","v":null},{"$f":"Reference!K73","v":null},{"$f":"Reference!L73","v":null},{"$f":"M31/3600","v":null},null,{"$f":"Test!B73","v":null},{"$f":"Test!C73","v":null},{"$f":"Test!D73","v":null},{"$f":"Test!E73","v":null},{"$f":"Test!F73","v":null},{"$f":"Test!G73","v":null},{"$f":"Test!H73","v":null},{"$f":"Test!I73","v":null},{"$f":"Test!J73","v":null},{"$f":"Test!K73","v":null},{"$f":"Test!L73","v":null},{"$f":"Z31/3600","v":null},{"$f":"Z31/M31","v":null},{"$f":"AA31/N31","v":null},null,null,null,null,null,null,{"$f":"bdrate($D31:$D34,J31:J34,$Q31:$Q34,W31:W34)","v":null},{"$f":"bdrate($D31:$D34,K31:K34,$Q31:$Q34,X31:X34)","v":null},{"$f":"bdrate($D31:$D34,L31:L34,$Q31:$Q34,Y31:Y34)","v":null},null,null,null,null,null,{"$f":"bdrateOld($D31:$D34,J31:J34,$Q31:$Q34,W31:W34)","v":null},{"$f":"bdrateOld($D31:$D34,K31:K34,$Q31:$Q34,X31:X34)","v":null},{"$f":"bdrateOld($D31:$D34,L31:L34,$Q31:$Q34,Y31:Y34)","v":null}]
["HLG",null,27,{"$f":"Reference!B74","v":null},{"$f":"Reference!C74","v":null},{"$f":"Reference!D74","v":null},{"$f":"Reference!E74","v":null},{"$f":"Reference!F74","v":null},{"$f":"Reference!G74","v":null},{"$f":"Reference!H74","v":null},{"$f":"Reference!I74","v":null},{"$f":"Reference!J74","v":null},{"$f":"Reference!K74","v":null},{"$f":"Reference!L74","v":null},{"$f":"M32/3600","v":null},null,{"$f":"Test!B74","v":null},{"$f":"Test!C74","v":null},{"$f":"Test!D74","v":null},{"$f":"Test!E74","v":null},{"$f":"Test!F74","v":null},{"$f":"Test!G74","v":null},{"$f":"Test!H74","v":null},{"$f":"Test!I74","v":null},{"$f":"Test!J74","v":null},{"$f":"Test!K74","v":null},{"$f":"Test!L74","v":null},{"$f":"Z32/3600","v":null},{"$f":"Z32/M32","v":null},{"$f":"AA32/N32","v":null}]
[null,null,32,{"$f":"Reference!B75","v":null},{"$f":"Reference!C75","v":null},{"$f":"Reference!D75","v":null},{"$f":"Reference!E75","v":null},{"$f":"Reference!F75","v":null},{"$f":"Reference!G75","v":null},{"$f":"Reference!H75","v":null},{"$f":"Reference!I75","v":null},{"$f":"Reference!J75","v":null},{"$f":"Reference!K75","v":null},{"$f":"Reference!L75","v":null},{"$f":"M33/3600","v":null},null,{"$f":"Test!B75","v":null},{"$f":"Test!C75","v":null},{"$f":"Test!D75","v":null},{"$f":"Test!E75","v":null},{"$f":"Test!F75","v":null},{"$f":"Test!G75","v":null},{"$f":"Test!H75","v":null},{"$f":"Test!I75","v":null},{"$f":"Test!J75","v":null},{"$f":"Test!K75","v":null},{"$f":"Test!L75","v":null},{"$f":"Z33/3600","v":null},{"$f":"Z33/M33","v":null},{"$f":"AA33/N33","v":null}]
[null,null,37,{"$f":"Reference!B76","v":null},{"$f":"Reference!C76","v":null},{"$f":"Reference!D76","v":null},{"$f":"Reference!E76","v":null},{"$f":"Reference!F76","v":null},{"$f":"Reference!G76","v":null},{"$f":"Reference!H76","v":null},{"$f":"Reference!I76","v":null},{"$f":"Reference!J76","v":null},{"$f":"Reference!K76","v":null},{"$f":"Reference!L76","v":null},{"$f":"M34/3600","v":null},null,{"$f":"Test!B76","v":null},{"$f":"Test!C76","v":null},{"$f":"Test!D76","v":null},{"$f":"Test!E76","v":null},{"$f":"Test!F76","v":null},{"$f":"Test!G76","v":null},{"$f":"Test!H76","v":null},{"$f":"Test!I76","v":null},{"$f":"Test!J76","v":null},{"$f":"Test!K76","v":null},{"$f":"Test!L76","v":null},{"$f":"Z34/3600","v":null},{"$f":"Z34/M34","v":null},{"$f":"AA34/N34","v":null}]
[null,"FlyingBirds2",22,{"$f":"Reference!B77","v":null},{"$f":"Reference!C77","v":null},{"$f":"Reference!D77","v":null},{"$f":"Reference!E77","v":null},{"$f":"Reference!F77","v":null},{"$f":"Reference!G77","v":null},{"$f":"Reference!H77","v":null},{"$f":"Reference!I77","v":null},{"$f":"Reference!J77","v":null},{"$f":"Reference!K77","v":null},{"$f":"Reference!L77","v":null},{"$f":"M35/3600","v":null},null,{"$f":"Test!B77","v":null},{"$f":"Test!C77","v":null},{"$f":"Test!D77","v":null},{"$f":"Test!E77","v":null},{"$f":"Test!F77","v":null},{"$f":"Test!G77","v":null},{"$f":"Test!H77","v":null},{"$f":"Test!I77","v":null},{"$f":"Test!J77","v":null},{"$f":"Test!K77","v":null},{"$f":"Test!L77","v":null},{"$f":"Z35/3600","v":null},{"$f":"Z35/M35","v":null},{"$f":"AA35/N35","v":null},null,null,null,null,null,null,{"$f":"bdrate($D35:$D38,J35:J38,$Q35:$Q38,W35:W38)","v":null},{"$f":"bdrate($D35:$D38,K35:K38,$Q35:$Q38,X35:X38)","v":null},{"$f":"bdrate($D35:$D38,L35:L38,$Q35:$Q38,Y35:Y38)","v":null},null,null,null,null,null,{"$f":"bdrateOld($D35:$D38,J35:J38,$Q35:$Q38,W35:W38)","v":null},{"$f":"bdrateOld($D35:$D38,K35:K38,$Q35:$Q38,X35:X38)","v":null},{"$f":"bdrateOld($D35:$D38,L35:L38,$Q35:$Q38,Y35:Y38)","v":null}]
[null,null,27,{"$f":"Reference!B78","v":null},{"$f":"Reference!C78","v":null},{"$f":"Reference!D78","v":null},{"$f":"Reference!E78","v":null},{"$f":"Reference!F78","v":null},{"$f":"Reference!G78","v":null},{"$f":"Reference!H78","v":null},{"$f":"Reference!I78","v":null},{"$f":"Reference!J78","v":null},{"$f":"Reference!K78","v":null},{"$f":"Reference!L78","v":null},{"$f":"M36/3600","v":null},null,{"$f":"Test!B78","v":null},{"$f":"Test!C78","v":null},{"$f":"Test!D78","v":null},{"$f":"Test!E78","v":null},{"$f":"Test!F78","v":null},{"$f":"Test!G78","v":null},{"$f":"Test!H78","v":null},{"$f":"Test!I78","v":null},{"$f":"Test!J78","v":null},{"$f":"Test!K78","v":null},{"$f":"Test!L78","v":null},{"$f":"Z36/3600","v":null},{"$f":"Z36/M36","v":null},{"$f":"AA36/N36","v":null}]
[null,null,32,{"$f":"Reference!B79","v":null},{"$f":"Reference!C79","v":null},{"$f":"Reference!D79","v":null},{"$f":"Reference!E79","v":null},{"$f":"Reference!F79","v":null},{"$f":"Reference!G79","v":null},{"$f":"Reference!H79","v":null},{"$f":"Reference!I79","v":null},{"$f":"Reference!J79","v":null},{"$f":"Reference!K79","v":null},{"$f":"Reference!L79","v":null},{"$f":"M37/3600","v":null},null,{"$f":"Test!B79","v":null},{"$f":"Test!C79","v":null},{"$f":"Test!D79","v":null},{"$f":"Test!E79","v":null},{"$f":"Test!F79","v":null},{"$f":"Test!G79","v":null},{"$f":"Test!H79","v":null},{"$f":"Test!I79","v":null},{"$f":"Test!J79","v":null},{"$f":"Test!K79","v":null},{"$f":"Test!L79","v":null},{"$f":"Z37/3600","v":null},{"$f":"Z37/M37","v":null},{"$f":"AA37/N37","v":null}]
[null,null,37,{"$f":"Reference!B80","v":null},{"$f":"Reference!C80","v":null},{"$f":"Reference!D80","v":null},{"$f":"Reference!E80","v":null},{"$f":"Reference!F80","v":null},{"$f":"Reference!G80","v":null},{"$f":"Reference!H80","v":null},{"$f":"Reference!I80","v":null},{"$f":"Reference!J80","v":null},{"$f":"Reference!K80","v":null},{"$f":"Reference!L80","v":null},{"$f":"M38/3600","v":null},null,{"$f":"Test!B80","v":null},{"$f":"Test!C80","v":null},{"$f":"Test!D80","v":null},{"$f":"Test!E80","v":null},{"$f":"Test!F80","v":null},{"$f":"Test!G80","v":null},{"$f":"Test!H80","v":null},{"$f":"Test!I80","v":null},{"$f":"Test!J80","v":null},{"$f":"Test!K80","v":null},{"$f":"Test!L80","v":null},{"$f":"Z38/3600","v":null},{"$f":"Z38/M38","v":null},{"$f":"AA38/N38","v":null}]
[null,"PeopleInShoppingCenter",22,{"$f":"Reference!B81","v":null},{"$f":"Reference!C81","v":null},{"$f":"Reference!D81","v":null},{"$f":"Reference!E81","v":null},{"$f":"Reference!F81","v":null},{"$f":"Reference!G81","v":null},{"$f":"Reference!H81","v":null},{"$f":"Reference!I81","v":null},{"$f":"Reference!J81","v":null},{"$f":"Reference!K81","v":null},{"$f":"Reference!L81","v":null},{"$f":"M39/3600","v":null},null,{"$f":"Test!B81","v":null},{"$f":"Test!C81","v":null},{"$f":"Test!D81","v":null},{"$f":"Test!E81","v":null},{"$f":"Test!F81","v":null},{"$f":"Test!G81","v":null},{"$f":"Test!H81","v":null},{"$f":"Test!I81","v":null},{"$f":"Test!J81","v":null},{"$f":"Test!K81","v":null},{"$f":"Test!L81","v":null},{"$f":"Z39/3600","v":null},{"$f":"Z39/M39","v":null},{"$f":"AA39/N39","v":null},null,null,null,null,null,null,{"$f":"bdrate($D39:$D42,J39:J42,$Q39:$Q42,W39:W42)","v":null},{"$f":"bdrate($D39:$D42,K39:K42,$Q39:$Q42,X39:X42)","v":null},{"$f":"bdrate($D39:$D42,L39:L42,$Q39:$Q42,Y39:Y42)","v":null},null,null,null,null,null,{"$f":"bdrateOld($D39:$D42,J39:J42,$Q39:$Q42,W39:W42)","v":null},{"$f":"bdrateOld($D39:$D42,K39:K42,$Q39:$Q42,X39:X42)","v":null},{"$f":"bdrateOld($D39:$D42,L39:L42,$Q39:$Q42,Y39:Y42)","v":null}]
[null,null,27,{"$f":"Reference!B82","v":null},{"$f":"Reference!C82","v":null},{"$f":"Reference!D82","v":null},{"$f":"Reference!E82","v":null},{"$f":"Reference!F82","v":null},{"$f":"Reference!G82","v":null},{"$f":"Reference!H82","v":null},{"$f":"Reference!I82","v":null},{"$f":"Reference!J82","v":null},{"$f":"Reference!K82","v":null},{"$f":"Reference!L82","v":null},{"$f":"M40/3600","v":null},null,{"$f":"Test!B82","v":null},{"$f":"Test!C82","v":null},{"$f":"Test!D82","v":null},{"$f":"Test!E82","v":null},{"$f":"Test!F82","v":null},{"$f":"Test!G82","v":null},{"$f":"Test!H82","v":null},{"$f":"Test!I82","v":null},{"$f":"Test!J82","v":null},{"$f":"Test!K82","v":null},{"$f":"Test!L82","v":null},{"$f":"Z40/3600","v":null},{"$f":"Z40/M40","v":null},{"$f":"AA40/N40","v":null}]
[null,null,32,{"$f":"Reference!B83","v":null},{"$f":"Reference!C83","v":null},{"$f":"Reference!D83","v":null},{"$f":"Reference!E83","v":null},{"$f":"Reference!F83","v":null},{"$f":"Reference!G83","v":null},{"$f":"Reference!H83","v":null},{"$f":"Reference!I83","v":null},{"$f":"Reference!J83","v":null},{"$f":"Reference!K83","v":null},{"$f":"Reference!L83","v":null},{"$f":"M41/3600","v":null},null,{"$f":"Test!B83","v":null},{"$f":"Test!C83","v":null},{"$f":"Test!D83","v":null},{"$f":"Test!E83","v":null},{"$f":"Test!F83","v":null},{"$f":"Test!G83","v":null},{"$f":"Test!H83","v":null},{"$f":"Test!I83","v":null},{"$f":"Test!J83","v":null},{"$f":"Test!K83","v":null},{"$f":"Test!L83","v":null},{"$f":"Z41/3600","v":null},{"$f":"Z41/M41","v":null},{"$f":"AA41/N41","v":null}]
[null,null,37,{"$f":"Reference!B84","v":null},{"$f":"Reference!C84","v":null},{"$f":"Reference!D84","v":null},{"$f":"Reference!E84","v":null},{"$f":"Reference!F84","v":null},{"$f":"Reference!G84","v":null},{"$f":"Reference!H84","v":null},{"$f":"Reference!I84","v":null},{"$f":"Reference!J84","v":null},{"$f":"Reference!K84","v":null},{"$f":"Reference!L84","v":null},{"$f":"M42/3600","v":null},null,{"$f":"Test!B84","v":null},{"$f":"Test!C84","v":null},{"$f":"Test!D84","v":null},{"$f":"Test!E84","v":null},{"$f":"Test!F84","v":null},{"$f":"Test!G84","v":null},{"$f":"Test!H84","v":null},{"$f":"Test!I84","v":null},{"$f":"Test!J84","v":null},{"$f":"Test!K84","v":null},{"$f":"Test!L84","v":null},{"$f":"Z42/3600","v":null},{"$f":"Z42/M42","v":null},{"$f":"AA42/N42","v":null}]
[null,"SunsetBeach2",22,{"$f":"Reference!B85","v":null},{"$f":"Reference!C85","v":null},{"$f":"Reference!D85","v":null},{"$f":"Reference!E85","v":null},{"$f":"Reference!F85","v":null},{"$f":"Reference!G85","v":null},{"$f":"Reference!H85","v":null},{"$f":"Reference!I85","v":null},{"$f":"Reference!J85","v":null},{"$f":"Reference!K85","v":null},{"$f":"Reference!L85","v":null},{"$f":"M43/3600","v":null},null,{"$f":"Test!B85","v":null},{"$f":"Test!C85","v":null},{"$f":"Test!D85","v":null},{"$f":"Test!E85","v":null},{"$f":"Test!F85","v":null},{"$f":"Test!G85","v":null},{"$f":"Test!H85","v":null},{"$f":"Test!I85","v":null},{"$f":"Test!J85","v":null},{"$f":"Test!K85","v":null},{"$f":"Test!L85","v":null},{"$f":"Z43/3600","v":null},{"$f":"Z43/M43","v":null},{"$f":"AA43/N43","v":null},null,null,null,null,null,null,{"$f":"bdrate($D43:$D46,J43:J46,$Q43:$Q46,W43:W46)","v":null},{"$f":"bdrate($D43:$D46,K43:K46,$Q43:$Q46,X43:X46)","v":null},{"$f":"bdrate($D43:$D46,L43:L46,$Q43:$Q46,Y43:Y46)","v":null},null,null,null,null,null,{"$f":"bdrateOld($D43:$D46,J43:J46,$Q43:$Q46,W43:W46)","v":null},{"$f":"bdrateOld($D43:$D46,K43:K46,$Q43:$Q46,X43:X46)","v":null},{"$f":"bdrateOld($D43:$D46,L43:L46,$Q43:$Q46,Y43:Y46)","v":null}]
[null,null,27,{"$f":"Reference!B86","v":null},{"$f":"Reference!C86","v":null},{"$f":"Reference!D86","v":null},{"$f":"Reference!E86","v":null},{"$f":"Reference!F86","v":null},{"$f":"Reference!G86","v":null},{"$f":"Reference!H86","v":null},{"$f":"Reference!I86","v":null},{"$f":"Reference!J86","v":null},{"$f":"Reference!K86","v":null},{"$f":"Reference!L86","v":null},{"$f":"M44/3600","v":null},null,{"$f":"Test!B86","v":null},{"$f":"Test!C86","v":null},{"$f":"Test!D86","v":null},{"$f":"Test!E86","v":null},{"$f":"Test!F86","v":null},{"$f":"Test!G86","v":null},{"$f":"Test!H86","v":null},{"$f":"Test!I86","v":null},{"$f":"Test!J86","v":null},{"$f":"Test!K86","v":null},{"$f":"Test!L86","v":null},{"$f":"Z44/3600","v":null},{"$f":"Z44/M44","v":null},{"$f":"AA44/N44","v":null}]
[null,null,32,{"$f":"Reference!B87","v":null},{"$f":"Reference!C87","v":null},{"$f":"Reference!D87","v":null},{"$f":"Reference!E87","v":null},{"$f":"Reference!F87","v":null},{"$f":"Reference!G87","v":null},{"$f":"Reference!H87","v":null},{"$f":"Reference!I87","v":null},{"$f":"Reference!J87","v":null},{"$f":"Reference!K87","v":null},{"$f":"Reference!L87","v":null},{"$f":"M45/3600","v":null},null,{"$f":"Test!B87","v":null},{"$f":"Test!C87","v":null},{"$f":"Test!D87","v":null},{"$f":"Test!E87","v":null},{"$f":"Test!F87","v":null},{"$f":"Test!G87","v":null},{"$f":"Test!H87","v":null},{"$f":"Test!I87","v":null},{"$f":"Test!J87","v":null},{"$f":"Test!K87","v":null},{"$f":"Test!L87","v":null},{"$f":"Z45/3600","v":null},{"$f":"Z45/M45","v":null},{"$f":"AA45/N45","v":null}]
[null,null,37,{"$f":"Reference!B88","v":null},{"$f":"Reference!C88","v":null},{"$f":"Reference!D88","v":null},{"$f":"Reference!E88","v":null},{"$f":"Reference!F88","v":null},{"$f":"Reference!G88","v":null},{"$f":"Reference!H88","v":null},{"$f":"Reference!I88","v":null},{"$f":"Reference!J88","v":null},{"$f":"Reference!K88","v":null},{"$f":"Reference!L88","v":null},{"$f":"M46/3600","v":null},null,{"$f":"Test!B88","v":null},{"$f":"Test!C88","v":null},{"$f":"Test!D88","v":null},{"$f":"Test!E88","v":null},{"$f":"Test!F88","v":null},{"$f":"Test!G88","v":null},{"$f":"Test!H88","v":null},{"$f":"Test!I88","v":null},{"$f":"Test!J88","v":null},{"$f":"Test!K88","v":null},{"$f":"Test!L88","v":null},{"$f":"Z46/3600","v":null},{"$f":"Z46/M46","v":null},{"$f":"AA46/N46","v":null}]
[null,"Class H1",null,null,null,null,null,null,null,null,null,null,null,{"$f":"GEOMEAN(N3:N30)","v":null},{"$f":"GEOMEAN(O3:O30)","v":null},null,null,null,null,null,null,null,null,null,null,null,{"$f":"GEOMEAN(AA3:AA30)","v":null},{"$f":"GEOMEAN(AB3:AB30)","v":null},{"$f":"GEOMEAN(AC3:AC30)","v":null},{"$f":"GEOMEAN(AD3:AD30)","v":null},null,{"$f":"AVERAGE(AF3,AF7,AF11,AF15,AF19,AF23,AF27)","v":null},{"$f":"AVERAGE(AG3,AG7,AG11,AG15,AG19,AG23,AG27)","v":null},{"$f":"AVERAGE(AH3,AH7,AH11,AH15,AH19,AH23,AH27)","v":null},{"$f":"AVERAGE(AI3,AI7,AI11,AI15,AI19,AI23,AI27)","v":null},{"$f":"AVERAGE(AJ3,AJ7,AJ11,AJ15,AJ19,AJ23,AJ27)","v":null},{"$f":"AVERAGE(AK3,AK7,AK11,AK15,AK19,AK23,AK27)","v":null},{"$f":"AVERAGE(AL3,AL7,AL11,AL15,AL19,AL23,AL27)","v":null},{"$f":"AVERAGE(AM3,AM7,AM11,AM15,AM19,AM23,AM27)","v":null},{"$f":"AVERAGE(AN3,AN7,AN11,AN15,AN19,AN23,AN27)","v":null},{"$f":"AVERAGE(AN3,AO7,AO11,AO15,AO19,AO23,AO27)","v":null},{"$f":"AVERAGE(AP3,AP7,AP11,AP15,AP19,AP23,AP27)","v":null},{"$f":"AVERAGE(AQ3,AQ7,AQ11,AQ15,AQ19,AQ23,AQ27)","v":null},{"$f":"AVERAGE(AR3,AR7,AR11,AR15,AR19,AR23,AR27)","v":null},{"$f":"AVERAGE(AS3,AS7,AS11,AS15,AS19,AS23,AS27)","v":null},{"$f":"AVERAGE(AT3,AT7,AT11,AT15,AT19,AT23,AT27)","v":null},{"$f":"AVERAGE(AU3,AU7,AU11,AU15,AU19,AU23,AU27)","v":null}]
[null,"Class H2",null,null,null,null,null,null,null,null,null,null,null,{"$f":"GEOMEAN(N31:N46)","v":null},{"$f":"GEOMEAN(O31:O46)","v":null},null,null,null,null,null,null,null,null,null,null,null,{"$f":"GEOMEAN(AA31:AA46)","v":null},{"$f":"GEOMEAN(AB31:AB46)","v":null},{"$f":"GEOMEAN(AC31:AC46)","v":null},{"$f":"GEOMEAN(AD31:AD46)","v":null},null,null,null,null,null,null,{"$f":"AVERAGE(AK31,AK35,AK39,AK43)","v":null},{"$f":"AVERAGE(AL31,AL35,AL39,AL43)","v":null},{"$f":"AVERAGE(AM31,AM35,AM39,AM43)","v":null},null,null,null,null,null,{"$f":"AVERAGE(AS31,AS35,AS39,AS43)","v":null},{"$f":"AVERAGE(AT31,AT35,AT39,AT43)","v":null},{"$f":"AVERAGE(AU31,AU35,AU39,AU43)","v":null}]
[null,"All",null,null,null,null,null,null,null,null,null,null,null,{"$f":"GEOMEAN(N3:N46)","v":null},{"$f":"GEOMEAN(O3:O46)","v":null},null,null,null,null,null,null,null,null,null,null,null,{"$f":"GEOMEAN(AA3:AA46)","v":null},{"$f":"GEOMEAN(AB3:AB46)","v":null},{"$f":"GEOMEAN(AC3:AC46)","v":null},{"$f":"GEOMEAN(AD3:AD46)","v":null},null,{"$f":"AVERAGE(AF3,AF7,AF11,AF15,AF19,AF23,AF27)","v":null},{"$f":"AVERAGE(AG3,AG7,AG11,AG15,AG19,AG23,AG27)","v":null},{"$f":"AVERAGE(AH3,AH7,AH11,AH15,AH19,AH23,AH27)","v":null},{"$f":"AVERAGE(AI3,AI7,AI11,AI15,AI19,AI23,AI27)","v":null},{"$f":"AVERAGE(AJ3,AJ7,AJ11,AJ15,AJ19,AJ23,AJ27)","v":null},{"$f":"AVERAGE(AK3,AK7,AK11,AK15,AK19,AK23,AK27,AK31,AK35,AK39,AK43)","v":null},{"$f":"AVERAGE(AL3,AL7,AL11,AL15,AL19,AL23,AL27,AL31,AL35,AL39,AL43)","v":null},{"$f":"AVERAGE(AM3,AM7,AM11,AM15,AM19,AM23,AM27,AM31,AM35,AM39,AM43)","v":null},{"$f":"AVERAGE(AN3,AN7,AN11,AN15,AN19,AN23,AN27)","v":null},{"$f":"AVERAGE(AO3,AO7,AO11,AO15,AO19,AO23,AO27)","v":null},{"$f":"AVERAGE(AP3,AP7,AP11,AP15,AP19,AP23,AP27)","v":null},{"$f":"AVERAGE(AQ3,AQ7,AQ11,AQ15,AQ19,AQ23,AQ27)","v":null},{"$f":"AVERAGE(AR3,AR7,AR11,AR15,AR19,AR23,AR27)","v":null},{"$f":"AVERAGE(AS3:AS43)","v":null},{"$f":"AVERAGE(AT3:AT43)","v":null},{"$f":"AVERAGE(AU3:AU43)","v":null}]
[null,"Time geomean",null,null,null,null,null,null,null,null,null,null,null,{"$f":"GEOMEAN(N3:N46)","v":null},{"$f":"GEOMEAN(O3:O46)","v":null},null,null,null,null,null,null,null,null,null,null,null,{"$f":"GEOMEAN(AA3:AA46)","v":null},{"$f":"GEOMEAN(AB3:AB46)","v":null}]
[null,"Time ratio",null,null,null,null,null,null,null,null,null,null,null,null,null,null,null,null,null,null,null,null,null,null,null,null,{"$f":"AA50/N50","v":null},{"$f":"AB50/O50","v":null}]
[null,"Time sum (hours)",null,null,null,null,null,null,null,null,null,null,null,null,null,null,null,null,null,null,null,null,null,null,null,null,null,{"$f":"SUM(AB3:AB46)","v":null}]

{"sheet":"Reference","index":3,"n_rows":88,"n_cols":12,"rows_kept":88,"cut":false,"hidden":false,"merged":[]}
["Market.Q22.ai",13074.097,34.208,35.515,43.0808,48.7142,50.5381,43.9109,49.0033,50.6845,42811.03,23.34]
["Market.Q27.ai",7553.883,33.671,33.805,39.2482,47.962,50.1091,40.0042,48.265,50.2693,34415.68,19.43]
["Market.Q32.ai",3762.529,33.036,32.244,35.6776,47.1584,49.8342,36.3879,47.4974,50.0325,25469.71,14.9]
["Market.Q37.ai",1727.681,32.4,30.989,32.7447,46.9651,49.47,33.2758,47.3794,49.7151,16007.69,12.14]
["SunRise.Q22.ai",1275.407,35.551,36.869,45.4197,53.721,55.2632,45.8597,53.6811,55.3225,8700.98,5.25]
["SunRise.Q27.ai",685.152,35.269,36.234,43.6172,52.9324,54.8571,43.6033,52.9224,54.9483,4324.47,4.72]
["SunRise.Q32.ai",363.408,34.956,35.527,41.5617,52.0161,54.5654,41.3622,52.0869,54.7327,2609.41,4.25]
["SunRise.Q37.ai",186.75,34.574,34.723,39.3057,51.4865,54.0208,39.0407,51.7168,54.3095,1615.44,3.81]
["ShowGirl2.Q22.ai",1298.6477,37.46,40.996,47.0241,51.4814,52.9624,45.2806,49.8988,51.5219,13011.4,9.470000000000001]
["ShowGirl2.Q27.ai",801.6994,37.058,39.817,44.9474,50.8218,52.475,43.4547,49.3188,51.0881,7978.63,8.56]
["ShowGirl2.Q32.ai",492.9913,36.705,38.534,42.4691,50.4656,52.385,41.16,48.9864,51.0139,5671.4,7.42]
["ShowGirl2.Q37.ai",301.1924,36.225,37.166,39.724,50.0851,52.3337,38.5381,48.6523,51.0075,3794.6,7.08]
["BalloonFestival.Q22.ai",2636.7096,37.301,39.326,47.5949,48.6349,50.6719,47.2957,48.5576,50.5548,11903.55,10.06]
["BalloonFestival.Q27.ai",1728.8184,36.626,37.763,44.071,47.4775,50.0292,43.7589,47.414,49.9187,9795.25,8.970000000000001]
["BalloonFestival.Q32.ai",1134.9016,35.925,36.2,40.6374,46.3219,49.9149,40.3318,46.2881,49.8183,8118.54,7.15]
["BalloonFestival.Q37.ai",762.0992,35.141,34.622,37.2928,46.2122,49.2714,37.0001,46.2104,49.2189,6638.61,7.06]
["Hurdles.Q22.ai",6503.7151,35.513,35.943,44.5573,49.4968,50.8655,46.7276,51.3056,52.752,44242.93,21.95]
["Hurdles.Q27.ai",3186.727,34.993,34.404,41.2759,48.822,50.1912,43.524,50.6373,52.1133,29082.86,16.25]
["Hurdles.Q32.ai",1493.9762,34.509,33.181,38.6048,48.0634,49.6204,40.8527,49.9019,51.6142,15477.31,15.12]
["Hurdles.Q37.ai",919.8159000000001,34.078,32.351,36.7566,47.7005,48.6466,38.9002,49.5438,50.7043,10170.24,12.93]
["Starting.Q22.ai",4853.2667,34.988,38.121,47.0481,49.0621,50.0958,46.9835,49.2245,50.2045,28167.69,19.82]
["Starting.Q27.ai",3112.7921,34.591,36.776,43.964,48.2678,49.5263,44.0317,48.4932,49.6694,20824.07,17.06]
["Starting.Q32.ai",1958.8762,34.152,35.334,40.6397,47.4485,49.3249,40.8148,47.7325,49.5055,16381.91,13.55]
["Starting.Q37.ai",1181.669,33.614,33.837,37.265,47.2263,48.5133,37.5348,47.5708,48.853,11862.7,13.67]
["Cosmos1.Q22.ai",2985.5944,37.149,39.126,44.3372,47.8821,50.6929,42.1443,45.5167,48.1948,16031.18,9.35]
["Cosmos1.Q27.ai",1613.7392,36.309,37.853,40.8885,46.6425,50.0541,38.5581,44.3061,47.5779,11508.41,7.06]
["Cosmos1.Q32.ai",798.8584,35.491,36.53,37.7268,45.8542,49.5884,35.3634,43.48,47.0756,8243.18,5.87]
["Cosmos1.Q37.ai",417.5456,34.612,35.19,35.1255,45.1755,49.2859,32.8184,42.7722,46.7649,4942.59,4.82]
["DayStreet.Q22.ai",24125.9574,null,null,null,null,null,45.2525,46.7083,49.5607,84053.99000000001,41.94]
["DayStreet.Q27.ai",14367.3347,null,null,null,null,null,42.6766,44.8427,48.2693,55150.5,39.43]
["DayStreet.Q32.ai",8140.1495,null,null,null,null,null,39.7664,43.3722,47.0329,37035.27,34.01]
["DayStreet.Q37.ai",4416.2211,null,null,null,null,null,36.798,42.3101,45.9494,20688.08,27.82]
["FlyingBirds2.Q22.ai",18688.7305,null,null,null,null,null,46.1814,47.0083,49.2942,62397.81,34.21]
["FlyingBirds2.Q27.ai",11377.6263,null,null,null,null,null,43.6655,45.8905,48.463,38310.88,28.34]
["FlyingBirds2.Q32.ai",6658.4242,null,null,null,null,null,40.7808,45.0012,47.7109,24874.05,24.55]
["FlyingBirds2.Q37.ai",3624.3695,null,null,null,null,null,37.7229,44.2677,47.0034,11729.61,24.8]
["PeopleInShoppingCenter.Q22.ai",22863.3079,null,null,null,null,null,46.1228,46.738,48.1779,83496.03,47.76]
["PeopleInShoppingCenter.Q27.ai",14356.5837,null,null,null,null,null,43.6262,44.8492,46.0016,55601.47,40.45]
["PeopleInShoppingCenter.Q32.ai",8625.991599999999,null,null,null,null,null,40.6744,43.1806,44.1201,39843.9,37.15]
["PeopleInShoppingCenter.Q37.ai",5060.4805,null,null,null,null,null,37.569,41.8103,42.6229,21379.69,30.41]
["SunsetBeach2.Q22.ai",21129.2574,null,null,null,null,null,46.4351,45.4533,47.9634,62030.78,35.08]
["SunsetBeach2.Q27.ai",12238.3421,null,null,null,null,null,43.4519,44.139,46.427,39994.94,33.34]
["SunsetBeach2.Q32.ai",6768.5668,null,null,null,null,null,40.3864,42.96,45.4229,26443.86,24.8]
["SunsetBeach2.Q37.ai",3464.1711,null,null,null,null,null,37.3678,41.8748,44.6797,14797.34,21.76]
["Market.Q22.ra",6049.568,34.507,35.391,42.4666,49.5615,51.1803,43.1642,49.8297,51.3336,111350.64,51.59]
["Market.Q27.ra",2963.793,34.015,34.142,39.6022,48.8036,50.7503,40.0928,49.0962,50.9243,74551.81,42.99]
["Market.Q32.ra",1485.67,33.429,32.781,36.5918,47.9764,50.4321,37.0588,48.3051,50.6539,53797.51,34.88]
["Market.Q37.ra",694.522,32.78,31.474,33.6628,47.6117,49.9409,34.1309,47.9688,50.1539,39710.1,31.55]
["SunRise.Q22.ra",695.25,35.862,37.042,45.7042,54.6747,56.1563,46.2926,54.6955,56.2587,26258.4,16.16]
["SunRise.Q27.ra",337.208,35.598,36.519,44.2093,53.9916,55.7311,44.3274,54.007,55.8368,16268.04,13.06]
["SunRise.Q32.ra",177.429,35.285,35.912,42.497,53.071,55.3707,42.3733,53.1523,55.5414,10428.64,12.09]
["SunRise.Q37.ra",95.197,34.924,35.201,40.5186,52.4602,54.7398,40.3102,52.6185,54.9651,7779.81,11.18]
["ShowGirl2.Q22.ra",1788.1292,37.436,40.585,46.1197,51.434,53.2316,44.4581,49.8471,51.7796,113073.47,40.79]
["ShowGirl2.Q27.ra",862.3215,36.996,39.35,43.8159,50.8287,52.7523,42.3869,49.3276,51.3484,73473.27,32.42]
["ShowGirl2.Q32.ra",462.4602,36.64,38.101,41.3409,50.5742,52.7014,40.0804,49.1056,51.3168,49511.25,29.76]
["ShowGirl2.Q37.ra",249.5705,36.086,36.799,38.6985,50.108,52.4553,37.5786,48.6634,51.1001,32400.08,24.08]
["BalloonFestival.Q22.ra",3018.5136,37.423,38.814,45.5643,48.8264,51.0489,45.0418,48.7965,50.9268,63804.19,31.57]
["BalloonFestival.Q27.ra",1537.8872,36.808,37.535,42.3889,47.9054,50.4944,41.9416,47.8771,50.38,41829.38,24.47]
["BalloonFestival.Q32.ra",848.612,36.112,36.179,39.3182,46.8676,50.2669,38.9151,46.8511,50.1586,30054.59,21.83]
["BalloonFestival.Q37.ra",486.9648,35.309,34.773,36.3516,46.4614,49.3845,35.9767,46.4415,49.2962,21696.03,18.98]
["Hurdles.Q22.ra",5912.8824,35.485,35.774,43.9211,49.4514,50.3931,45.8789,51.159,52.2782,218581.39,69.01000000000001]
["Hurdles.Q27.ra",2749.396,35.061,34.47,41.0391,48.9069,49.8373,42.9902,50.6188,51.7404,148595.2,57.91]
["Hurdles.Q32.ra",1363.4432,34.58,33.227,38.3136,48.2088,49.3681,40.2422,49.9409,51.309,108153.97,50.44]
["Hurdles.Q37.ra",742.592,34.139,32.288,36.1095,47.9012,48.6065,37.9249,49.6382,50.5871,77573.67,47.86]
["Starting.Q22.ra",1978.012,35.318,38.243,46.9131,49.5818,50.6534,46.7382,49.7263,50.8861,81212.91,51.37]
["Starting.Q27.ra",1112.2264,34.96,37.178,44.5372,48.9262,50.0977,44.5825,49.1346,50.3898,55293.91,38.95]
["Starting.Q32.ra",673.9904,34.562,35.962,41.7641,48.1182,49.8083,41.9399,48.4056,50.1432,43432.13,34.99]
["Starting.Q37.ra",405.2288,34.057,34.597,38.6979,47.8067,49.0204,38.9541,48.1127,49.4019,34827.45,33.62]
["Cosmos1.Q22.ra",7428.6696,36.556,38.067,40.9587,46.7366,49.9779,38.6229,44.3625,47.4996,157800.01,41.99]
["Cosmos1.Q27.ra",2500.5872,35.596,36.674,37.8159,45.7561,49.4379,35.5189,43.3797,46.9624,94561.63,29.86]
["Cosmos1.Q32.ra",1019.7416,34.834,35.492,35.5354,45.3278,49.3365,33.3145,42.9264,46.8406,57402.22,23.05]
["Cosmos1.Q37.ra",427.7712,34.022,34.416,33.5307,44.4812,48.8155,31.3647,42.0528,46.3044,32508.24,18.08]
["DayStreet.Q22.ra",20394.9264,null,null,null,null,null,43.8062,46.8632,49.7327,502477.77,179.24]
["DayStreet.Q27.ra",7744.5632,null,null,null,null,null,41.6503,45.4054,48.6979,255515.24,138.26]
["DayStreet.Q32.ra",3601.568,null,null,null,null,null,39.3793,44.0629,47.6588,146109.06,94.95]
["DayStreet.Q37.ra",1749.3072,null,null,null,null,null,36.8884,42.8728,46.5605,96743.25999999999,82.55]
["FlyingBirds2.Q22.ra",15871.7632,null,null,null,null,null,44.7259,47.0947,49.5054,436334.89,146.41]
["FlyingBirds2.Q27.ra",6290.0912,null,null,null,null,null,42.7038,46.1744,48.7516,225988.22,119.48]
["FlyingBirds2.Q32.ra",3141.0128,null,null,null,null,null,40.4963,45.3365,48.0903,142667.35,98.13]
["FlyingBirds2.Q37.ra",1647.5696,null,null,null,null,null,37.9812,44.5331,47.362,88814.78,70.94]
["PeopleInShoppingCenter.Q22.ra",11601.7296,null,null,null,null,null,45.337,47.0192,48.9435,307384.35,141.26]
["PeopleInShoppingCenter.Q27.ra",5445.6912,null,null,null,null,null,43.3732,45.5881,47.0567,181169.32,108.97]
["PeopleInShoppingCenter.Q32.ra",2925.232,null,null,null,null,null,40.9653,44.1477,45.322,120170.95,80.61]
["PeopleInShoppingCenter.Q37.ra",1594.3552,null,null,null,null,null,38.2114,42.6221,43.5788,80631.35000000001,70.53]
["SunsetBeach2.Q22.ra",62068,null,null,null,null,null,43.5862,44.0863,46.7976,815731.97,193.02]
["SunsetBeach2.Q27.ra",26448.2352,null,null,null,null,null,39.9504,42.6955,45.6108,498640.59,148.27]
["SunsetBeach2.Q32.ra",11451.6784,null,null,null,null,null,36.8697,41.7019,44.8554,321218.03,121.2]
["SunsetBeach2.Q37.ra",4393.7216,null,null,null,null,null,34.1291,40.7551,44.2644,179224.22,104.05]

{"sheet":"Test","index":4,"n_rows":88,"n_cols":12,"rows_kept":88,"cut":false,"hidden":false,"merged":[]}
["Market.Q22.ai",13074.097,34.208,35.515,43.0808,48.7142,50.5381,43.9109,49.0033,50.6845,41922.61,22.73]
["Market.Q27.ai",7553.883,33.671,33.805,39.2482,47.962,50.1091,40.0042,48.265,50.2693,34360.74,18.91]
["Market.Q32.ai",3762.529,33.036,32.244,35.6776,47.1584,49.8342,36.3879,47.4974,50.0325,24903.4,15.12]
["Market.Q37.ai",1727.681,32.4,30.989,32.7447,46.9651,49.47,33.2758,47.3794,49.7151,15869.25,12.06]
["SunRise.Q22.ai",1275.407,35.551,36.869,45.4197,53.721,55.2632,45.8597,53.6811,55.3225,8541.74,5.86]
["SunRise.Q27.ai",685.152,35.269,36.234,43.6172,52.9324,54.8571,43.6033,52.9224,54.9483,4284.97,4.69]
["SunRise.Q32.ai",363.408,34.956,35.527,41.5617,52.0161,54.5654,41.3622,52.0869,54.7327,2567.38,4.22]
["SunRise.Q37.ai",186.75,34.574,34.723,39.3057,51.4865,54.0208,39.0407,51.7168,54.3095,1607.85,4.42]
["ShowGirl2.Q22.ai",1298.6477,37.46,40.996,47.0241,51.4814,52.9624,45.2806,49.8988,51.5219,12761.65,9.6]
["ShowGirl2.Q27.ai",801.6994,37.058,39.817,44.9474,50.8218,52.475,43.4547,49.3188,51.0881,7880.74,8.359999999999999]
["ShowGirl2.Q32.ai",492.9913,36.705,38.534,42.4691,50.4656,52.385,41.16,48.9864,51.0139,5580.23,7.37]
["ShowGirl2.Q37.ai",301.1924,36.225,37.166,39.724,50.0851,52.3337,38.5381,48.6523,51.0075,3743.33,6.68]
["BalloonFestival.Q22.ai",2636.7096,37.301,39.326,47.5949,48.6349,50.6719,47.2957,48.5576,50.5548,11770.94,10.33]
["BalloonFestival.Q27.ai",1728.8184,36.626,37.763,44.071,47.4775,50.0292,43.7589,47.414,49.9187,9569.389999999999,9]
["BalloonFestival.Q32.ai",1134.9016,35.925,36.2,40.6374,46.3219,49.9149,40.3318,46.2881,49.8183,8068.26,8.09]
["BalloonFestival.Q37.ai",762.0992,35.141,34.622,37.2928,46.2122,49.2714,37.0001,46.2104,49.2189,6563.51,7.01]
["Hurdles.Q22.ai",6503.7151,35.513,35.943,44.5573,49.4968,50.8655,46.7276,51.3056,52.752,43954.83,21.61]
["Hurdles.Q27.ai",3186.727,34.993,34.404,41.2759,48.822,50.1912,43.524,50.6373,52.1133,28799.76,17.98]
["Hurdles.Q32.ai",1493.9762,34.509,33.181,38.6048,48.0634,49.6204,40.8527,49.9019,51.6142,15344.57,15.26]
["Hurdles.Q37.ai",919.8159000000001,34.078,32.351,36.7566,47.7005,48.6466,38.9002,49.5438,50.7043,10077.01,13.03]
["Starting.Q22.ai",4853.2667,34.988,38.121,47.0481,49.0621,50.0958,46.9835,49.2245,50.2045,28183.28,20.3]
["Starting.Q27.ai",3112.7921,34.591,36.776,43.964,48.2678,49.5263,44.0317,48.4932,49.6694,20837.86,16.81]
["Starting.Q32.ai",1958.8762,34.152,35.334,40.6397,47.4485,49.3249,40.8148,47.7325,49.5055,16028.31,14.94]
["Starting.Q37.ai",1181.669,33.614,33.837,37.265,47.2263,48.5133,37.5348,47.5708,48.853,11782.36,13.57]
["Cosmos1.Q22.ai",2985.5944,37.149,39.126,44.3372,47.8821,50.6929,42.1443,45.5167,48.1948,15771.17,9.130000000000001]
["Cosmos1.Q27.ai",1613.7392,36.309,37.853,40.8885,46.6425,50.0541,38.5581,44.3061,47.5779,11655.16,7.14]
["Cosmos1.Q32.ai",798.8584,35.491,36.53,37.7268,45.8542,49.5884,35.3634,43.48,47.0756,8121.23,5.55]
["Cosmos1.Q37.ai",417.5456,34.612,35.19,35.1255,45.1755,49.2859,32.8184,42.7722,46.7649,4876.55,4.71]
["DayStreet.Q22.ai",24125.9574,null,null,null,null,null,45.2525,46.7083,49.5607,82280.02,49.3]
["DayStreet.Q27.ai",14367.3347,null,null,null,null,null,42.6766,44.8427,48.2693,54151.36,39.52]
["DayStreet.Q32.ai",8140.1495,null,null,null,null,null,39.7664,43.3722,47.0329,36756.4,33.28]
["DayStreet.Q37.ai",4416.2211,null,null,null,null,null,36.798,42.3101,45.9494,20588.61,27.35]
["FlyingBirds2.Q22.ai",18688.7305,null,null,null,null,null,46.1814,47.0083,49.2942,62857.03,34.58]
["FlyingBirds2.Q27.ai",11377.6263,null,null,null,null,null,43.6655,45.8905,48.463,37550.14,30.69]
["FlyingBirds2.Q32.ai",6658.4242,null,null,null,null,null,40.7808,45.0012,47.7109,24797.33,26.81]
["FlyingBirds2.Q37.ai",3624.3695,null,null,null,null,null,37.7229,44.2677,47.0034,11661.55,23.44]
["PeopleInShoppingCenter.Q22.ai",22863.3079,null,null,null,null,null,46.1228,46.738,48.1779,83715.61,51.94]
["PeopleInShoppingCenter.Q27.ai",14356.5837,null,null,null,null,null,43.6262,44.8492,46.0016,55489.82,43.76]
["PeopleInShoppingCenter.Q32.ai",8625.991599999999,null,null,null,null,null,40.6744,43.1806,44.1201,38954.13,37.82]
["PeopleInShoppingCenter.Q37.ai",5060.4805,null,null,null,null,null,37.569,41.8103,42.6229,21618.62,30.36]
["SunsetBeach2.Q22.ai",21129.2574,null,null,null,null,null,46.4351,45.4533,47.9634,62265.56,37.72]
["SunsetBeach2.Q27.ai",12238.3421,null,null,null,null,null,43.4519,44.139,46.427,39338.85,31.89]
["SunsetBeach2.Q32.ai",6768.5668,null,null,null,null,null,40.3864,42.96,45.4229,26335.02,27.64]
["SunsetBeach2.Q37.ai",3464.1711,null,null,null,null,null,37.3678,41.8748,44.6797,14667.22,23.75]
["Market.Q22.ra",6049.969,34.508,35.391,42.4662,49.5591,51.1833,43.163,49.8261,51.3353,110383.23,54.44]
["Market.Q27.ra",2964.131,34.014,34.143,39.6053,48.8026,50.7515,40.0963,49.0939,50.9237,73383.71000000001,42.85]
["Market.Q32.ra",1484.725,33.428,32.78,36.5901,47.9759,50.433,37.0574,48.304,50.6539,53753.64,37.33]
["Market.Q37.ra",694.397,32.78,31.474,33.6636,47.6125,49.9393,34.1313,47.9698,50.1532,39633.39,31.25]
["SunRise.Q22.ra",694.979,35.862,37.041,45.7029,54.675,56.1564,46.2907,54.6967,56.2584,26151.06,15.88]
["SunRise.Q27.ra",337.388,35.598,36.519,44.2106,53.9917,55.7275,44.329,54.0073,55.8326,16031.6,13.24]
["SunRise.Q32.ra",177.346,35.286,35.912,42.498,53.067,55.3698,42.3731,53.147,55.5402,10767.15,11.83]
["SunRise.Q37.ra",95.304,34.925,35.201,40.5178,52.4614,54.7409,40.309,52.6205,54.9673,7477.73,11.16]
["ShowGirl2.Q22.ra",1788.1292,37.436,40.585,46.1197,51.434,53.2316,44.4581,49.8471,51.7796,114912.56,41.32]
["ShowGirl2.Q27.ra",862.3805,36.994,39.352,43.8155,50.8261,52.7492,42.3859,49.326,51.344,72638.63,33.66]
["ShowGirl2.Q32.ra",461.9145,36.641,38.098,41.3362,50.5746,52.7026,40.0749,49.103,51.3168,49616.75,28.76]
["ShowGirl2.Q37.ra",249.4277,36.087,36.8,38.6988,50.1008,52.4561,37.5745,48.6571,51.0993,31666.59,25.06]
["BalloonFestival.Q22.ra",3018.5352,37.423,38.815,45.5648,48.8276,51.0452,45.0423,48.7976,50.9249,62830.31,33.15]
["BalloonFestival.Q27.ra",1536.8328,36.806,37.535,42.3882,47.9004,50.4876,41.9406,47.8725,50.3749,41579.05,27.44]
["BalloonFestival.Q32.ra",848.5472,36.112,36.179,39.3179,46.8617,50.2721,38.9139,46.8467,50.1655,29967.62,21.13]
["BalloonFestival.Q37.ra",486.4352,35.308,34.772,36.3482,46.4541,49.3859,35.9745,46.4335,49.2951,21676.47,19.13]
["Hurdles.Q22.ra",5912.0576,35.485,35.774,43.9197,49.4526,50.4002,45.8771,51.1601,52.2851,218694.43,76.48]
["Hurdles.Q27.ra",2749.2672,35.061,34.47,41.0403,48.9042,49.8366,42.9907,50.6146,51.74,146218.01,62.23]
["Hurdles.Q32.ra",1364.1608,34.58,33.228,38.3151,48.2074,49.3636,40.2429,49.9384,51.3032,106897.8,52.91]
["Hurdles.Q37.ra",742.6448,34.136,32.289,36.1113,47.8939,48.5992,37.9268,49.6318,50.581,76742.53999999999,46.33]
["Starting.Q22.ra",1977.8744,35.318,38.243,46.912,49.5815,50.6579,46.7376,49.7259,50.8889,80131.92999999999,50.15]
["Starting.Q27.ra",1111.6864,34.959,37.18,44.5372,48.9231,50.0989,44.5826,49.1326,50.3907,55487.89,40.06]
["Starting.Q32.ra",673.9632,34.562,35.961,41.7636,48.1155,49.8084,41.9395,48.4036,50.1458,43568.12,36.11]
["Starting.Q37.ra",405.2048,34.056,34.596,38.6952,47.8045,49.016,38.9511,48.1114,49.4005,34613.42,33.2]
["Cosmos1.Q22.ra",7428.6696,36.556,38.067,40.9587,46.7366,49.9779,38.6229,44.3625,47.4996,156702.64,45.71]
["Cosmos1.Q27.ra",2501.3648,35.597,36.675,37.8173,45.7568,49.4359,35.5207,43.3819,46.9622,93680.98,30.96]
["Cosmos1.Q32.ra",1019.7424,34.835,35.492,35.5351,45.3268,49.3315,33.314,42.9257,46.8364,57667.61,22.9]
["Cosmos1.Q37.ra",428.1744,34.023,34.417,33.5333,44.4861,48.8178,31.3667,42.0581,46.3075,32348.03,18.12]
["DayStreet.Q22.ra",20394.9264,null,null,null,null,null,43.8062,46.8632,49.7327,504982.88,178.84]
["DayStreet.Q27.ra",7744.5632,null,null,null,null,null,41.6503,45.4054,48.6979,257363.88,131.39]
["DayStreet.Q32.ra",3601.568,null,null,null,null,null,39.3793,44.0629,47.6588,153121.39,101.96]
["DayStreet.Q37.ra",1749.3072,null,null,null,null,null,36.8884,42.8728,46.5605,96422.10000000001,90.3]
["FlyingBirds2.Q22.ra",15871.7632,null,null,null,null,null,44.7259,47.0947,49.5054,437998.33,143.72]
["FlyingBirds2.Q27.ra",6290.0912,null,null,null,null,null,42.7038,46.1744,48.7516,228256.42,115.58]
["FlyingBirds2.Q32.ra",3141.0128,null,null,null,null,null,40.4963,45.3365,48.0903,143778.01,96.13]
["FlyingBirds2.Q37.ra",1647.5696,null,null,null,null,null,37.9812,44.5331,47.362,89640.52,75.41]
["PeopleInShoppingCenter.Q22.ra",11601.7296,null,null,null,null,null,45.337,47.0192,48.9435,307691.59,139.64]
["PeopleInShoppingCenter.Q27.ra",5445.6912,null,null,null,null,null,43.3732,45.5881,47.0567,180765.17,107.54]
["PeopleInShoppingCenter.Q32.ra",2925.232,null,null,null,null,null,40.9653,44.1477,45.322,119765.45,87.5]
["PeopleInShoppingCenter.Q37.ra",1594.3552,null,null,null,null,null,38.2114,42.6221,43.5788,81310.48,78.64]
["SunsetBeach2.Q22.ra",62068,null,null,null,null,null,43.5862,44.0863,46.7976,811483.64,202.03]
["SunsetBeach2.Q27.ra",26448.2352,null,null,null,null,null,39.9504,42.6955,45.6108,496713.58,151.98]
["SunsetBeach2.Q32.ra",11451.6784,null,null,null,null,null,36.8697,41.7019,44.8554,318216.78,122]
["SunsetBeach2.Q37.ra",4393.7216,null,null,null,null,null,34.1291,40.7551,44.2644,179749.1,103.93]